BEGIN:VCALENDAR
VERSION:2.0
PRODID:-//SCHEDULE - ECPv6.15.14//NONSGML v1.0//EN
CALSCALE:GREGORIAN
METHOD:PUBLISH
X-WR-CALNAME:SCHEDULE
X-ORIGINAL-URL:https://heavysick.co.jp/cp-bin/wordpress
X-WR-CALDESC:SCHEDULE のイベント
REFRESH-INTERVAL;VALUE=DURATION:PT1H
X-Robots-Tag:noindex
X-PUBLISHED-TTL:PT1H
BEGIN:VTIMEZONE
TZID:Asia/Tokyo
BEGIN:STANDARD
TZOFFSETFROM:+0900
TZOFFSETTO:+0900
TZNAME:JST
DTSTART:20240101T000000
END:STANDARD
END:VTIMEZONE
BEGIN:VEVENT
DTSTART;VALUE=DATE:20251221
DTEND;VALUE=DATE:20251223
DTSTAMP:20260422T091649
CREATED:20251004T044519Z
LAST-MODIFIED:20251209T132145Z
UID:5639-1766293200-1766379599@heavysick.co.jp
SUMMARY:Swingin' Jivin' special! "Swingin' CHRISTMAS PARTY"
DESCRIPTION:2025/12/21(日)\nSwingin’ Jivin’\n“Swingin’ Christmas Speacial“\n@Club Heavy Sick\n<LIVE >\nShinji Tamura Trio\n<Champagne servis>\nMr.champagne\n<DJ>\nTatarin\nMasaru Honma\nMasami Watanabe\n(the fascinations)\n<Dance Work Shop>\nELOVIS SATO\n〈Crew〉\nHiromi\n〈OPEN〉18:30\n〈Door〉1\,500yen + 1Drink\n◆CLUB HEAVY SICK◆\nB1 2-27-4 Nishihara\nShibuya-ku Tokyo\n03-3466-1445\nclub@heavysick.co.jp \n  \n 
URL:https://heavysick.co.jp/cp-bin/wordpress/events/tba-102/
ATTACH;FMTTYPE=image/jpeg:https://heavysick.co.jp/cp-bin/wordpress/wp-content/uploads/2025/10/1221.jpg
END:VEVENT
BEGIN:VEVENT
DTSTART;VALUE=DATE:20251222
DTEND;VALUE=DATE:20251224
DTSTAMP:20260422T091649
CREATED:20251113T132309Z
LAST-MODIFIED:20251121T121433Z
UID:5726-1766379600-1766465999@heavysick.co.jp
SUMMARY:JamMayhem x 絆創攻
DESCRIPTION:2022年東京にて結成された若き2バンド JamMayhemと絆創攻の2マンライブが決定！ \nPLASTICZOOMSのShoも推すグラマラスでハードなロックンロールバンドJamMayhemのラブコールを受ける形で、怒髪天の増子直純も太鼓判を押すパンクバンド絆創攻の2マンライブがclub HEAVY SICKで開催されることが決定した。 \n12月22日（月） 幡ヶ谷 club HEAVY SICK \nJamMayhem\n絆創攻 \nOpen 19:30\nStart 20:00\nadv ¥2\,600 + 1drink\ndoor ¥3\,000+1drink \nご予約は club@heavysick.co.jp または出演者まで
URL:https://heavysick.co.jp/cp-bin/wordpress/events/tba-108/
ATTACH;FMTTYPE=image/jpeg:https://heavysick.co.jp/cp-bin/wordpress/wp-content/uploads/2025/11/1222.jpg
END:VEVENT
BEGIN:VEVENT
DTSTART;VALUE=DATE:20251223
DTEND;VALUE=DATE:20251225
DTSTAMP:20260422T091649
CREATED:20251129T133808Z
LAST-MODIFIED:20251212T114205Z
UID:5793-1766466000-1766552399@heavysick.co.jp
SUMMARY:高千穂大学軽音楽部 presents クリスマスライブ
DESCRIPTION:2025年12月23日(火)\n高千穂大学軽音楽研究会presents…「クリスマスライブ🎄🎁」\n【 開場15:30／開演 16:00 】\n【終演予定時刻 20:30】\nチケット料金¥0、入場の際は１ドリンクオーダー(¥600)をお願いしております。\nそして･･･ 誰でも参加自由のプレゼント交換会も行います♪ 参加条件は、500円のプレゼントを用意して持ってくるだけ！良いお年を！ \n  \n 
URL:https://heavysick.co.jp/cp-bin/wordpress/events/tba-106/
ATTACH;FMTTYPE=image/jpeg:https://heavysick.co.jp/cp-bin/wordpress/wp-content/uploads/2025/11/1223.jpeg
END:VEVENT
BEGIN:VEVENT
DTSTART;VALUE=DATE:20251225
DTEND;VALUE=DATE:20251227
DTSTAMP:20260422T091649
CREATED:20251004T041947Z
LAST-MODIFIED:20251004T041947Z
UID:5637-1766638800-1766725199@heavysick.co.jp
SUMMARY:PRIVATE PARTY
DESCRIPTION:
URL:https://heavysick.co.jp/cp-bin/wordpress/events/private-party-2/
END:VEVENT
BEGIN:VEVENT
DTSTART;VALUE=DATE:20251226
DTEND;VALUE=DATE:20251228
DTSTAMP:20260422T091649
CREATED:20251219T133245Z
LAST-MODIFIED:20251219T133245Z
UID:5921-1766725200-1766811599@heavysick.co.jp
SUMMARY:After Χ'mas〜ひとりpowerful drive〜
DESCRIPTION:2025.12.26(金)　club HEAVY SICK\n『After Χ’mas〜ひとりpowerful drive〜』\nトーク&DJライブ\n1部\n13:45開場／14:00開演\n2部\n17:45開場／18:00開演 \n席種：自由\n4\,000円（+1D別途600円） \nポコチャ前売りチケットの方から先行入場となります。\nライブ時間は1時間30分前後を予定しています。\nその後にお見送り、グッズ販売がございます。\nライブ会場に入られてからの写真撮影は禁止となります。\n椅子の移動、お連れ様の席の確保はご遠慮下さい。
URL:https://heavysick.co.jp/cp-bin/wordpress/events/after-%cf%87mas%e3%80%9c%e3%81%b2%e3%81%a8%e3%82%8apowerful-drive%e3%80%9c/
ATTACH;FMTTYPE=image/jpeg:https://heavysick.co.jp/cp-bin/wordpress/wp-content/uploads/2025/12/1226.jpg
END:VEVENT
BEGIN:VEVENT
DTSTART;VALUE=DATE:20251227
DTEND;VALUE=DATE:20251229
DTSTAMP:20260422T091649
CREATED:20251113T143303Z
LAST-MODIFIED:20251115T140634Z
UID:5728-1766811600-1766897999@heavysick.co.jp
SUMMARY:グレマンカオルプレゼンツ Chunkey Time Vol.12 Goodbye 2025! / Hello 2026!
DESCRIPTION:  \nグレマンカオルプレゼンツ\nChunkey Time Vol.12\nGoodbye 2025! / Hello 2026! \nCLUB HEAVY SICK(Hatagaya\,TOKYO)\n・2025年12月27日(土)\n・OPEN:17:00\n・前売り2400円＋1D 当日3000円＋1D \n[LIVE]\n・Chunkey Times\n・DIDBURNS\n・THE PRINGLES\n・K. SHARPS BAND\n・BAITONES(神戸) \n[DJ]\n・Beny JP(Wacky Date)\n・Billy Trash(Edwoods)\n・Akita Slim(Long Tall Records)\n・Daddy-O-Nov(BFTG) \n[SHOP]\n・SEXPLOSION (for WANKERS!)
URL:https://heavysick.co.jp/cp-bin/wordpress/events/%e3%82%b0%e3%83%ac%e3%83%9e%e3%83%b3%e3%82%ab%e3%82%aa%e3%83%ab%e3%83%97%e3%83%ac%e3%82%bc%e3%83%b3%e3%83%84-chunkey-time-vol-12-goodbye-2025-hello-2026/
ATTACH;FMTTYPE=image/jpeg:https://heavysick.co.jp/cp-bin/wordpress/wp-content/uploads/2025/11/1227.jpg
END:VEVENT
BEGIN:VEVENT
DTSTART;VALUE=DATE:20251228
DTEND;VALUE=DATE:20251230
DTSTAMP:20260422T091649
CREATED:20251016T091856Z
LAST-MODIFIED:20251113T111741Z
UID:5664-1766898000-1766984399@heavysick.co.jp
SUMMARY:OUTSIDE SOUL Vol.23
DESCRIPTION:12月28日(日)\n幡ヶ谷 CLUB HEAVY SICK\n「OUTSIDE SOUL Vol.23」\nOPEN17:30/START18:00\nCHARGE¥2500(+1D)\n《BAND》\nマンホール\nTalent Show\nANGEL FACE\nWinstones\nBALLADMEN\n《DJ》\nHAJIMECHAN(mule team)\nAkita Slim(Long Tall Records)
URL:https://heavysick.co.jp/cp-bin/wordpress/events/outside-soul-vol-23/
ATTACH;FMTTYPE=image/jpeg:https://heavysick.co.jp/cp-bin/wordpress/wp-content/uploads/2025/10/1228.jpg
END:VEVENT
BEGIN:VEVENT
DTSTART;VALUE=DATE:20251229
DTEND;VALUE=DATE:20251231
DTSTAMP:20260422T091649
CREATED:20251207T142048Z
LAST-MODIFIED:20251212T132343Z
UID:5862-1766984400-1767070799@heavysick.co.jp
SUMMARY:A Day In MoDernists
DESCRIPTION:12月29日（月） club Heavy Sick \n“A Day In MoDernists” \nOpen & Start 17:00〜23:00\n¥400 + 1drink \nDJs \n・薔薇卍\n・ウッチー\n・Nitta\n・Maru（Modern Records）\n・Suzu (The Highmarts)\n・Chiggy\n・Carole ai❣\n・mint\n・HDK\n・ぱっち\n・meppo\n・MAGAR
URL:https://heavysick.co.jp/cp-bin/wordpress/events/a-day-in-modernists/
ATTACH;FMTTYPE=image/jpeg:https://heavysick.co.jp/cp-bin/wordpress/wp-content/uploads/2025/12/1229.jpg
END:VEVENT
BEGIN:VEVENT
DTSTART;VALUE=DATE:20260108
DTEND;VALUE=DATE:20260110
DTSTAMP:20260422T091649
CREATED:20251212T141648Z
LAST-MODIFIED:20251225T123821Z
UID:5876-1767848400-1767934799@heavysick.co.jp
SUMMARY:JIVERS✴︎STOMP ROCKIN' RECORD HOP Vo'45
DESCRIPTION:JIVERS✴︎STOMP ROCKIN’ RECORD HOP Vo’45Thu. 8 th. Jan. 2026.18:30〜22:30@Club Heavy Sick 　(Dance-O-Rama) ¥1\,000+1dr　Soyo&Ranmaru Happy Wedding【JIVERS✴︎STOMP DJ】KEN(BEAT✴︎GENERATION)TAMAE(ponytailz)Simon(man Japan clothing)KANATA(JIVERS✴︎STOMP)【Guest DJ】Eric （from France !!!!）Shoutarou 【Shop】Lovy Light✴︎https://lovylight.base.shop/【Beginners Dance Lesson】18:30~19:00 20:20〜20:50 【Special Live】High Dramatics !!【Crew】 SoyoHiromi\,OKANATAKayomi2025年\,一年間を振り返り\,笑いも泣きも多くありJIVERS✴︎STOMPにとっても激動な一年でした。そして年が変わり2026年\,新たに年も移り一年の始まりです!! そんな新年早々におめでたい発表がございます JIVERS✴︎STOMPの立ち上げ当初からCrewでもあるSoyoが入籍し結婚しましたそこで一月はSoyoと旦那様のRanmaru君のHappy Wedding PartyをJIVERS✴︎STOMPでやっちゃいます更にFranceから、人気DJ Ericがお祝いに駆けつけるべく2度目の来日を果たそうとしていますBig thanks!!!更に更に、Soyoにとって馴染みのある方々にもお声掛けさせて頂きGuest DJにShoutarouSpecial LiveにHigh Dramatics !!が友情出演で駆け付けてくれます。JIVERS✴︎STOMP LEGULAR SHOPのLovy Light✴︎も元気に出店します先日火災に見舞われ被災されたツバサも先の見通しの目処も立ち、1月のJIVERS✴︎STOMPには顔を見せてくれるそうです実はツバサも一月が誕生日なんですよ〜皆さんお祝いのお言葉も掛けてあげて下さい一月早々おめでたラッシュなJIVERS✴︎STOMPです。2026年は皆様と共にHappy続きな良い年になります様に願っていますので本年もどうぞ宜しくお願い致します
URL:https://heavysick.co.jp/cp-bin/wordpress/events/jivers%e2%9c%b4%ef%b8%8estomp-vo45/
ATTACH;FMTTYPE=image/jpeg:https://heavysick.co.jp/cp-bin/wordpress/wp-content/uploads/2025/12/0108.jpg
END:VEVENT
BEGIN:VEVENT
DTSTART;VALUE=DATE:20260109
DTEND;VALUE=DATE:20260111
DTSTAMP:20260422T091649
CREATED:20251225T101111Z
LAST-MODIFIED:20251225T123638Z
UID:5938-1767934800-1768021199@heavysick.co.jp
SUMMARY:CRAZY RANDOMS Presents: Psycho Punk Girl Rock
DESCRIPTION:1/9(金）@ 幡ヶ谷CLUB HEAVY SICK\n【CRAZY RANDOMS Presents: Psycho Punk Girl Rock】 \nOPEN/START 19:30\nENTRANCE：1\,500¥+1 DRINK \n[LIVE]\nTHE JUNGLES!!!\nVILLAINZ \n[DJ’s]\nRumi (Grist)\nMirella\nMary Scream
URL:https://heavysick.co.jp/cp-bin/wordpress/events/crazy-randoms-presents-psycho-punk-girl-rock/
ATTACH;FMTTYPE=image/jpeg:https://heavysick.co.jp/cp-bin/wordpress/wp-content/uploads/2025/12/0109.jpg
END:VEVENT
BEGIN:VEVENT
DTSTART;VALUE=DATE:20260110
DTEND;VALUE=DATE:20260112
DTSTAMP:20260422T091649
CREATED:20251102T111759Z
LAST-MODIFIED:20251102T111759Z
UID:5692-1768021200-1768107599@heavysick.co.jp
SUMMARY:「Long Time…NO Gig」 III THE COKES PRESENTS
DESCRIPTION:2026年1月10日(SAT)\n幡ヶ谷Club Heavy Sick \n「Long Time…NO Gig」 III\nTHE COKES PRESENTS \nOPEN 18:30/START19:00\nADV¥2500+drink/DOOR¥3000+drink \n出演:The Cokes/Bites\n/The Stand By Me/the Weekpoints \nBGM: TAMLA/Hiroshi
URL:https://heavysick.co.jp/cp-bin/wordpress/events/%e3%80%8clong-timeno-gig%e3%80%8d-iii-the-cokes-presents-2/
ATTACH;FMTTYPE=image/jpeg:https://heavysick.co.jp/cp-bin/wordpress/wp-content/uploads/2025/11/0110.jpg
END:VEVENT
BEGIN:VEVENT
DTSTART;VALUE=DATE:20260111
DTEND;VALUE=DATE:20260113
DTSTAMP:20260422T091649
CREATED:20251127T082402Z
LAST-MODIFIED:20251127T082421Z
UID:5763-1768107600-1768193999@heavysick.co.jp
SUMMARY:Sick Live -DUB & PSYCHOBILLY-
DESCRIPTION:1月11日（日） club HEAVY SiCK \nSick Live -DUB & PSYCHOBILLY- \nHi-Nomady\nTHE PSYCLOCKS\nTHE REDEMPTION\nSUPER CLASS\nTOTAL PONKOTSU SYSTEM\n蜂と瓜 \nDJ\nKO-TA-RAW (CLUB SKA/UP&UP)\nTaka\nTAKAKO-I(黒糖ROCKERS) \nOpen 17:00 Start 17:30\nAdv ¥2\,600 +1d Door ¥3\,000 + 1d
URL:https://heavysick.co.jp/cp-bin/wordpress/events/sick-live-dub-psychobilly-2/
ATTACH;FMTTYPE=image/jpeg:https://heavysick.co.jp/cp-bin/wordpress/wp-content/uploads/2025/11/0111.jpg
END:VEVENT
BEGIN:VEVENT
DTSTART;VALUE=DATE:20260112
DTEND;VALUE=DATE:20260114
DTSTAMP:20260422T091649
CREATED:20251129T134311Z
LAST-MODIFIED:20251223T054513Z
UID:5795-1768194000-1768280399@heavysick.co.jp
SUMMARY:暴創都市
DESCRIPTION:ロックとパンクの未来を背負う2バンド暴動クラブと絆創攻の2マンライブが決定！\nもはや若手という説明は不必要な日本を代表し、現代を代表するロックバンド 暴動クラブと怒髪天の増子直純も太鼓判を押すパンクバンド絆創攻の2マンライブがclub HEAVY SICKで開催されることが決定した。 \n2026年1月12日 （祝） club HEAVY SiCK\n“暴創都市” \n暴動クラブ、絆創攻 2マンライブ \n出演\n暴動クラブ\n絆創攻 \nOpen 18:00\nStart 18:30 \nADV ¥3\,000 +1drink\nDOOR ¥3\,500 +1drink \n20歳以下 （身分証確認あり）\nADV ¥2\,400+1drink \n前売り予約は club@heavysick.co.jp または 各出演者まで。
URL:https://heavysick.co.jp/cp-bin/wordpress/events/tba-111/
ATTACH;FMTTYPE=image/jpeg:https://heavysick.co.jp/cp-bin/wordpress/wp-content/uploads/2025/11/B0112-scaled.jpg
END:VEVENT
BEGIN:VEVENT
DTSTART;VALUE=DATE:20260116
DTEND;VALUE=DATE:20260118
DTSTAMP:20260422T091649
CREATED:20251129T134345Z
LAST-MODIFIED:20251205T122842Z
UID:5799-1768539600-1768625999@heavysick.co.jp
SUMMARY:NIGHT AT THE HOP
DESCRIPTION:2026年 1月16日（金） club HEAVY SICK \nNIGHT AT THE HOP \nDJs\nYOSSY (NEVERTRUST)\nKAMIHIRO （AGGRO TOYS)\nROB69 (THE 69YOBSTERS)\nヨカローモン （ガリリン會）\nNAO NAO (EUS REGINAS)\n2÷3=5 (EUS REGINAS) \nStart 18:30\n¥1\,000 + 1drink
URL:https://heavysick.co.jp/cp-bin/wordpress/events/tba-115/
ATTACH;FMTTYPE=image/jpeg:https://heavysick.co.jp/cp-bin/wordpress/wp-content/uploads/2025/11/0116.jpg
END:VEVENT
BEGIN:VEVENT
DTSTART;VALUE=DATE:20260117
DTEND;VALUE=DATE:20260119
DTSTAMP:20260422T091649
CREATED:20251122T141204Z
LAST-MODIFIED:20251122T141204Z
UID:5748-1768626000-1768712399@heavysick.co.jp
SUMMARY:Heavy Sick Strange Carnival
DESCRIPTION:2026年1月17日（土） club HEAVY SICK\n“Heavy Sick Strange Carnival”\nkito-mizukumi rouber\nkyo & ko2rock with ルイス稲毛\nvelvetsound\nTeenage Slang Session\nOpen 18:00 Start 18:30\nADV ¥2\,700 Door ·3.000 +1drink
URL:https://heavysick.co.jp/cp-bin/wordpress/events/heavy-sick-strange-carnival-2/
ATTACH;FMTTYPE=image/jpeg:https://heavysick.co.jp/cp-bin/wordpress/wp-content/uploads/2025/11/0117.jpg
END:VEVENT
BEGIN:VEVENT
DTSTART;VALUE=DATE:20260118
DTEND;VALUE=DATE:20260120
DTSTAMP:20260422T091649
CREATED:20251129T134548Z
LAST-MODIFIED:20251129T134548Z
UID:5804-1768712400-1768798799@heavysick.co.jp
SUMMARY:ROCK'N'ROLL ANIMAL
DESCRIPTION:  \n1月18日（土） \nROCK’N’ROLL ANIMAL \nthe FUTURE\nSISTER PAUL\nThee Blackdoor Blues\nTWINKLOOP \nADV ¥2\,600+1drink\nDOOR ¥3\,000+1drink
URL:https://heavysick.co.jp/cp-bin/wordpress/events/rocknroll-animal-2/
ATTACH;FMTTYPE=image/jpeg:https://heavysick.co.jp/cp-bin/wordpress/wp-content/uploads/2025/11/0118.jpg
END:VEVENT
BEGIN:VEVENT
DTSTART;VALUE=DATE:20260122
DTEND;VALUE=DATE:20260124
DTSTAMP:20260422T091649
CREATED:20251205T135832Z
LAST-MODIFIED:20260116T111211Z
UID:5830-1769058000-1769144399@heavysick.co.jp
SUMMARY:Swingin' Jivin'
DESCRIPTION:2026/1/22(木)\nSwingin’ Jivin’\nat Club Heavy Sick \n〜Happy New year Party〜 \n〈Gusut Live 〉\nTiny Song Show \n〈DJ〉\nTatarin\nMasaru Honma\nMasami Watanabe\n(the fascinations) \n〈Dance Work Shop〉\nELOVIS SATO \n〈Crew〉\nHiromi \n〈OPEN〉19:00\n〈Door〉1\,000yen + 1Drink
URL:https://heavysick.co.jp/cp-bin/wordpress/events/swingin-jivin-12/
ATTACH;FMTTYPE=image/jpeg:https://heavysick.co.jp/cp-bin/wordpress/wp-content/uploads/2025/12/0122.jpg
END:VEVENT
BEGIN:VEVENT
DTSTART;VALUE=DATE:20260123
DTEND;VALUE=DATE:20260125
DTSTAMP:20260422T091649
CREATED:20251129T134715Z
LAST-MODIFIED:20260106T055558Z
UID:5806-1769144400-1769230799@heavysick.co.jp
SUMMARY:SLACK OFF! presents
DESCRIPTION:SLACK OFF! presents \nNUMBERTWO\nSTAIRS\nTHE COMMON \nDJ SHEENA \nFriday 1/23\nat Club Heavy Sick\nOpen 19:45\nStart 20:00\n¥2400 Door (+1 drink)
URL:https://heavysick.co.jp/cp-bin/wordpress/events/tba-118/
ATTACH;FMTTYPE=image/jpeg:https://heavysick.co.jp/cp-bin/wordpress/wp-content/uploads/2025/11/0123.jpg
END:VEVENT
BEGIN:VEVENT
DTSTART;VALUE=DATE:20260124
DTEND;VALUE=DATE:20260126
DTSTAMP:20260422T091649
CREATED:20251129T134759Z
LAST-MODIFIED:20251214T095039Z
UID:5808-1769230800-1769317199@heavysick.co.jp
SUMMARY:Worse And Worse 2026 ♪New Year Wrecking♪
DESCRIPTION:Worse And Worse 2026\n♪New Year Wrecking♪ \n2026 1 /24(sat)\n@CLUB HEAVY SICK\nOPEN 17:00/START 17:30\nadv ¥3000(+1d)/at door ¥3500(+1d) \n♪LIVE♪\nCHICKEN JUMP SKIPS\nTHE PSYCLOCKS\nStompin’ Riff Raffs\nHYDRO STOMPERS\nBird Diner\nTHE NUTBURGERS \n♪DeeJay♪\nSHIDARUMBLE
URL:https://heavysick.co.jp/cp-bin/wordpress/events/tba-119/
ATTACH;FMTTYPE=image/jpeg:https://heavysick.co.jp/cp-bin/wordpress/wp-content/uploads/2025/11/0124.jpeg
END:VEVENT
BEGIN:VEVENT
DTSTART;VALUE=DATE:20260125
DTEND;VALUE=DATE:20260127
DTSTAMP:20260422T091649
CREATED:20251129T134833Z
LAST-MODIFIED:20251205T134037Z
UID:5810-1769317200-1769403599@heavysick.co.jp
SUMMARY:HEAVY SiCK STRANGE CARNIVAL
DESCRIPTION:1月25日（日） club HEAVY SiCK\nHEAVY SiCK STRANGE CARNIVAL\nCABARETS\nHi-Nomady\nPEPPERMINT STARS\nVAMPIRE BATS\nDJ\nIkb skate Psychos (D.T.F.S. Records)\nRobinson\nOpen 18:00\nStart 18:30
URL:https://heavysick.co.jp/cp-bin/wordpress/events/tba-123/
ATTACH;FMTTYPE=image/jpeg:https://heavysick.co.jp/cp-bin/wordpress/wp-content/uploads/2025/11/0125.jpg
END:VEVENT
BEGIN:VEVENT
DTSTART;VALUE=DATE:20260130
DTEND;VALUE=DATE:20260201
DTSTAMP:20260422T091649
CREATED:20251206T105025Z
LAST-MODIFIED:20251214T112225Z
UID:5843-1769749200-1769835599@heavysick.co.jp
SUMMARY:延原達治（THE PRIVATES） 弾き語りライヴ
DESCRIPTION:2026年1月30日（金） \n延原達治（THE PRIVATES） 弾き語りライヴ \nOpen 19:30\nStart 20:00\nADV ¥3\,500 + 1drink\nDOOR ¥4\,000 + 1drink \nチケット予約は\nclub@heavysick.co.jp \nまたは下記の予約フォームまで\nhttps://forms.gle/RzsHffpkpZ2QHMzX8
URL:https://heavysick.co.jp/cp-bin/wordpress/events/%e5%bb%b6%e5%8e%9f%e9%81%94%e6%b2%bb%ef%bc%88the-privates%ef%bc%89-%e5%bc%be%e3%81%8d%e8%aa%9e%e3%82%8a%e3%83%a9%e3%82%a4%e3%83%b4/
ATTACH;FMTTYPE=image/jpeg:https://heavysick.co.jp/cp-bin/wordpress/wp-content/uploads/2025/12/0130.jpeg
END:VEVENT
BEGIN:VEVENT
DTSTART;VALUE=DATE:20260131
DTEND;VALUE=DATE:20260202
DTSTAMP:20260422T091650
CREATED:20250925T123641Z
LAST-MODIFIED:20250925T123641Z
UID:5615-1769835600-1769921999@heavysick.co.jp
SUMMARY:the SUN presents 1989 Release live
DESCRIPTION:2026年1月31日（土） \nthe SUN presents 1989 Release live \nGC4\nGLITTERFAST\nTHE BROKEN HEARTS\nthe SUN\nDJ TCO\n前売2500円　当日3000円+1Drink\nOpen18:00 Start 18:30
URL:https://heavysick.co.jp/cp-bin/wordpress/events/the-sun-presents-1989-release-live/
ATTACH;FMTTYPE=image/jpeg:https://heavysick.co.jp/cp-bin/wordpress/wp-content/uploads/2025/09/0131.jpg
END:VEVENT
BEGIN:VEVENT
DTSTART;VALUE=DATE:20260201
DTEND;VALUE=DATE:20260203
DTSTAMP:20260422T091650
CREATED:20251223T125331Z
LAST-MODIFIED:20251223T125331Z
UID:5934-1769922000-1770008399@heavysick.co.jp
SUMMARY:Sick City vol. 3
DESCRIPTION:Sick City vol. 3\nSun. Feb. 1\, 2026\nClub Heavy Sick 幡ヶ谷 \nDoors 17:30\nStart 18:00\nAdv ¥2500 / Door ¥3000 (+1 drink) \nWith:\nFVRMN\nWipeouters99\n20000 Leagues\nThe Choppy Railers\nThe Harpy’s\nLittle Radios \nDJs: \nDJ Hiro\nDJ Kato
URL:https://heavysick.co.jp/cp-bin/wordpress/events/sick-city-vol-3/
ATTACH;FMTTYPE=image/jpeg:https://heavysick.co.jp/cp-bin/wordpress/wp-content/uploads/2025/12/0201.jpg
END:VEVENT
BEGIN:VEVENT
DTSTART;VALUE=DATE:20260206
DTEND;VALUE=DATE:20260208
DTSTAMP:20260422T091650
CREATED:20251214T134305Z
LAST-MODIFIED:20251219T140149Z
UID:5888-1770354000-1770440399@heavysick.co.jp
SUMMARY:Aya Bar
DESCRIPTION:2026年2月6日（金） club Heavy Sick\n“Aya Bar” \nBarmaid\nAya Mermaid \nOpen 18:30-22:30 \ncharge ¥1\,000 (inc. 1drink) \nAya Mermaidが 一日バーテンダーを勤めるバー営業です
URL:https://heavysick.co.jp/cp-bin/wordpress/events/tba-131/
ATTACH;FMTTYPE=image/jpeg:https://heavysick.co.jp/cp-bin/wordpress/wp-content/uploads/2025/12/0206.jpg
END:VEVENT
BEGIN:VEVENT
DTSTART;VALUE=DATE:20260207
DTEND;VALUE=DATE:20260209
DTSTAMP:20260422T091650
CREATED:20251226T125905Z
LAST-MODIFIED:20251226T125905Z
UID:5950-1770440400-1770526799@heavysick.co.jp
SUMMARY:Date With The Cramps
DESCRIPTION:Date With The Cramps \n2026 Feb / 7th\nAt Hatagaya Club Heavy Sick\nOpen/Start 17:00\nAdv 2\,800yen / Door 3\,200yen \n・Band\nEd Woods\nThe Radios (Asahi)\nDildos (Hamamatsu)\nThe Fadeaways\nGastones (Kofu)\nMitchy Dead\nRey Kobra One Snake Band (Mexico) \n・DJ\nDaddy-O-Nov (Back From The Grave Returns)\nSuga-Jun (Soundflat Records Japan)\n荒零a.k.a血まみれビートルズ\nIkb Skate Psychos (D.T.F.S!!! Records)
URL:https://heavysick.co.jp/cp-bin/wordpress/events/date-with-the-cramps/
ATTACH;FMTTYPE=image/jpeg:https://heavysick.co.jp/cp-bin/wordpress/wp-content/uploads/2025/12/0207.jpg
END:VEVENT
BEGIN:VEVENT
DTSTART;VALUE=DATE:20260208
DTEND;VALUE=DATE:20260210
DTSTAMP:20260422T091650
CREATED:20251214T134851Z
LAST-MODIFIED:20260118T104825Z
UID:5893-1770526800-1770613199@heavysick.co.jp
SUMMARY:Driftin'
DESCRIPTION:Driftin’ \n2026 　2/8(sun)\nOPEN 18:30/START 19:00\nadv ¥2500(+1d)/at door ¥3000(+1d) \n♪LIVE♪\nチーム☆ギラギラ\nBINGO\n花団ズ \n♪DeeJay♪\nSHIDARUMBLE
URL:https://heavysick.co.jp/cp-bin/wordpress/events/tba-133/
ATTACH;FMTTYPE=image/jpeg:https://heavysick.co.jp/cp-bin/wordpress/wp-content/uploads/2025/12/0208.jpeg
END:VEVENT
BEGIN:VEVENT
DTSTART;VALUE=DATE:20260209
DTEND;VALUE=DATE:20260211
DTSTAMP:20260422T091650
CREATED:20251214T134916Z
LAST-MODIFIED:20260206T110348Z
UID:5895-1770613200-1770699599@heavysick.co.jp
SUMMARY:月曜からたやすし
DESCRIPTION:2026年2月9日（月） 幡ヶ谷 club HEAVY SICK\n月曜からたやすし\nOpen & Start19:00\n¥1000円＋1ドリンク\n（＊ただタヤスと呑むだけの会デス）
URL:https://heavysick.co.jp/cp-bin/wordpress/events/tba-134/
ATTACH;FMTTYPE=image/jpeg:https://heavysick.co.jp/cp-bin/wordpress/wp-content/uploads/2025/12/0209.jpg
END:VEVENT
BEGIN:VEVENT
DTSTART;VALUE=DATE:20260211
DTEND;VALUE=DATE:20260213
DTSTAMP:20260422T091650
CREATED:20260118T103855Z
LAST-MODIFIED:20260123T114555Z
UID:5996-1770786000-1770872399@heavysick.co.jp
SUMMARY:FUKUWARA-iVE Episode: 1 Presented by 福笑
DESCRIPTION:2026.2.11（水・祝）\n幡ヶ谷 club heavy sick \nFUKUWARA-iVE Episode: 1\nPresented by 福笑 \nAYA\nXL\nBLOSSOM\n福笑 \nOPEN 18:30 / START 19:00 \n🎟 チケット\n通常 ¥3\,500\nスペシャル（応援） ¥4\,500\n配信 ¥2\,500 \nこの夜が、誰かの心に残るように。\n会場でも、配信でも、受け取りに来てください。 \n▶ ご予約はこちら\n【予約URL】\nhttps://premier.twitcasting.tv/g:11331249330749…/shopitems
URL:https://heavysick.co.jp/cp-bin/wordpress/events/fukuwara-ive-episode-1-presented-by-%e7%a6%8f%e7%ac%91/
ATTACH;FMTTYPE=image/jpeg:https://heavysick.co.jp/cp-bin/wordpress/wp-content/uploads/2026/01/0211-1.jpg
END:VEVENT
BEGIN:VEVENT
DTSTART;VALUE=DATE:20260212
DTEND;VALUE=DATE:20260214
DTSTAMP:20260422T091650
CREATED:20251214T141503Z
LAST-MODIFIED:20260116T123638Z
UID:5897-1770872400-1770958799@heavysick.co.jp
SUMMARY:【JIVERS✴︎STOMP 】 ROCKIN' RECORD HOP Vo'46
DESCRIPTION:【JIVERS✴︎STOMP 】\nROCKIN’ RECORD HOP Vo’46\nThu. 12th. Feb.2026.\n18:30〜22:30\n@Club Heavy Sick 　(Dance-O-Rama)\n¥1\,000+1dr\n🌟【JIVERS✴︎STOMP DJ】\n☆KEN(BEAT✴︎GENERATION)\n☆Simon(man Japan clothing)\n☆SENGOKU\n☆SHOUTAROU\n(JIVERS✴︎STOMP)\n☆KANATA(JIVERS✴︎STOMP)\n🌟 【Shop】\nLovy Light✴︎\nhttps://lovylight.base.shop/\n🌟【Beginners Dance Lesson】\n18:30~19:00 20:20〜20:50\n🌟 【Special Live】※投げ銭\nEnocky & The Top Hands\n🌟【Crew】\nSoyo\nHiromi\,O\nKANATA\nKayomi\n🌟2月から新たにDJとして加わったSHOUTAROU!!!! Cool&Wild\,Primitive.Rockabilly\,etc、時にはSweetな選曲で貴方の心を毎月揺すぶりかけます💕\n🌟ENOCKY & THE TOP HANDS(エノッキー\,トネーロ、大澤公則）\n⚫︎ロッキン・エノッキーは海外からの評価も高いエレキ・インスト、サーフ・ロック・バンド、JACKIE and THE CEDRICSのギタリスト。\nトゥワンギーなギター＆味わい深いヴォーカルは必見！\nテキサスにて、2025年度の”Western Swing Hero”に受賞される。\n⚫︎トネーロ（WBass/ハッチハッチェルバンド、TOKYO LOCALS etc.）、\n⚫︎大澤公則（Dr/from カンザスシティバンド、bloodest saxophone　etc.)\nと共にトリオでの演奏！\nロックンロール、ホンキートンク、ウェスタンスウィングを融合させた、唯一無二なリサイクル精神バンド！\n⚠️お客様へ。Entrance料金を破格値とさせて頂いてます。（毎月キツキツww😅）皆様その分、各BANDさんへのChipのご協力の方宜しくお願い致します🙇‍♂️
URL:https://heavysick.co.jp/cp-bin/wordpress/events/jivers-stomp-10/
ATTACH;FMTTYPE=image/jpeg:https://heavysick.co.jp/cp-bin/wordpress/wp-content/uploads/2025/12/0212.jpg
END:VEVENT
BEGIN:VEVENT
DTSTART;TZID=Asia/Tokyo:20260212T080000
DTEND;TZID=Asia/Tokyo:20260212T170000
DTSTAMP:20260422T091650
CREATED:20260212T132907Z
LAST-MODIFIED:20260212T132907Z
UID:6052-1770883200-1770915600@heavysick.co.jp
SUMMARY:MODSiCK
DESCRIPTION:6月7日（日）club HEAVY SiCK\nMODSiCK\nBB & the Beppins\nThe Bit\nThe Boing\nThe In Sound\nMOUSE\n安藤模亜とスーパーダンディーズ\nDJ\nUCHIYAMA（THE BEAT CAVE）\nMANJI（HIGH STYLE）\nOpen & Start 17:30\nADV ¥2\,700 + 1drink\nDOOR ¥3\,000 + 1drink\n前売り予約はclub＠heavysick.co.jp
URL:https://heavysick.co.jp/cp-bin/wordpress/events/modsick/
ATTACH;FMTTYPE=image/jpeg:https://heavysick.co.jp/cp-bin/wordpress/wp-content/uploads/2026/02/0607.jpg
END:VEVENT
END:VCALENDAR