BEGIN:VCALENDAR
VERSION:2.0
PRODID:-//SCHEDULE - ECPv6.15.14//NONSGML v1.0//EN
CALSCALE:GREGORIAN
METHOD:PUBLISH
X-WR-CALNAME:SCHEDULE
X-ORIGINAL-URL:https://heavysick.co.jp/cp-bin/wordpress
X-WR-CALDESC:SCHEDULE のイベント
REFRESH-INTERVAL;VALUE=DURATION:PT1H
X-Robots-Tag:noindex
X-PUBLISHED-TTL:PT1H
BEGIN:VTIMEZONE
TZID:Asia/Tokyo
BEGIN:STANDARD
TZOFFSETFROM:+0900
TZOFFSETTO:+0900
TZNAME:JST
DTSTART:20240101T000000
END:STANDARD
END:VTIMEZONE
BEGIN:VEVENT
DTSTART;VALUE=DATE:20250622
DTEND;VALUE=DATE:20250624
DTSTAMP:20260423T075832
CREATED:20250517T061703Z
LAST-MODIFIED:20250517T064547Z
UID:5103-1750568400-1750654799@heavysick.co.jp
SUMMARY:ロックンロールアニマル ～すてばちレコ発編～
DESCRIPTION:6/22(日)@幡ヶ谷CLUB HEAVY SICK \nロックンロールアニマル\n～すてばちレコ発編～ \nすてばち\nひぐらし\n経血\nBilli \n-DJ-\nKeiji Ronson\nDiscoman \n※入場特典：すてばちバッジ \nOPEN 17:30 START 18:00 \n前売 2\,500円+1drink\n当日 3\,000円+1drink
URL:https://heavysick.co.jp/cp-bin/wordpress/events/%e3%83%ad%e3%83%83%e3%82%af%e3%83%b3%e3%83%ad%e3%83%bc%e3%83%ab%e3%82%a2%e3%83%8b%e3%83%9e%e3%83%ab-%ef%bd%9e%e3%81%99%e3%81%a6%e3%81%b0%e3%81%a1%e3%83%ac%e3%82%b3%e7%99%ba%e7%b7%a8%ef%bd%9e/
ATTACH;FMTTYPE=image/jpeg:https://heavysick.co.jp/cp-bin/wordpress/wp-content/uploads/2025/05/0622.jpg
END:VEVENT
BEGIN:VEVENT
DTSTART;VALUE=DATE:20250626
DTEND;VALUE=DATE:20250628
DTSTAMP:20260423T075832
CREATED:20250608T055835Z
LAST-MODIFIED:20250608T055835Z
UID:5137-1750914000-1751000399@heavysick.co.jp
SUMMARY:Swingin' Jivin'
DESCRIPTION:2025/6/26(木) \nSwingin’ Jivin’\n@Club Heavy Sick \n〈Guest DJ〉\nMaru(Modern Records) \n〈DJ〉\nTatarin\nMasaru Honma\nMasami Watanabe\n(the fascinations) \n〈Dance Work Shop〉\nELOVIS SATO \n〈Crew〉\nHiromi\nTsukasa Edwardian(59 Rockers) \n〈OPEN〉19:00 \n〈Door〉1\,000yen + 1Drink
URL:https://heavysick.co.jp/cp-bin/wordpress/events/swingin-jivin-7/
ATTACH;FMTTYPE=image/jpeg:https://heavysick.co.jp/cp-bin/wordpress/wp-content/uploads/2025/06/0626.jpg
END:VEVENT
BEGIN:VEVENT
DTSTART;VALUE=DATE:20250627
DTEND;VALUE=DATE:20250629
DTSTAMP:20260423T075832
CREATED:20250518T063635Z
LAST-MODIFIED:20250518T063635Z
UID:5108-1751000400-1751086799@heavysick.co.jp
SUMMARY:Slack Off! presents-
DESCRIPTION:Slack Off! presents-\nFret Buzz\nSalt and Curve\nFalling Sugar\nDJ Sheena \nFriday 6/27\nat Club Heavy Sick\nOpen & Start 19:30\n¥2400 plus 1 drink
URL:https://heavysick.co.jp/cp-bin/wordpress/events/slack-off-presents-2/
ATTACH;FMTTYPE=image/jpeg:https://heavysick.co.jp/cp-bin/wordpress/wp-content/uploads/2025/05/0627.jpg
END:VEVENT
BEGIN:VEVENT
DTSTART;VALUE=DATE:20250628
DTEND;VALUE=DATE:20250630
DTSTAMP:20260423T075832
CREATED:20250508T132410Z
LAST-MODIFIED:20250508T132410Z
UID:5076-1751086800-1751173199@heavysick.co.jp
SUMMARY:Rock'n'roll Genius Vo.2
DESCRIPTION:6月28日（土）　Rock’n’roll Genius Vo.2\n2\,500円(予約）3\,000円(当日)\n開場18:00 開演18:30 \nDick’sBackyard\nシンムラ テツヤ\nGET HAPPY\nザ・フロンティアーズ\nDJ ハラーキー
URL:https://heavysick.co.jp/cp-bin/wordpress/events/rocknroll-genius-vo-2/
ATTACH;FMTTYPE=image/jpeg:https://heavysick.co.jp/cp-bin/wordpress/wp-content/uploads/2025/05/0628.jpg
END:VEVENT
BEGIN:VEVENT
DTSTART;VALUE=DATE:20250628
DTEND;VALUE=DATE:20250630
DTSTAMP:20260423T075832
CREATED:20250608T060317Z
LAST-MODIFIED:20250608T060322Z
UID:5140-1751086800-1751173199@heavysick.co.jp
SUMMARY:Rock'n'roll Genius Vo.2
DESCRIPTION:6月28日（土）　Rock’n’roll Genius Vo.2\n2\,500円(予約）3\,000円(当日)\n開場18:00 開演18:30 \nDick’sBackyard\nシンムラ テツヤ\nGET HAPPY\nザ・フロンティアーズ\nDJ ハラーキー
URL:https://heavysick.co.jp/cp-bin/wordpress/events/rocknroll-genius-vo-2-2/
ATTACH;FMTTYPE=image/jpeg:https://heavysick.co.jp/cp-bin/wordpress/wp-content/uploads/2025/06/0628.jpg
END:VEVENT
BEGIN:VEVENT
DTSTART;VALUE=DATE:20250629
DTEND;VALUE=DATE:20250701
DTSTAMP:20260423T075832
CREATED:20250608T060549Z
LAST-MODIFIED:20250608T060749Z
UID:5143-1751173200-1751259599@heavysick.co.jp
SUMMARY:Heavy Sick STRANGE CARNIVAL
DESCRIPTION:6/29（日） club HEAVY SICK \nHeavy Sick STRANGE CARNIVAL \nHAT TRICKERS\nTHE RADIOS\nWETBLACK\nHi-Nomady \nDJ\nIKB Skate Psychos（D.T.F.S Records）\nKEIJI RONSON（THE STRANGE MOON） \nOpen 17:30-\nStart 18:00- \nADV ¥2\,600+1drink\nDOOR ¥3\,000+1drink \n前売り予約は club@heavysick.co.jp\nまたは各出演者まで
URL:https://heavysick.co.jp/cp-bin/wordpress/events/heavy-sick-strange-carnival/
ATTACH;FMTTYPE=image/jpeg:https://heavysick.co.jp/cp-bin/wordpress/wp-content/uploads/2025/06/0629.jpg
END:VEVENT
BEGIN:VEVENT
DTSTART;TZID=Asia/Tokyo:20250704T080000
DTEND;TZID=Asia/Tokyo:20250704T170000
DTSTAMP:20260423T075832
CREATED:20250525T132314Z
LAST-MODIFIED:20250529T083950Z
UID:5123-1751616000-1751648400@heavysick.co.jp
SUMMARY:ナオキ、セイジ 2マンライブ 「ギターを持ったパンクロッカー」
DESCRIPTION:7/4（金）　幡ヶ谷 club HEAVY SICK \nナオキ、セイジ 2マンライブ\n「ギターを持ったパンクロッカー」 \n出演\nNAOKI（SA）\n清野セイジ（HARISS\, LAUGHIN’ NOSE） \nOpen 19:00 Start 19:30 \n¥3\,400+1drink\n¥3\,900+1drink \n前売り予約は club@heavysick.co.jpまで
URL:https://heavysick.co.jp/cp-bin/wordpress/events/%e3%83%8a%e3%82%aa%e3%82%ad%e3%80%81%e3%82%bb%e3%82%a4%e3%82%b8-2%e3%83%9e%e3%83%b3%e3%83%a9%e3%82%a4%e3%83%96-%e3%80%8c%e3%82%ae%e3%82%bf%e3%83%bc%e3%82%92%e6%8c%81%e3%81%a3%e3%81%9f%e3%83%91/
ATTACH;FMTTYPE=image/jpeg:https://heavysick.co.jp/cp-bin/wordpress/wp-content/uploads/2025/05/0704.jpg
END:VEVENT
BEGIN:VEVENT
DTSTART;VALUE=DATE:20250705
DTEND;VALUE=DATE:20250707
DTSTAMP:20260423T075832
CREATED:20250608T060924Z
LAST-MODIFIED:20250608T061009Z
UID:5146-1751691600-1751777999@heavysick.co.jp
SUMMARY:TBA
DESCRIPTION:
URL:https://heavysick.co.jp/cp-bin/wordpress/events/tba-53/
END:VEVENT
BEGIN:VEVENT
DTSTART;VALUE=DATE:20250705
DTEND;VALUE=DATE:20250707
DTSTAMP:20260423T075832
CREATED:20250620T084230Z
LAST-MODIFIED:20250620T084230Z
UID:5190-1751691600-1751777999@heavysick.co.jp
SUMMARY:What We Do is NOT Secret Presents “The Summer of OGG”
DESCRIPTION:What We Do is NOT Secret Presents\n“The Summer of OGG” \nThe Clovers\nDark the Giant\nthe Floppy-Pinkies\nSHE’s \nDJs\nHiroshiTheKnocks\nKaotic \n7/5 （土曜）\nOpen 18:30\nStart 19:00\n¥2600 Adv / ¥3000 Door (+1 drink)
URL:https://heavysick.co.jp/cp-bin/wordpress/events/what-we-do-is-not-secret-presents-the-summer-of-ogg/
ATTACH;FMTTYPE=image/jpeg:https://heavysick.co.jp/cp-bin/wordpress/wp-content/uploads/2025/06/0705.jpg
END:VEVENT
BEGIN:VEVENT
DTSTART;VALUE=DATE:20250706
DTEND;VALUE=DATE:20250708
DTSTAMP:20260423T075832
CREATED:20250608T061339Z
LAST-MODIFIED:20250608T061339Z
UID:5148-1751778000-1751864399@heavysick.co.jp
SUMMARY:What We Do is NOT Secret Presents “Meet me on the Milky Way”
DESCRIPTION:What We Do is NOT Secret Presents\n“Meet me on the Milky Way” \nRock Juice\nMule Team\nThe Lonely\nDirty Rogues \nDJs\nNorogaru\nKoji (Rangsteen) \nSunday 7/6\nat Club Heavy Sick\nOpen 18:00\nStart 18:30\n¥2500 plus 1 drink
URL:https://heavysick.co.jp/cp-bin/wordpress/events/what-we-do-is-not-secret-presents-meet-me-on-the-milky-way/
ATTACH;FMTTYPE=image/jpeg:https://heavysick.co.jp/cp-bin/wordpress/wp-content/uploads/2025/06/0706.jpg
END:VEVENT
BEGIN:VEVENT
DTSTART;VALUE=DATE:20250710
DTEND;VALUE=DATE:20250712
DTSTAMP:20260423T075832
CREATED:20250608T061448Z
LAST-MODIFIED:20250608T062034Z
UID:5152-1752123600-1752209999@heavysick.co.jp
SUMMARY:Jivers Stomp
DESCRIPTION:
URL:https://heavysick.co.jp/cp-bin/wordpress/events/jivers-stomp-5/
END:VEVENT
BEGIN:VEVENT
DTSTART;VALUE=DATE:20250710
DTEND;VALUE=DATE:20250712
DTSTAMP:20260423T075832
CREATED:20250622T055310Z
LAST-MODIFIED:20250622T055310Z
UID:5197-1752123600-1752209999@heavysick.co.jp
SUMMARY:JIVERS✴︎STOMP Vo'39
DESCRIPTION:JIVERS✴︎STOMP Vo’39\nThursday. 10th. Jul .2025 18:30~22:30\n@Club Heavy Sick\n(Dance-O-Rama)\n¥1\,000+1dr \n【JIVERS✴︎STOMP DJ】\n✴︎KEN\n(BEAT✴︎GENERATION)\n✴︎Simon\n(man Japan clothing)\n✴︎TSUBASA\n(HYDRO STOMPERS)\n✴︎TAMAE\n(ponytailz) \n【Special Guest DJ】\nEL REBELDE JOSE\n（From Texas） \n【ROCKIN JIVE LESSON】\n（Ken&Hiromi\,O)\n20:20〜20:50 \n【Crew】\n✴︎Soyo\n✴︎Hiromi\,O\n✴︎nomoto.gene\n✴︎Tsukasa Edwardian\n(59Rockers) \nJIVERS✴︎STOMPは毎月18:30〜Open‼️18:30からの30分はBeginner-Lessonをやっていますので初めての方も安心してイベントに参加できます😊 \nお時間のある方は個人レッスン的に受けられる早めの時間がお得となっていますよ(♪)
URL:https://heavysick.co.jp/cp-bin/wordpress/events/jivers%e2%9c%b4%ef%b8%8estomp-vo39/
ATTACH;FMTTYPE=image/jpeg:https://heavysick.co.jp/cp-bin/wordpress/wp-content/uploads/2025/06/0710.jpg
END:VEVENT
BEGIN:VEVENT
DTSTART;VALUE=DATE:20250711
DTEND;VALUE=DATE:20250713
DTSTAMP:20260423T075832
CREATED:20250518T123317Z
LAST-MODIFIED:20250711T081437Z
UID:5111-1752210000-1752296399@heavysick.co.jp
SUMMARY:ロックンロールアニマル ー弾き語り編ー
DESCRIPTION:7月11日（金）　club HEAVY SICKロックンロールアニマル ー弾き語り編ーKEIJI RONSON（THE STRANGE MOON）なかはまこうじ年見　築（すてばち）→キャンセルLoi（the future）Kinchan（the GOD etc）Open 18:30Start 19:00¥1\,500+1drink
URL:https://heavysick.co.jp/cp-bin/wordpress/events/%e3%83%ad%e3%83%83%e3%82%af%e3%83%b3%e3%83%ad%e3%83%bc%e3%83%ab%e3%82%a2%e3%83%8b%e3%83%9e%e3%83%ab-%e3%83%bc%e5%bc%be%e3%81%8d%e8%aa%9e%e3%82%8a%e7%b7%a8%e3%83%bc/
ATTACH;FMTTYPE=image/jpeg:https://heavysick.co.jp/cp-bin/wordpress/wp-content/uploads/2025/05/0711改訂.jpg
END:VEVENT
BEGIN:VEVENT
DTSTART;VALUE=DATE:20250712
DTEND;VALUE=DATE:20250714
DTSTAMP:20260423T075832
CREATED:20250424T132107Z
LAST-MODIFIED:20250424T132107Z
UID:5062-1752296400-1752382799@heavysick.co.jp
SUMMARY: Hard Hit Psycho Illusion
DESCRIPTION:Hard Hit Psycho Illusion \n7月12日（土） \nAt Hatagaya Club Heavy Slck\nOpen\, Start 18:00\nAdv 2\,800+1d / Door 3\,300+1d \nBands\nFranklin (Gunma)\nPsyclocks\nHi-Nomady\nThe Gastones (Kofu)\nEus Reginas\nMitchy Dead \nDJ\nShigeru (SLAP of CEMETERY)\nMasumi (Dry Bones)\nOkita\nIkb Skate Psychos (D.T.F.S!!! Records)
URL:https://heavysick.co.jp/cp-bin/wordpress/events/hard-hit-psycho-illusion/
ATTACH;FMTTYPE=image/jpeg:https://heavysick.co.jp/cp-bin/wordpress/wp-content/uploads/2025/04/0712.jpg
END:VEVENT
BEGIN:VEVENT
DTSTART;VALUE=DATE:20250713
DTEND;VALUE=DATE:20250715
DTSTAMP:20260423T075832
CREATED:20250608T062517Z
LAST-MODIFIED:20250628T120609Z
UID:5154-1752382800-1752469199@heavysick.co.jp
SUMMARY:What We Do is NOT Secret Presents
DESCRIPTION:What We Do is NOT Secret Presents \n太陽民芸\nYGK\nHEY\nStairs\nThee Blackdoor Blues\nあべっち弾き語り \nDJs\nノロガル\nロバ爺 \n7/13 (日曜)\nOpen 17:30\nStart 18:00\n¥2600 Adv (+1 drink)\n¥3000 Door (+1 drink) 表示を縮小
URL:https://heavysick.co.jp/cp-bin/wordpress/events/tba-57/
ATTACH;FMTTYPE=image/jpeg:https://heavysick.co.jp/cp-bin/wordpress/wp-content/uploads/2025/06/0713.jpg
END:VEVENT
BEGIN:VEVENT
DTSTART;VALUE=DATE:20250718
DTEND;VALUE=DATE:20250720
DTSTAMP:20260423T075832
CREATED:20250608T063735Z
LAST-MODIFIED:20250608T063735Z
UID:5157-1752814800-1752901199@heavysick.co.jp
SUMMARY:女だらけのDJ大会
DESCRIPTION:女だらけのDJ大会\nFriday 7/18\nat Club Heavy Sick \nStart 18:00\nNo charge (1 drink) \nDJs\nBaby Cat Face\nCasper\nChieko\nKazu\nKyoken Dog\nTomoko\nAyapapaya
URL:https://heavysick.co.jp/cp-bin/wordpress/events/%e5%a5%b3%e3%81%a0%e3%82%89%e3%81%91%e3%81%aedj%e5%a4%a7%e4%bc%9a/
ATTACH;FMTTYPE=image/jpeg:https://heavysick.co.jp/cp-bin/wordpress/wp-content/uploads/2025/06/0718.jpg
END:VEVENT
BEGIN:VEVENT
DTSTART;VALUE=DATE:20250719
DTEND;VALUE=DATE:20250721
DTSTAMP:20260423T075832
CREATED:20250608T063933Z
LAST-MODIFIED:20250608T063933Z
UID:5160-1752901200-1752987599@heavysick.co.jp
SUMMARY:What We Do is NOT Secret presents
DESCRIPTION:What We Do is NOT Secret presents \nMule Team\nK.Sharps Band\nキツエンボーイズ\nTeenage Slang Session\nBB and the Beppins\nDJ MINA TOO.MUCH.XXX\, BB Clarke\nSaturday\, July 19\nat Club Heavy Sick\nDoors 18:00\nStart 18:30\nAdv ¥2500 / Door ¥3000 (+1 drink)
URL:https://heavysick.co.jp/cp-bin/wordpress/events/what-we-do-is-not-secret-presents/
ATTACH;FMTTYPE=image/jpeg:https://heavysick.co.jp/cp-bin/wordpress/wp-content/uploads/2025/06/0719.jpg
END:VEVENT
BEGIN:VEVENT
DTSTART;VALUE=DATE:20250720
DTEND;VALUE=DATE:20250722
DTSTAMP:20260423T075832
CREATED:20250608T064010Z
LAST-MODIFIED:20250615T142348Z
UID:5163-1752987600-1753073999@heavysick.co.jp
SUMMARY:LeLeLe Meeting 2025
DESCRIPTION:7月20日（日） \nLeLeLe Meeting 2025\nAt Club Heavy Sick \nCharge 3\,000 yen / drink別\nOpen 12:30 / Start 13:00\n出演: LinaLina\, Ukulele Lesson LeLeLe\, and more
URL:https://heavysick.co.jp/cp-bin/wordpress/events/tba-58/
ATTACH;FMTTYPE=image/jpeg:https://heavysick.co.jp/cp-bin/wordpress/wp-content/uploads/2025/06/A0720.jpg
END:VEVENT
BEGIN:VEVENT
DTSTART;VALUE=DATE:20250720
DTEND;VALUE=DATE:20250722
DTSTAMP:20260423T075832
CREATED:20250704T141542Z
LAST-MODIFIED:20250711T081538Z
UID:5221-1752987600-1753073999@heavysick.co.jp
SUMMARY:act ur age presents HAIR BALM RELEASE PARTY
DESCRIPTION:act ur age presents\nHAIR BALM RELEASE PARTY \nSunday\,July 20 / 17:30-22:30 \nat. Club Heavy sick hatagaya\nDOOR : ￥2\,000(Inc.1D) \n[Acoustic Live Session]\n片山メグミと松竹一朗 \n［DJ］\nDJ Shu-Iwan\nDJ SOEN\nDJ k1ly\nDJ KAZUKI \n［COFFEE］\nunplugged COFFEE STAND \n[POP UP]\nFUJITA CANOE \n[FOOD]\n人民食堂不要不急
URL:https://heavysick.co.jp/cp-bin/wordpress/events/act-ur-age-presents-hair-balm-release-party/
ATTACH;FMTTYPE=image/jpeg:https://heavysick.co.jp/cp-bin/wordpress/wp-content/uploads/2025/07/0720夜.jpg
END:VEVENT
BEGIN:VEVENT
DTSTART;VALUE=DATE:20250721
DTEND;VALUE=DATE:20250723
DTSTAMP:20260423T075832
CREATED:20250608T064448Z
LAST-MODIFIED:20250710T110456Z
UID:5167-1753074000-1753160399@heavysick.co.jp
SUMMARY:Swingin' Jivin' Summer Special！
DESCRIPTION:2025/7/21(月)祭日 \nSwingin’ Jivin’\nSummer Special！\n@Club Heavy Sick \n〈Band〉\nRyuji Yanagiya et ses Play boys \n〈DJ〉\nTatarin\nMasaru Honma\nMasami Watanabe\n(the fascinations) \n〈Dance Work Shop〉\nELOVIS SATO \n〈Crew〉\nHiromi\nTsukasa Edwardian(59 Rockers) \n〈OPEN〉19:00 \n〈Door〉1\,000yen + 1Drink
URL:https://heavysick.co.jp/cp-bin/wordpress/events/tba-60/
ATTACH;FMTTYPE=image/jpeg:https://heavysick.co.jp/cp-bin/wordpress/wp-content/uploads/2025/06/0721.jpg
END:VEVENT
BEGIN:VEVENT
DTSTART;VALUE=DATE:20250723
DTEND;VALUE=DATE:20250725
DTSTAMP:20260423T075832
CREATED:20250710T130237Z
LAST-MODIFIED:20250710T130237Z
UID:5235-1753246800-1753333199@heavysick.co.jp
SUMMARY:Bar Heavy Sick DJ Night with No Genre
DESCRIPTION:7/23（木）\nBar Heavy Sick\nDJ Night with No Genre \nTete\nKame\nSheena\nJoe Nakamura\nKummy\nLiza \nStart 18:30\nNo charge (要・1ドリチケ）
URL:https://heavysick.co.jp/cp-bin/wordpress/events/bar-heavy-sick-dj-night-with-no-genre/
ATTACH;FMTTYPE=image/jpeg:https://heavysick.co.jp/cp-bin/wordpress/wp-content/uploads/2025/07/0723.jpg
END:VEVENT
BEGIN:VEVENT
DTSTART;VALUE=DATE:20250724
DTEND;VALUE=DATE:20250726
DTSTAMP:20260423T075832
CREATED:20250608T064708Z
LAST-MODIFIED:20250720T073617Z
UID:5169-1753333200-1753419599@heavysick.co.jp
SUMMARY:SWINGIN' LOUNGE
DESCRIPTION:
URL:https://heavysick.co.jp/cp-bin/wordpress/events/tba-61/
END:VEVENT
BEGIN:VEVENT
DTSTART;VALUE=DATE:20250724
DTEND;VALUE=DATE:20250726
DTSTAMP:20260423T075832
CREATED:20250721T140724Z
LAST-MODIFIED:20250721T142658Z
UID:5348-1753333200-1753419599@heavysick.co.jp
SUMMARY:Swingin' Lounge -Swingin' Jivin' Summer Special After Party-
DESCRIPTION:2025/7/24(木)\nSwingin’ Lounge\n-Swingin’ Jivin’ Summer Special After Party-\n@Club Heavy Sick Bar Space\n〈DJ〉\nTatarin\nMasaru Honma\nMasami Watanabe\n(the fascinations)\n〈OPEN〉19:00\nNo Charge\n要1ドリンクオーダー
URL:https://heavysick.co.jp/cp-bin/wordpress/events/swingin-lounge-swingin-jivin-summer-special-after-party/
ATTACH;FMTTYPE=image/jpeg:https://heavysick.co.jp/cp-bin/wordpress/wp-content/uploads/2025/07/0724.jpg
END:VEVENT
BEGIN:VEVENT
DTSTART;VALUE=DATE:20250725
DTEND;VALUE=DATE:20250727
DTSTAMP:20260423T075832
CREATED:20250622T055657Z
LAST-MODIFIED:20250622T055815Z
UID:5202-1753419600-1753505999@heavysick.co.jp
SUMMARY:🎉オールジャンルの ごちゃまぜパーティーVol.2🎉 踊って飲んで食べてお買い物！縁日みたいに愉快なパーティー！
DESCRIPTION:🎉オールジャンルの\nごちゃまぜパーティーVol.2🎉\n踊って飲んで食べてお買い物！縁日みたいに愉快なパーティー！ \n🌈All genre Mashup party Vol.2🌈\nDance\, drink\, eat\, and shop!\nA cheerful party with the fun vibes of a street fair! \n2025年7月25日(金)\n18:30〜22:30\n@幡ヶ谷(Hatagaya)CLUB HEAVY SICK\n@club_heavy_sick \nめちゃくちゃ踊れる！\nかっこいい！かわいい！\n素敵なアイテムもいっぱい！\n飲んで食べてわいわい騒ごう🍺\nオールジャンルのお祭りみたいな\nごちゃまぜパーティー🎉 \nGet ready to dance like crazy!\nCool\, cute\, and full of amazing items!\nEat\, drink\, and have a blast together 🍺\nIt’s a mixed-genre celebration—\nA wild and wonderful mash-up party! 🎉 \n🌟DJs\nがた/gata\n@gataaa2244 \nSHIMA VOLUME\n@shimavuoriyumu \ncharming brovaz\n@mtnshuhei\n@d_i_s_c_o_k_i_d \nhiroko\n@hiroko1.28 \nfuncky doughnuts\n@funcky_doughnuts \nmaikeeRIOT\n@maikee_cherryriot \nMilky(Edward’s Clothing/ニュー椿)\n@misakishimanaka \n🌟SHOP\nambivalence\n@ambivalence_clothes\nアクセサリー/fashion accessories \nkame\n@kameillust\n似顔絵屋さん/illustrator \nCHiCHiTOHTOH\n@chichitohtoh\nハンドメイド・フリマ/handmade goods \nmaikee’s vintage market\n@maikee_cherryriot\nUS\,日本のヴィンテージ小物/vintage fashion goods \n🌟LIVE\n桑原達也/Tatsuya Kuwabara\n(ブルーグラス★ポリス/BLUEGRASS ★POLICE )\n@kuwabara_tatsuya \nバンジョー奏者。シンガーソングライターダンサー、ラノベ作家、朗読家、画家、アパレルデザイナー。元スクールカースト最底辺。ネットストーキングと自宅特定が趣味です。 \nBanjo player. Singer-songwriter and dancer. Also a light novel author\, narrator\, painter\, and fashion designer.\nOnce ruled the bottom of the high school hierarchy.\nSkilled in the fine art of internet digging—some call it research\, I call it fun. \n🌟FOOD\nThe Wand and Spoon\n@fictionalfoodsvegan \n「The Wand and Spoon」は、魔法とファンタジーをテーマにしたヴィーガンのポップアップカフェです🪄 \nThe Wand and Spoon is a vegan pop-up cafe with magical and fantasy themed food 🪄🥄 \n🌟場所\n幡ヶ谷CLUB HEAVY SICK\n〒151-0066 東京都渋谷区西原２丁目２７−４ ｢升本ビル/B1F｣\nMasumoto building B1\,2-27-4\,Nishihara\,Shibuya\,Tokyo \n🌟500円+ドリンク代(¥500+ One drink is required to order)
URL:https://heavysick.co.jp/cp-bin/wordpress/events/%f0%9f%8e%89%e3%82%aa%e3%83%bc%e3%83%ab%e3%82%b8%e3%83%a3%e3%83%b3%e3%83%ab%e3%81%ae-%e3%81%94%e3%81%a1%e3%82%83%e3%81%be%e3%81%9c%e3%83%91%e3%83%bc%e3%83%86%e3%82%a3%e3%83%bcvol-2%f0%9f%8e%89/
ATTACH;FMTTYPE=image/jpeg:https://heavysick.co.jp/cp-bin/wordpress/wp-content/uploads/2025/06/0725a.jpg
END:VEVENT
BEGIN:VEVENT
DTSTART;VALUE=DATE:20250726
DTEND;VALUE=DATE:20250728
DTSTAMP:20260423T075832
CREATED:20250608T064921Z
LAST-MODIFIED:20250720T081649Z
UID:5171-1753506000-1753592399@heavysick.co.jp
SUMMARY:MARCH OF THE MODS EXTRA EDITION NEW GENERATION !
DESCRIPTION:MARCH OF THE MODS EXTRA EDITION\nNEW GENERATION !\nSat. 26th July 2025\nat CLUB HEAVY SICK (Hatagaya)\nOpen & Start 6pm\nAdv.￥2\,500（＋D charge）\nDoor￥3\,000（＋D charge）\n■LIVE\nDirty rogues\nThe RealMcCoy\n■DJ\nShunki (5-4-3-2-1)\nUchiyama (The Beat Cave)\nManabu K.Dove
URL:https://heavysick.co.jp/cp-bin/wordpress/events/tba-62/
ATTACH;FMTTYPE=image/jpeg:https://heavysick.co.jp/cp-bin/wordpress/wp-content/uploads/2025/06/0726-1.jpg
END:VEVENT
BEGIN:VEVENT
DTSTART;VALUE=DATE:20250727
DTEND;VALUE=DATE:20250729
DTSTAMP:20260423T075832
CREATED:20250620T083747Z
LAST-MODIFIED:20250620T083747Z
UID:5187-1753592400-1753678799@heavysick.co.jp
SUMMARY:Sick Live -DUB & PSYCHOBILLY-
DESCRIPTION:SUNDAY 2025.07.27 club HEAVY SICK\nSick Live -DUB & PSYCHOBILLY-\nHi-Nomady\nSUPER CLASS\nTOTAL PONKOTSU SYSTEM\n天狗ロッカーズ\nDJ:\nKO-TA-RAW CLUB SKA/UP&UP)\n大江戸 (SUPER CLASS）\nOPEN 18:00 START 18:30\nADV ¥2.600+1drink\nDoor ¥3.000+1drink
URL:https://heavysick.co.jp/cp-bin/wordpress/events/sick-live-dub-psychobilly/
ATTACH;FMTTYPE=image/jpeg:https://heavysick.co.jp/cp-bin/wordpress/wp-content/uploads/2025/06/0727.jpg
END:VEVENT
BEGIN:VEVENT
DTSTART;VALUE=DATE:20250801
DTEND;VALUE=DATE:20250803
DTSTAMP:20260423T075832
CREATED:20250608T065545Z
LAST-MODIFIED:20250608T065545Z
UID:5176-1754024400-1754110799@heavysick.co.jp
SUMMARY:骨のうたう　其の二
DESCRIPTION:骨のうたう　其の二\n2025年8月1日(金)\n幡ヶ谷クラブ・ヘビーシック(Bar スペース内)\nOPEN19:00/START19:30\n要1ドリンク \n出演\n高田拓実TRIO(w/KEIJI RONSON egt\,菅原雄大vc)\n夜ヒル子\n馬野ミキ \n※投げ銭制
URL:https://heavysick.co.jp/cp-bin/wordpress/events/%e9%aa%a8%e3%81%ae%e3%81%86%e3%81%9f%e3%81%86%e3%80%80%e5%85%b6%e3%81%ae%e4%ba%8c/
ATTACH;FMTTYPE=image/jpeg:https://heavysick.co.jp/cp-bin/wordpress/wp-content/uploads/2025/06/0801.jpg
END:VEVENT
BEGIN:VEVENT
DTSTART;VALUE=DATE:20250802
DTEND;VALUE=DATE:20250804
DTSTAMP:20260423T075832
CREATED:20250711T104836Z
LAST-MODIFIED:20250727T062520Z
UID:5246-1754110800-1754197199@heavysick.co.jp
SUMMARY:弾き語りナイト
DESCRIPTION:8月2日（土） club HEAVY SICK bar Space \n  \n弾き語りナイト \nNon（the GOD）\nKeiji Ronson（the STRANGE MOON ）\nMouse\nKen Matsutani （the STRANGE MOON\, Marble Sheep ）\nLoi（the FUTURE） \n¥1\,400+1drink\nOpen 17:30\nStart 18:00\nda幡ヶ谷イベント詳細(NIGHT) \n 
URL:https://heavysick.co.jp/cp-bin/wordpress/events/tba-63/
ATTACH;FMTTYPE=image/jpeg:https://heavysick.co.jp/cp-bin/wordpress/wp-content/uploads/2025/07/0802-1.jpg
END:VEVENT
BEGIN:VEVENT
DTSTART;VALUE=DATE:20250803
DTEND;VALUE=DATE:20250805
DTSTAMP:20260423T075832
CREATED:20250710T100016Z
LAST-MODIFIED:20250710T122622Z
UID:5225-1754197200-1754283599@heavysick.co.jp
SUMMARY:♪MITZ to RUMBLE♪
DESCRIPTION:♪MITZ to RUMBLE♪\n2025 8/3(sun)\nOPEN 18:00/START 18:25\nadv ¥2500(+1d)/at door ¥3000(+1d)\n♪LIVE♪\nBOP PiLLS\nCxCxD\nDEVIL WHEELS\nBUMBLEBEE\n(ACOUSTIC SET)\n花団ズ\n♪DeeJay♪\nSHIDARUMBLE\nーToTALINFoー\nCLUB HEAVY SICK\n03 3466 1445
URL:https://heavysick.co.jp/cp-bin/wordpress/events/%e2%99%aamitz-to-rumble%e2%99%aa/
ATTACH;FMTTYPE=image/jpeg:https://heavysick.co.jp/cp-bin/wordpress/wp-content/uploads/2025/07/0803.jpeg
END:VEVENT
BEGIN:VEVENT
DTSTART;VALUE=DATE:20250808
DTEND;VALUE=DATE:20250810
DTSTAMP:20260423T075833
CREATED:20250711T112922Z
LAST-MODIFIED:20250724T133102Z
UID:5249-1754629200-1754715599@heavysick.co.jp
SUMMARY:DJ nite with solo acts at Bar Heavy Sick
DESCRIPTION:DJ nite with solo acts\nat Bar Heavy Sick\nFri 8/8\nStart 18:30\n¥1000 + 1 drink charge \n弾き語り\nOGG (Dark the Giant / The Clovers)\nJ Holmes \nDJs\nPeynet (THE TENGLERS)\nKsuke (Dark the Giant / Firestarter)\nBB Clarke (BB and the Beppins)\nNobsuke (Mist Records)\nKame (Rock Juice) \nFood by Ayapapaya
URL:https://heavysick.co.jp/cp-bin/wordpress/events/tba-64/
ATTACH;FMTTYPE=image/jpeg:https://heavysick.co.jp/cp-bin/wordpress/wp-content/uploads/2025/07/0808.jpg
END:VEVENT
END:VCALENDAR