BEGIN:VCALENDAR
VERSION:2.0
PRODID:-//SCHEDULE - ECPv6.15.14//NONSGML v1.0//EN
CALSCALE:GREGORIAN
METHOD:PUBLISH
X-WR-CALNAME:SCHEDULE
X-ORIGINAL-URL:https://heavysick.co.jp/cp-bin/wordpress
X-WR-CALDESC:SCHEDULE のイベント
REFRESH-INTERVAL;VALUE=DURATION:PT1H
X-Robots-Tag:noindex
X-PUBLISHED-TTL:PT1H
BEGIN:VTIMEZONE
TZID:Asia/Tokyo
BEGIN:STANDARD
TZOFFSETFROM:+0900
TZOFFSETTO:+0900
TZNAME:JST
DTSTART:20240101T000000
END:STANDARD
END:VTIMEZONE
BEGIN:VEVENT
DTSTART;VALUE=DATE:20250530
DTEND;VALUE=DATE:20250601
DTSTAMP:20260422T144019
CREATED:20250516T083252Z
LAST-MODIFIED:20250516T083314Z
UID:5095-1748581200-1748667599@heavysick.co.jp
SUMMARY:DJ & 弾き語り NITE
DESCRIPTION:5月30日（金）\nclub HEAVY SICK \n“DJ & 弾き語り NITE” \nFrom 18:30 to 22:30\n¥1\,000 (+1 drink) \n弾き語り\nHIROYUKI KATO（MULE TEAM）\nthe Floppy-Pinkies （Acoustic） \nDJs\nHajime（Mule Team)\nYusuke (Laundry)\nMasao\nKummy (Beach Cat Club)\nLittle T (Beach Cat Club)\nうっちー (the Floppy-Pinkies)\nEvil Jay
URL:https://heavysick.co.jp/cp-bin/wordpress/events/dj-%e5%bc%be%e3%81%8d%e8%aa%9e%e3%82%8a-nite/
ATTACH;FMTTYPE=image/jpeg:https://heavysick.co.jp/cp-bin/wordpress/wp-content/uploads/2025/05/0530.jpg
END:VEVENT
BEGIN:VEVENT
DTSTART;VALUE=DATE:20250530
DTEND;VALUE=DATE:20250601
DTSTAMP:20260422T144019
CREATED:20250323T074208Z
LAST-MODIFIED:20250323T074208Z
UID:5017-1748581200-1748667599@heavysick.co.jp
SUMMARY:Slack Off!
DESCRIPTION:
URL:https://heavysick.co.jp/cp-bin/wordpress/events/slack-off-2/
END:VEVENT
BEGIN:VEVENT
DTSTART;VALUE=DATE:20250529
DTEND;VALUE=DATE:20250531
DTSTAMP:20260422T144019
CREATED:20250502T122909Z
LAST-MODIFIED:20250502T122909Z
UID:5070-1748494800-1748581199@heavysick.co.jp
SUMMARY:TORIA AND THE TERROR JAPAN SHOW 2025
DESCRIPTION:5/29 THURSDAY\nHatagaya CLUB HEAYY SICK \nTORIA AND THE TERROR\nJAPAN SHOW 2025 \nOPEN 19:30 START 20:00\n¥2\,000+1DRINK \nTORIA AND THE TERROR（FROM LIVERPOOL\, UK）\nJOHNK WRAY\nMITCHY DEAD\nThee Blackdoor Blues \nDJ\nIKB SKATE PSYCHOS（D.T.F.S Records）\nMary Scream
URL:https://heavysick.co.jp/cp-bin/wordpress/events/toria-and-the-terror-japan-show-2025/
ATTACH;FMTTYPE=image/jpeg:https://heavysick.co.jp/cp-bin/wordpress/wp-content/uploads/2025/05/0529-scaled.jpg
END:VEVENT
BEGIN:VEVENT
DTSTART;VALUE=DATE:20250525
DTEND;VALUE=DATE:20250527
DTSTAMP:20260422T144019
CREATED:20250323T083133Z
LAST-MODIFIED:20250330T104334Z
UID:5019-1748149200-1748235599@heavysick.co.jp
SUMMARY:Heavy Sick STRANGE CARNIVAL
DESCRIPTION:5月25日（日） 幡ヶ谷 club HEAVY SICK \nHeavy Sick STRANGE CARNIVAL \nOpen & Start 17:00\nADV ¥2\,600+1d DOOR ¥3\,000+1d \nBands\nラブホテル\nKiller Queen\nHi-Nomady\nJam Mayhem\nTOKYO SUBMISSION \nBurlesque Dance\nAya Mermaid \nDJ\nAi (Bators Madness)\nIkb skate Psychos (D.T.F.K. Records) \nFood\nNevermore \n前売り予約はclub@heavysick.co.jp または各出演者まで
URL:https://heavysick.co.jp/cp-bin/wordpress/events/tba-55/
ATTACH;FMTTYPE=image/jpeg:https://heavysick.co.jp/cp-bin/wordpress/wp-content/uploads/2025/03/0525.jpg
END:VEVENT
BEGIN:VEVENT
DTSTART;VALUE=DATE:20250524
DTEND;VALUE=DATE:20250526
DTSTAMP:20260422T144019
CREATED:20250411T022806Z
LAST-MODIFIED:20250411T023039Z
UID:5035-1748062800-1748149199@heavysick.co.jp
SUMMARY:グレマンカオルプレゼンツ Chunkey Time Vol.10 -Surfin' & Hotrod Special Day-
DESCRIPTION:グレマンカオルプレゼンツ\nChunkey Time Vol.10\n-Surfin’ & Hotrod Special Day- \nCLUB HEAVY SICK\n5月24日(土)\nOPEN:17:00\n前売り2400円＋1D 当日3000円＋1D \nBANDS\nChunkey Times\nThe Noble Surfers.\nRAT HOLIC\nThe Fuzziyama Surfers(名古屋)\nJackie and the Cedrics \nDJ\nShinji Trash (Diggin’in )\nReina (Diggin’in )\nケンタッキー松江\nDJ回鍋肉(北海道) \nGuest DJ\nJimmy Mashiko(BFTG) \nSHOP\nSEXPLOSION (for WANKERS!)
URL:https://heavysick.co.jp/cp-bin/wordpress/events/%e3%82%b0%e3%83%ac%e3%83%9e%e3%83%b3%e3%82%ab%e3%82%aa%e3%83%ab%e3%83%97%e3%83%ac%e3%82%bc%e3%83%b3%e3%83%84-chunkey-time-vol-10-surfin-hotrod-special-day/
ATTACH;FMTTYPE=image/jpeg:https://heavysick.co.jp/cp-bin/wordpress/wp-content/uploads/2025/04/0524.jpg
END:VEVENT
BEGIN:VEVENT
DTSTART;VALUE=DATE:20250523
DTEND;VALUE=DATE:20250525
DTSTAMP:20260422T144019
CREATED:20250413T110247Z
LAST-MODIFIED:20250413T114657Z
UID:5051-1747976400-1748062799@heavysick.co.jp
SUMMARY:Slack Off! & New Art U WANT Present
DESCRIPTION:Slack Off! & New Art U WANT Present \nNew Art U Want (debut)\nマンホール\nK.Sharps Band \nDJ Pogo Ishii \nFriday\, May 23\nOpen 19:30 / Start 20:00 \n¥2200 + 1 drink (¥600 charge)
URL:https://heavysick.co.jp/cp-bin/wordpress/events/slack-off-new-art-u-want-present-2/
ATTACH;FMTTYPE=image/jpeg:https://heavysick.co.jp/cp-bin/wordpress/wp-content/uploads/2025/04/0523-1.jpg
END:VEVENT
BEGIN:VEVENT
DTSTART;VALUE=DATE:20250522
DTEND;VALUE=DATE:20250524
DTSTAMP:20260422T144019
CREATED:20250413T115608Z
LAST-MODIFIED:20250516T083845Z
UID:5054-1747890000-1747976399@heavysick.co.jp
SUMMARY:Swingin' Jivin'
DESCRIPTION:Swingin’ Jivin’\n2025年5月22日(木)\n@Club Heavy Sick \n〈Acoustic Live〉\n矢野忠トリオ \n〈Guest DJ〉\nRYO \n〈DJ〉\nTatarin\nMasaru Honma\nMasami Watanabe\n(the fascinations) \n〈Dance Workshop〉\nELOVIS SATO \n〈Crew〉\nHiromi\nTsukasa Edwardian(59 Rockers) \n〈OPEN〉19:00 \n〈Door〉1\,000yen + 1Drink
URL:https://heavysick.co.jp/cp-bin/wordpress/events/swingin-jivin-6/
ATTACH;FMTTYPE=image/jpeg:https://heavysick.co.jp/cp-bin/wordpress/wp-content/uploads/2025/04/0522-1.jpg
END:VEVENT
BEGIN:VEVENT
DTSTART;TZID=Asia/Tokyo:20250518T080000
DTEND;TZID=Asia/Tokyo:20250518T170000
DTSTAMP:20260422T144019
CREATED:20250322T083220Z
LAST-MODIFIED:20250509T131830Z
UID:4984-1747555200-1747587600@heavysick.co.jp
SUMMARY:♪Full Flavor♪ Vol.約o45
DESCRIPTION:♪Full Flavor♪ Vol.約o45 \n2025 5/18(sun)\nOPEN 18:00/START 18:25\nadv ¥2500(+1d)/at door ¥3000(+1d) \n♪LIVE♪\nPessor P.Peseta\nLA★ROCCA\nGlory Billy’s\n花団ズ\nMATS （HappyらぶMusic） \n♪DeeJay♪\nSHIDARUMBLE
URL:https://heavysick.co.jp/cp-bin/wordpress/events/tba-21/
ATTACH;FMTTYPE=image/jpeg:https://heavysick.co.jp/cp-bin/wordpress/wp-content/uploads/2025/03/0518.jpeg
END:VEVENT
BEGIN:VEVENT
DTSTART;VALUE=DATE:20250517
DTEND;VALUE=DATE:20250519
DTSTAMP:20260422T144019
CREATED:20241220T111645Z
LAST-MODIFIED:20250322T083112Z
UID:4715-1747458000-1747544399@heavysick.co.jp
SUMMARY:GO!GO!GO! vol.19 〜Paint It R&R〜
DESCRIPTION:GO!GO!GO! vol.19\n〜Paint It R&R〜 \n2025.5.17 sat\nat. HATAGAYA CLUB HEAVY SICK\nopen/start 18:00\nadv/door ¥2400/¥2900 +1drink ¥600 \n●LIVE\nフリントロックス\nThe Paint It Blue\nTHE HILIGHT (from.三重)\nGlory Billy’s \n●DJ\nDANNY\nTAMAE (ponytailz)
URL:https://heavysick.co.jp/cp-bin/wordpress/events/tba-34/
ATTACH;FMTTYPE=image/jpeg:https://heavysick.co.jp/cp-bin/wordpress/wp-content/uploads/2024/12/0517.jpg
END:VEVENT
BEGIN:VEVENT
DTSTART;VALUE=DATE:20250516
DTEND;VALUE=DATE:20250518
DTSTAMP:20260422T144019
CREATED:20250322T084800Z
LAST-MODIFIED:20250411T065955Z
UID:4988-1747371600-1747457999@heavysick.co.jp
SUMMARY:🎉オールジャンルの ごちゃまぜパーティー🎉
DESCRIPTION:2025年5月16日(金)\n18:30〜22:30\n@幡ヶ谷CLUB HEAVY SICK \nめちゃくちゃ踊れる！\nかっこいい！かわいい！\n素敵なアイテムもいっぱい！\n飲んで食べてわいわい騒ごう🍺\nオールジャンルのお祭りみたいな\nごちゃまぜパーティー🎉 \n🌟DJs\nAi(Bators Madness)\n@stivbatorsxxai\n伊藤多実子\n@itotamiko\nUssy(Old Firm)\n@kazuussi\nがた\n@gataaa2244\nS.A.T.C\n@miu_007\nfuncky doughnuts\n@funcky_doughnuts\nmaikeeRIOT\n@maikee_cherryriot\nMilky(Edward’s Clothing/ニュー椿)\n@misakishimanaka \n🌟SHOP\nEdward’s Clothing\n@edwardsclothingtokyo\nアクセサリー \nkame\n@kameillust\n似顔絵屋さん \nDamagers\n@_damagers_\nDAMAGERS\nSINCE2024\nMC O-KOOLが手掛けるウェアブランド。\n自身でエアブラシを使いペイントを行うBOOTシリーズを展開している。\nスウェットをはじめ、バッグ等にも有名ロゴやキャラクターを直接書き込んでいくスタイルが特徴。 \nNAUGHTY NEEDLE\n@naughtyneedle_tokyo\n用途無限大網袋 \nCHiCHiTOHTOH\n@chichitohtoh\nハンドメイド・フリマ \nmaikee’s vintage market\n@maikee_cherryriot\nUS\,日本のヴィンテージ小物 \n🌟LIVE\nO-KOOL\n@motoatsu_okumura \n🌟FOOD\nNevermore\n@nevermore_teasalon \n🌟場所\n幡ヶ谷CLUB HEAVY SICK\n〒151-0066 東京都渋谷区西原２丁目２７−４ ｢升本ビル/B1F｣ \n🌟500円+ドリンク代
URL:https://heavysick.co.jp/cp-bin/wordpress/events/tba-50/
ATTACH;FMTTYPE=image/jpeg:https://heavysick.co.jp/cp-bin/wordpress/wp-content/uploads/2025/03/0516B.jpg
END:VEVENT
BEGIN:VEVENT
DTSTART;VALUE=DATE:20250511
DTEND;VALUE=DATE:20250513
DTSTAMP:20260422T144019
CREATED:20250322T075349Z
LAST-MODIFIED:20250418T100656Z
UID:4977-1746939600-1747025999@heavysick.co.jp
SUMMARY:あくまのよる　第五夜
DESCRIPTION:5月11日（日） \nあくまのよる　第五夜 \nTHE STRANGE MOON\nねたのよい\nすてばち\nvelvetsound \n開場17:30開演 18:00 \n前売 ¥2\,800+1d\n当日 ¥3\,000 +1d
URL:https://heavysick.co.jp/cp-bin/wordpress/events/%e3%81%82%e3%81%8f%e3%81%be%e3%81%ae%e3%82%88%e3%82%8b%e3%80%80%e7%ac%ac%e4%ba%94%e5%a4%9c/
ATTACH;FMTTYPE=image/jpeg:https://heavysick.co.jp/cp-bin/wordpress/wp-content/uploads/2025/03/0511-1.jpg
END:VEVENT
BEGIN:VEVENT
DTSTART;VALUE=DATE:20250510
DTEND;VALUE=DATE:20250512
DTSTAMP:20260422T144019
CREATED:20241220T111811Z
LAST-MODIFIED:20250228T113025Z
UID:4717-1746853200-1746939599@heavysick.co.jp
SUMMARY:SCAM! 　VOl.10
DESCRIPTION:2025.5.10(SAT)\nHATAGAYA CLUB HEAVY SICK \nSCAM!  VOl.10 \nOPEN/START\n18:00~\nDOOR ONLY\n￥2\,000 + DRINK CHARGE \nBOLLOCKS FRANKEN\nblockhead\nBlackor…\nFirst Brew \nDJ\nKOJI\nHIROKI\nKUBO
URL:https://heavysick.co.jp/cp-bin/wordpress/events/scam/
ATTACH;FMTTYPE=image/jpeg:https://heavysick.co.jp/cp-bin/wordpress/wp-content/uploads/2024/12/0510-2.jpg
END:VEVENT
BEGIN:VEVENT
DTSTART;VALUE=DATE:20250509
DTEND;VALUE=DATE:20250511
DTSTAMP:20260422T144019
CREATED:20250316T112449Z
LAST-MODIFIED:20250509T084158Z
UID:4969-1746766800-1746853199@heavysick.co.jp
SUMMARY:ON/OFF
DESCRIPTION:5月9日（金）　club HEAVY SICK \nON/OFF \nどっちつかズ\nろくろ\nSandchelsea\nHEIKO \nDJ ロウカウ \n cake walkがメンバー体調不良のため出演ができなくなりました。　 それにともない開場開演時間の変更があります。 Open 18:30 start 19:00 お間違えのないようよろしくお願いします。 \nADV/DOOR: ¥2\,500 + 1D
URL:https://heavysick.co.jp/cp-bin/wordpress/events/tba-48/
ATTACH;FMTTYPE=image/jpeg:https://heavysick.co.jp/cp-bin/wordpress/wp-content/uploads/2025/03/0509.jpg
END:VEVENT
BEGIN:VEVENT
DTSTART;VALUE=DATE:20250508
DTEND;VALUE=DATE:20250510
DTSTAMP:20260422T144019
CREATED:20241220T111539Z
LAST-MODIFIED:20250427T082642Z
UID:4712-1746680400-1746766799@heavysick.co.jp
SUMMARY:JIVERS STOMP Vo'37
DESCRIPTION:JIVERS STOMP Vo’37\nThursday.8th. May. 2025\n18:30~22:30\n@Club Heavy Sick\n(Dance-O-Rama)\n¥1\,000+1dr \n【Special Guest DJ】\nEric（from France）\n50/60’s Rockabilly&more \n【JIVERS✴︎STOMP DJ】\n✴︎KEN\n(BEAT✴︎GENERATION)\n✴︎Simon\n(man Japan clothing)\n✴︎TSUBASA\n(HYDRO STOMPERS)\n✴︎TAMAE\n(ponytailz)\n✴︎SiN\n(LET’S GO! Rockin’n’ Rollin) \n✴︎ROCKIN JIVE LESSON\n（Ken&Hiromi\,O)\n20:20〜20:50 \n【Crew】\n✴︎Soyo\n✴︎Hiromi\,O\n✴︎TsukasaEdwardian\n(59Rockers) \nJIVERS✴︎STOMPは毎月18:30〜Open‼️18:30からの30分はBeginner-Lessonをやっていますので初めての方も安心してイベントに参加できます😊 \nお時間のある方は個人レッスン的に受けられる早めの時間がお得となっていますよ(♪)
URL:https://heavysick.co.jp/cp-bin/wordpress/events/jivers-stomp-4/
ATTACH;FMTTYPE=image/jpeg:https://heavysick.co.jp/cp-bin/wordpress/wp-content/uploads/2024/12/0508.jpg
END:VEVENT
BEGIN:VEVENT
DTSTART;VALUE=DATE:20250506
DTEND;VALUE=DATE:20250508
DTSTAMP:20260422T144019
CREATED:20250322T133808Z
LAST-MODIFIED:20250405T125224Z
UID:4999-1746507600-1746593999@heavysick.co.jp
SUMMARY:幡ヶ谷 シックビート
DESCRIPTION:5月6日火曜祝日　club HEAVY SICK\n「幡ヶ谷 シックビート」\n開場17時 開演17時半\n前売り 2\,400円\n当日 3\,000円\n要1ドリンク\nチョコレイツ\nBACKDROPS\nVVVISION\nGET HAPPY\nDJ OGG
URL:https://heavysick.co.jp/cp-bin/wordpress/events/tba-52/
ATTACH;FMTTYPE=image/jpeg:https://heavysick.co.jp/cp-bin/wordpress/wp-content/uploads/2025/03/0506.jpg
END:VEVENT
BEGIN:VEVENT
DTSTART;VALUE=DATE:20250505
DTEND;VALUE=DATE:20250507
DTSTAMP:20260422T144019
CREATED:20250318T121926Z
LAST-MODIFIED:20250320T123201Z
UID:4972-1746421200-1746507599@heavysick.co.jp
SUMMARY:ゴールデンシルバーズ、フーテン族　2マンライブ
DESCRIPTION:【ゴールデンシルバーズ　フーテン族　2マンライブ決定！】 \nロックの重要な側面である”見せ物小屋的な魅力”と、いわばアップデートした「ニュー・ロック」、または蘇った「アートロック」な要素も持ち合わす両者の顔合わせにご注目ください。 \n5月5日（月・祝）　幡ヶ谷 club Heavy Sick\nゴールデンシルバーズ、フーテン族　2マンライブ \n前売り ¥2\,800+1drink\n当日　¥3\,000 +1drink \nOpen 18:00 Start 18:30 \n前売り予約はclub@heavysick.co.jp またはバンドまで。
URL:https://heavysick.co.jp/cp-bin/wordpress/events/%e3%82%b4%e3%83%bc%e3%83%ab%e3%83%87%e3%83%b3%e3%82%b7%e3%83%ab%e3%83%90%e3%83%bc%e3%82%ba%e3%80%81%e3%83%95%e3%83%bc%e3%83%86%e3%83%b3%e6%97%8f%e3%80%802%e3%83%9e%e3%83%b3%e3%83%a9%e3%82%a4%e3%83%96/
ATTACH;FMTTYPE=image/jpeg:https://heavysick.co.jp/cp-bin/wordpress/wp-content/uploads/2025/03/0505.jpg
END:VEVENT
BEGIN:VEVENT
DTSTART;VALUE=DATE:20250504
DTEND;VALUE=DATE:20250506
DTSTAMP:20260422T144019
CREATED:20250316T105705Z
LAST-MODIFIED:20250316T105837Z
UID:4964-1746334800-1746421199@heavysick.co.jp
SUMMARY:幡ヶ谷 SICK BLUES
DESCRIPTION:5月4日 日曜日　club Heavy Sick \n幡ヶ谷 SICK BLUES \nブルースジャンキーズ\nFUCKIN’ GOOD BROTHERS\ntheIGNORANTS\nPeace Smokers\n三光 \nOpen 17:30 Start 18:00 \nADV ¥2\,600 +1drink\nDOOR ¥3\,000 +1drink
URL:https://heavysick.co.jp/cp-bin/wordpress/events/%e5%b9%a1%e3%83%b6%e8%b0%b7-sick-blues-2/
ATTACH;FMTTYPE=image/jpeg:https://heavysick.co.jp/cp-bin/wordpress/wp-content/uploads/2025/03/0504.jpg
END:VEVENT
BEGIN:VEVENT
DTSTART;VALUE=DATE:20250503
DTEND;VALUE=DATE:20250505
DTSTAMP:20260422T144019
CREATED:20241220T104432Z
LAST-MODIFIED:20250316T085358Z
UID:4707-1746248400-1746334799@heavysick.co.jp
SUMMARY:THE PRIVATES　 RANGSTEEN　2マンライヴ
DESCRIPTION:5月3日（土）　club HEAVY SICK\nTHE PRIVATES　 RANGSTEEN　2マンライヴ \nADV: ¥3\,400 DOOR: ¥3\,900\nOpen 17:30 Start 18:00 \ninfo club@heavysick.co.jp
URL:https://heavysick.co.jp/cp-bin/wordpress/events/tba-33/
ATTACH;FMTTYPE=image/jpeg:https://heavysick.co.jp/cp-bin/wordpress/wp-content/uploads/2024/12/0503.jpg
END:VEVENT
BEGIN:VEVENT
DTSTART;VALUE=DATE:20250502
DTEND;VALUE=DATE:20250504
DTSTAMP:20260422T144019
CREATED:20250322T133646Z
LAST-MODIFIED:20250419T102446Z
UID:4996-1746162000-1746248399@heavysick.co.jp
SUMMARY:We Gotta Power vol.1 - Red-Hot Dance Party -
DESCRIPTION:We Gotta Power vol.1\n– Red-Hot Dance Party –\n2025.5.2 Friday\n19:30 OPEN / 22:30 CLOSE\nat CLUB HEAVY SICK @club_heavy_sick\n¥1000+1D\n<DJ>\n•Ranmaru(NIGHT FOX CLUB)\n•森仁(浅草ぶっちぎり大作戦)\n•meppo(NEON LEADS)\n•Midori(The Revolting)
URL:https://heavysick.co.jp/cp-bin/wordpress/events/tba-51/
ATTACH;FMTTYPE=image/jpeg:https://heavysick.co.jp/cp-bin/wordpress/wp-content/uploads/2025/03/0502.jpg
END:VEVENT
BEGIN:VEVENT
DTSTART;VALUE=DATE:20250429
DTEND;VALUE=DATE:20250501
DTSTAMP:20260422T144019
CREATED:20250121T133519Z
LAST-MODIFIED:20250227T083826Z
UID:4836-1745902800-1745989199@heavysick.co.jp
SUMMARY:HERBERTS STORE 4th ANNIVERSARY  NEVERTRUST × YOBSETTER DECISION Vol.77  「HERBERTS PUB」
DESCRIPTION:HERBERTS STORE 4th ANNIVERSARY \nNEVERTRUST × YOBSETTER DECISION Vol.77 \n「HERBERTS PUB」 \n■日程　2025年4月29日（火・祝） \n■場所　幡ヶ谷 Club Heavy Sick \n■OPEN / START 17:30 \n■TICKET ADV ¥2500 +1D DOOR ¥3000 +1D \n■出演BAND \n□THE 69YOBSTERS\n□ LITTLE ELVIS RYUTA & THE S.R.P.\n□THE LET’S GO’s\n□ Eus Reginas \n■DJ\n□YOSSY(NEVERTRUST)\n□HAMMER\n□Ai (Bators Madness)\n□KENTARO(THE ERECTiONS.)\n□KAMIHIRO\n□Simon69(The 69yobsters) \n■INFO\ninfo@nevertrust.biz
URL:https://heavysick.co.jp/cp-bin/wordpress/events/tba-47/
ATTACH;FMTTYPE=image/jpeg:https://heavysick.co.jp/cp-bin/wordpress/wp-content/uploads/2025/01/0429-1.jpg
END:VEVENT
BEGIN:VEVENT
DTSTART;VALUE=DATE:20250427
DTEND;VALUE=DATE:20250429
DTSTAMP:20260422T144019
CREATED:20250121T102936Z
LAST-MODIFIED:20250123T084221Z
UID:4834-1745730000-1745816399@heavysick.co.jp
SUMMARY:HEAVY SICK ROCK'N'ROLL SPECIAL
DESCRIPTION:4月27日(日)\nHEAVY SICK ROCK’N’ROLL SPECIAL \nDOGGY DOG DEE（福岡）\nRANGSTEEN\nニ・セ・モ・ノ\nDJ:knitters\nOpen 18:00 Start 18:30\nADV ¥2\,800+1drink DOOR ¥3\,000\n前売り予約は club@heavysick.co.jp またはDM\, 各出演者まで。
URL:https://heavysick.co.jp/cp-bin/wordpress/events/tba-46/
ATTACH;FMTTYPE=image/jpeg:https://heavysick.co.jp/cp-bin/wordpress/wp-content/uploads/2025/01/0427.jpg
END:VEVENT
BEGIN:VEVENT
DTSTART;VALUE=DATE:20250426
DTEND;VALUE=DATE:20250428
DTSTAMP:20260422T144019
CREATED:20241220T101346Z
LAST-MODIFIED:20250323T060203Z
UID:4705-1745643600-1745729999@heavysick.co.jp
SUMMARY:RUMBLESTRIP.
DESCRIPTION:4月26日土曜日\n幡ヶ谷 CLUB HEAVY SICK \n「RUMBLESTRIP.」 \n♪LIVE♪\nCATSTRIP.\nKING ZABOOON\nHurricane Sally & Reward\nチーム☆ギラギラ\n花団ズ \n♪DeeJay♪\nSHIDARUMBLE \nOPEN 18:00/START 18:25\nadv ¥2500(+1d)/at door ¥3000(+1d)
URL:https://heavysick.co.jp/cp-bin/wordpress/events/tba-32/
ATTACH;FMTTYPE=image/jpeg:https://heavysick.co.jp/cp-bin/wordpress/wp-content/uploads/2024/12/0426.jpg
END:VEVENT
BEGIN:VEVENT
DTSTART;VALUE=DATE:20250425
DTEND;VALUE=DATE:20250427
DTSTAMP:20260422T144019
CREATED:20250316T084401Z
LAST-MODIFIED:20250316T084401Z
UID:4957-1745557200-1745643599@heavysick.co.jp
SUMMARY:ロックンロールアニマル（弾き語り編）
DESCRIPTION:4月25日（金）　club HEAVY SICK BAR SPACE \nロックンロールアニマル（弾き語り編）\nOpen18:00 Start 19:00\n¥1\,400 + 1drink \nNON (the GOD)\nナカハマコウジ\nKeiji Ronson
URL:https://heavysick.co.jp/cp-bin/wordpress/events/%e3%83%ad%e3%83%83%e3%82%af%e3%83%b3%e3%83%ad%e3%83%bc%e3%83%ab%e3%82%a2%e3%83%8b%e3%83%9e%e3%83%ab%ef%bc%88%e5%bc%be%e3%81%8d%e8%aa%9e%e3%82%8a%e7%b7%a8%ef%bc%89/
ATTACH;FMTTYPE=image/jpeg:https://heavysick.co.jp/cp-bin/wordpress/wp-content/uploads/2025/03/0425.jpg
END:VEVENT
BEGIN:VEVENT
DTSTART;VALUE=DATE:20250424
DTEND;VALUE=DATE:20250426
DTSTAMP:20260422T144019
CREATED:20241220T100859Z
LAST-MODIFIED:20250413T073605Z
UID:4703-1745470800-1745557199@heavysick.co.jp
SUMMARY:Swingin' Jivin'
DESCRIPTION:Swingin’ Jivin’\n2025.4.24\n@Club Heavy Sick \n〈Guest DJ〉\nTOKYO RAKE \n〈DJ〉\nTatarin\nMasaru Honma\nMasami Watanabe\n(the fascinations) \n〈Dance Workshop〉\nELOVIS SATO \n〈Crew〉\nHiromi\nTsukasa Edwardian(59 Rockers) \n〈OPEN〉19:00 \n〈Door〉1\,000yen + 1Drink
URL:https://heavysick.co.jp/cp-bin/wordpress/events/swingin-jivin-5/
ATTACH;FMTTYPE=image/jpeg:https://heavysick.co.jp/cp-bin/wordpress/wp-content/uploads/2024/12/0424.jpg
END:VEVENT
BEGIN:VEVENT
DTSTART;VALUE=DATE:20250420
DTEND;VALUE=DATE:20250422
DTSTAMP:20260422T144019
CREATED:20241220T095538Z
LAST-MODIFIED:20250316T083851Z
UID:4701-1745125200-1745211599@heavysick.co.jp
SUMMARY:THE SPANISH BARROW'IN GUITAR ワンマンライブ
DESCRIPTION:  \nTHE SPANISH BARROW’IN GUITAR ワンマンライブ \n4月20日（日）\n18:30 Open 19:30 Start \n前売り ¥3\,000 +1drink\n当日　¥3\,500 +1drink \nご予約はclub@heavysick.co.jp\nまたはバンドまで
URL:https://heavysick.co.jp/cp-bin/wordpress/events/tba-31/
ATTACH;FMTTYPE=image/jpeg:https://heavysick.co.jp/cp-bin/wordpress/wp-content/uploads/2024/12/0420.jpg
END:VEVENT
BEGIN:VEVENT
DTSTART;VALUE=DATE:20250419
DTEND;VALUE=DATE:20250421
DTSTAMP:20260422T144019
CREATED:20250121T101149Z
LAST-MODIFIED:20250213T065656Z
UID:4832-1745038800-1745125199@heavysick.co.jp
SUMMARY:KITO-MIZUKUMI ROUBER ONEMAN GIG "Garbage Daance Hall"
DESCRIPTION:【kito-mizukumi rouber 初ワンマン！】 \n4月19日(土) 幡ヶ谷 club HEAVY SICK \nKITO-MIZUKUMI ROUBER ONEMAN GIG\n“Garbage Daance Hall” \nDJ:PetitAngel (SHIT-EYE CASSETTE) \n前売¥3\,000+1drink\n当日¥3\,500+1drink \nOpen 18:30 Start 19:00 \n前売り予約はclub@heavysick.co.jp またはバンドまで
URL:https://heavysick.co.jp/cp-bin/wordpress/events/tba-45/
ATTACH;FMTTYPE=image/jpeg:https://heavysick.co.jp/cp-bin/wordpress/wp-content/uploads/2025/01/0419.jpg
END:VEVENT
BEGIN:VEVENT
DTSTART;VALUE=DATE:20250418
DTEND;VALUE=DATE:20250420
DTSTAMP:20260422T144019
CREATED:20241214T065645Z
LAST-MODIFIED:20250316T083108Z
UID:4693-1744952400-1745038799@heavysick.co.jp
SUMMARY:第二回 幡ケ谷テディボーイ倶楽部
DESCRIPTION:2025年 4月18日 金曜日\n18:00スタート\n第二回 幡ケ谷テディボーイ倶楽部\nat Club HEAVY SICK\n※男性のみTEDSファッションのドレスコードがあります。\n入場無料ですが1ドリンクオーダーが必要です。 \n♪タイムテーブル♪\n各DJの持ち時間は30分です。\n18:00〜 Nobu TEDS\n18:30〜Mitchy DEAD\n19:00〜Maila Cobwebs\n19:30〜Summer on Mars\n20:00〜ユウコ\n20:30〜Sanna\n21:00〜MOMO\n21:30〜Deco\n22:00〜Mary Scream
URL:https://heavysick.co.jp/cp-bin/wordpress/events/tba-30/
ATTACH;FMTTYPE=image/jpeg:https://heavysick.co.jp/cp-bin/wordpress/wp-content/uploads/2024/12/0418.jpg
END:VEVENT
BEGIN:VEVENT
DTSTART;TZID=Asia/Tokyo:20250413T080000
DTEND;TZID=Asia/Tokyo:20250413T170000
DTSTAMP:20260422T144019
CREATED:20241214T054932Z
LAST-MODIFIED:20250316T081950Z
UID:4691-1744531200-1744563600@heavysick.co.jp
SUMMARY:JIVERS✴︎STOMP Vo'36 3rd Anniversary Rockin Carnival !!!!!!!!
DESCRIPTION:JIVERS✴︎STOMP Vo’36\n3rd Anniversary\nRockin Carnival !!!!!!!! \n——————————-\nJIVERS✴︎STOMP Vo’36\nSun.13th. Apr.2025\n17:00~22:30\n@Club Heavy Sick\n(Dance-O-Rama)\n¥3\,000円（Admission）＋1dr\n¥3.500円 （AT DOOR) ＋1dr \n【BAND】\n⭐️Bang Bang Betty&\nthe Swingin’ Wildcats\n(WILD&SWINGIN’ROCK NROLL\n（From Australia） \n⭐️THE Twisters\n（DOO WOP SOUNDS) \n⭐️Tigerlily\n(Rockabilly) \n⭐️【ROCKIN JIVE LESSON】\n(KEN& Hiromi\,O) \n⭐️【ちゃま珈琲】\n（Original food） \n⭐️【GUESTDJ】\n⚫︎RYOZO\n(LET’S GO! Rockin’n’Rollin) \n⚫︎KEN\n(BEAT✴︎GENERATION)\n⚫︎Simon\n(man Japan clothing)\n⚫︎TSUBASA\n(HYDRO STOMPERS)\n⚫︎TAMAE\n(ponytailz)\n⚫︎ SENGOKU \n✴︎Crew\nSoyo\nHiromi\,O\nTomomi\nhira_masa\nTsukasaEdwardian\n(59Rockers)
URL:https://heavysick.co.jp/cp-bin/wordpress/events/tba-29/
ATTACH;FMTTYPE=image/jpeg:https://heavysick.co.jp/cp-bin/wordpress/wp-content/uploads/2024/12/0413.jpg
END:VEVENT
BEGIN:VEVENT
DTSTART;VALUE=DATE:20250412
DTEND;VALUE=DATE:20250414
DTSTAMP:20260422T144019
CREATED:20241214T041810Z
LAST-MODIFIED:20250227T083249Z
UID:4689-1744434000-1744520399@heavysick.co.jp
SUMMARY:SHE's RECORD RELEASE SHOW
DESCRIPTION:4/12（土） \nSHE’s RECORD RELEASE SHOW \nSHE’s\nMiddle Edge\nSuper All Go\nWHIZZ\nDJs: FIFI&ROBERT \n18:30/19:00\n¥2500/¥3000+1d
URL:https://heavysick.co.jp/cp-bin/wordpress/events/tba-5/
ATTACH;FMTTYPE=image/jpeg:https://heavysick.co.jp/cp-bin/wordpress/wp-content/uploads/2024/12/0412.jpg
END:VEVENT
BEGIN:VEVENT
DTSTART;VALUE=DATE:20250411
DTEND;VALUE=DATE:20250413
DTSTAMP:20260422T144019
CREATED:20250121T100506Z
LAST-MODIFIED:20250327T113905Z
UID:4830-1744347600-1744433999@heavysick.co.jp
SUMMARY:Slack Off! Presents THE SOUND AND FURY
DESCRIPTION:4月11日（金） \nSlack Off! Presents\nTHE SOUND AND FURY \nConan Neutron & The Secret Friends (USA)\nThe Thunderroads\nLittle Radios \nDJ Norogaru \nOPEN 19:00  START 19;30\n¥2500 + 1 drink (¥600 charge)
URL:https://heavysick.co.jp/cp-bin/wordpress/events/tba-44/
ATTACH;FMTTYPE=image/jpeg:https://heavysick.co.jp/cp-bin/wordpress/wp-content/uploads/2025/01/0411-1.jpg
END:VEVENT
END:VCALENDAR