BEGIN:VCALENDAR
VERSION:2.0
PRODID:-//SCHEDULE - ECPv6.15.14//NONSGML v1.0//EN
CALSCALE:GREGORIAN
METHOD:PUBLISH
X-WR-CALNAME:SCHEDULE
X-ORIGINAL-URL:https://heavysick.co.jp/cp-bin/wordpress
X-WR-CALDESC:SCHEDULE のイベント
REFRESH-INTERVAL;VALUE=DURATION:PT1H
X-Robots-Tag:noindex
X-PUBLISHED-TTL:PT1H
BEGIN:VTIMEZONE
TZID:Asia/Tokyo
BEGIN:STANDARD
TZOFFSETFROM:+0900
TZOFFSETTO:+0900
TZNAME:JST
DTSTART:20250101T000000
END:STANDARD
END:VTIMEZONE
BEGIN:VEVENT
DTSTART;VALUE=DATE:20260131
DTEND;VALUE=DATE:20260202
DTSTAMP:20260421T230741
CREATED:20250925T123641Z
LAST-MODIFIED:20250925T123641Z
UID:5615-1769835600-1769921999@heavysick.co.jp
SUMMARY:the SUN presents 1989 Release live
DESCRIPTION:2026年1月31日（土） \nthe SUN presents 1989 Release live \nGC4\nGLITTERFAST\nTHE BROKEN HEARTS\nthe SUN\nDJ TCO\n前売2500円　当日3000円+1Drink\nOpen18:00 Start 18:30
URL:https://heavysick.co.jp/cp-bin/wordpress/events/the-sun-presents-1989-release-live/
ATTACH;FMTTYPE=image/jpeg:https://heavysick.co.jp/cp-bin/wordpress/wp-content/uploads/2025/09/0131.jpg
END:VEVENT
BEGIN:VEVENT
DTSTART;VALUE=DATE:20260201
DTEND;VALUE=DATE:20260203
DTSTAMP:20260421T230741
CREATED:20251223T125331Z
LAST-MODIFIED:20251223T125331Z
UID:5934-1769922000-1770008399@heavysick.co.jp
SUMMARY:Sick City vol. 3
DESCRIPTION:Sick City vol. 3\nSun. Feb. 1\, 2026\nClub Heavy Sick 幡ヶ谷 \nDoors 17:30\nStart 18:00\nAdv ¥2500 / Door ¥3000 (+1 drink) \nWith:\nFVRMN\nWipeouters99\n20000 Leagues\nThe Choppy Railers\nThe Harpy’s\nLittle Radios \nDJs: \nDJ Hiro\nDJ Kato
URL:https://heavysick.co.jp/cp-bin/wordpress/events/sick-city-vol-3/
ATTACH;FMTTYPE=image/jpeg:https://heavysick.co.jp/cp-bin/wordpress/wp-content/uploads/2025/12/0201.jpg
END:VEVENT
BEGIN:VEVENT
DTSTART;VALUE=DATE:20260206
DTEND;VALUE=DATE:20260208
DTSTAMP:20260421T230741
CREATED:20251214T134305Z
LAST-MODIFIED:20251219T140149Z
UID:5888-1770354000-1770440399@heavysick.co.jp
SUMMARY:Aya Bar
DESCRIPTION:2026年2月6日（金） club Heavy Sick\n“Aya Bar” \nBarmaid\nAya Mermaid \nOpen 18:30-22:30 \ncharge ¥1\,000 (inc. 1drink) \nAya Mermaidが 一日バーテンダーを勤めるバー営業です
URL:https://heavysick.co.jp/cp-bin/wordpress/events/tba-131/
ATTACH;FMTTYPE=image/jpeg:https://heavysick.co.jp/cp-bin/wordpress/wp-content/uploads/2025/12/0206.jpg
END:VEVENT
BEGIN:VEVENT
DTSTART;VALUE=DATE:20260207
DTEND;VALUE=DATE:20260209
DTSTAMP:20260421T230741
CREATED:20251226T125905Z
LAST-MODIFIED:20251226T125905Z
UID:5950-1770440400-1770526799@heavysick.co.jp
SUMMARY:Date With The Cramps
DESCRIPTION:Date With The Cramps \n2026 Feb / 7th\nAt Hatagaya Club Heavy Sick\nOpen/Start 17:00\nAdv 2\,800yen / Door 3\,200yen \n・Band\nEd Woods\nThe Radios (Asahi)\nDildos (Hamamatsu)\nThe Fadeaways\nGastones (Kofu)\nMitchy Dead\nRey Kobra One Snake Band (Mexico) \n・DJ\nDaddy-O-Nov (Back From The Grave Returns)\nSuga-Jun (Soundflat Records Japan)\n荒零a.k.a血まみれビートルズ\nIkb Skate Psychos (D.T.F.S!!! Records)
URL:https://heavysick.co.jp/cp-bin/wordpress/events/date-with-the-cramps/
ATTACH;FMTTYPE=image/jpeg:https://heavysick.co.jp/cp-bin/wordpress/wp-content/uploads/2025/12/0207.jpg
END:VEVENT
BEGIN:VEVENT
DTSTART;VALUE=DATE:20260208
DTEND;VALUE=DATE:20260210
DTSTAMP:20260421T230741
CREATED:20251214T134851Z
LAST-MODIFIED:20260118T104825Z
UID:5893-1770526800-1770613199@heavysick.co.jp
SUMMARY:Driftin'
DESCRIPTION:Driftin’ \n2026 　2/8(sun)\nOPEN 18:30/START 19:00\nadv ¥2500(+1d)/at door ¥3000(+1d) \n♪LIVE♪\nチーム☆ギラギラ\nBINGO\n花団ズ \n♪DeeJay♪\nSHIDARUMBLE
URL:https://heavysick.co.jp/cp-bin/wordpress/events/tba-133/
ATTACH;FMTTYPE=image/jpeg:https://heavysick.co.jp/cp-bin/wordpress/wp-content/uploads/2025/12/0208.jpeg
END:VEVENT
BEGIN:VEVENT
DTSTART;VALUE=DATE:20260209
DTEND;VALUE=DATE:20260211
DTSTAMP:20260421T230741
CREATED:20251214T134916Z
LAST-MODIFIED:20260206T110348Z
UID:5895-1770613200-1770699599@heavysick.co.jp
SUMMARY:月曜からたやすし
DESCRIPTION:2026年2月9日（月） 幡ヶ谷 club HEAVY SICK\n月曜からたやすし\nOpen & Start19:00\n¥1000円＋1ドリンク\n（＊ただタヤスと呑むだけの会デス）
URL:https://heavysick.co.jp/cp-bin/wordpress/events/tba-134/
ATTACH;FMTTYPE=image/jpeg:https://heavysick.co.jp/cp-bin/wordpress/wp-content/uploads/2025/12/0209.jpg
END:VEVENT
BEGIN:VEVENT
DTSTART;VALUE=DATE:20260211
DTEND;VALUE=DATE:20260213
DTSTAMP:20260421T230741
CREATED:20260118T103855Z
LAST-MODIFIED:20260123T114555Z
UID:5996-1770786000-1770872399@heavysick.co.jp
SUMMARY:FUKUWARA-iVE Episode: 1 Presented by 福笑
DESCRIPTION:2026.2.11（水・祝）\n幡ヶ谷 club heavy sick \nFUKUWARA-iVE Episode: 1\nPresented by 福笑 \nAYA\nXL\nBLOSSOM\n福笑 \nOPEN 18:30 / START 19:00 \n🎟 チケット\n通常 ¥3\,500\nスペシャル（応援） ¥4\,500\n配信 ¥2\,500 \nこの夜が、誰かの心に残るように。\n会場でも、配信でも、受け取りに来てください。 \n▶ ご予約はこちら\n【予約URL】\nhttps://premier.twitcasting.tv/g:11331249330749…/shopitems
URL:https://heavysick.co.jp/cp-bin/wordpress/events/fukuwara-ive-episode-1-presented-by-%e7%a6%8f%e7%ac%91/
ATTACH;FMTTYPE=image/jpeg:https://heavysick.co.jp/cp-bin/wordpress/wp-content/uploads/2026/01/0211-1.jpg
END:VEVENT
BEGIN:VEVENT
DTSTART;VALUE=DATE:20260212
DTEND;VALUE=DATE:20260214
DTSTAMP:20260421T230741
CREATED:20251214T141503Z
LAST-MODIFIED:20260116T123638Z
UID:5897-1770872400-1770958799@heavysick.co.jp
SUMMARY:【JIVERS✴︎STOMP 】 ROCKIN' RECORD HOP Vo'46
DESCRIPTION:【JIVERS✴︎STOMP 】\nROCKIN’ RECORD HOP Vo’46\nThu. 12th. Feb.2026.\n18:30〜22:30\n@Club Heavy Sick 　(Dance-O-Rama)\n¥1\,000+1dr\n🌟【JIVERS✴︎STOMP DJ】\n☆KEN(BEAT✴︎GENERATION)\n☆Simon(man Japan clothing)\n☆SENGOKU\n☆SHOUTAROU\n(JIVERS✴︎STOMP)\n☆KANATA(JIVERS✴︎STOMP)\n🌟 【Shop】\nLovy Light✴︎\nhttps://lovylight.base.shop/\n🌟【Beginners Dance Lesson】\n18:30~19:00 20:20〜20:50\n🌟 【Special Live】※投げ銭\nEnocky & The Top Hands\n🌟【Crew】\nSoyo\nHiromi\,O\nKANATA\nKayomi\n🌟2月から新たにDJとして加わったSHOUTAROU!!!! Cool&Wild\,Primitive.Rockabilly\,etc、時にはSweetな選曲で貴方の心を毎月揺すぶりかけます💕\n🌟ENOCKY & THE TOP HANDS(エノッキー\,トネーロ、大澤公則）\n⚫︎ロッキン・エノッキーは海外からの評価も高いエレキ・インスト、サーフ・ロック・バンド、JACKIE and THE CEDRICSのギタリスト。\nトゥワンギーなギター＆味わい深いヴォーカルは必見！\nテキサスにて、2025年度の”Western Swing Hero”に受賞される。\n⚫︎トネーロ（WBass/ハッチハッチェルバンド、TOKYO LOCALS etc.）、\n⚫︎大澤公則（Dr/from カンザスシティバンド、bloodest saxophone　etc.)\nと共にトリオでの演奏！\nロックンロール、ホンキートンク、ウェスタンスウィングを融合させた、唯一無二なリサイクル精神バンド！\n⚠️お客様へ。Entrance料金を破格値とさせて頂いてます。（毎月キツキツww😅）皆様その分、各BANDさんへのChipのご協力の方宜しくお願い致します🙇‍♂️
URL:https://heavysick.co.jp/cp-bin/wordpress/events/jivers-stomp-10/
ATTACH;FMTTYPE=image/jpeg:https://heavysick.co.jp/cp-bin/wordpress/wp-content/uploads/2025/12/0212.jpg
END:VEVENT
BEGIN:VEVENT
DTSTART;TZID=Asia/Tokyo:20260212T080000
DTEND;TZID=Asia/Tokyo:20260212T170000
DTSTAMP:20260421T230741
CREATED:20260212T132907Z
LAST-MODIFIED:20260212T132907Z
UID:6052-1770883200-1770915600@heavysick.co.jp
SUMMARY:MODSiCK
DESCRIPTION:6月7日（日）club HEAVY SiCK\nMODSiCK\nBB & the Beppins\nThe Bit\nThe Boing\nThe In Sound\nMOUSE\n安藤模亜とスーパーダンディーズ\nDJ\nUCHIYAMA（THE BEAT CAVE）\nMANJI（HIGH STYLE）\nOpen & Start 17:30\nADV ¥2\,700 + 1drink\nDOOR ¥3\,000 + 1drink\n前売り予約はclub＠heavysick.co.jp
URL:https://heavysick.co.jp/cp-bin/wordpress/events/modsick/
ATTACH;FMTTYPE=image/jpeg:https://heavysick.co.jp/cp-bin/wordpress/wp-content/uploads/2026/02/0607.jpg
END:VEVENT
BEGIN:VEVENT
DTSTART;VALUE=DATE:20260213
DTEND;VALUE=DATE:20260215
DTSTAMP:20260421T230741
CREATED:20251214T141528Z
LAST-MODIFIED:20260106T052127Z
UID:5900-1770958800-1771045199@heavysick.co.jp
SUMMARY:NAOKI弾き語りワンマンライブ
DESCRIPTION:2/13（金）　幡ヶ谷 club HEAVY SICK\nNAOKI弾き語りワンマンライブ \n出演\nNAOKI（SA）\nOpen 19:00 Start 19:30\n前売¥3\,400+1drink\n当日¥3\,900+1drink\n前売り予約は mailto:club@heavysick.co.jpまで
URL:https://heavysick.co.jp/cp-bin/wordpress/events/tba-135/
ATTACH;FMTTYPE=image/jpeg:https://heavysick.co.jp/cp-bin/wordpress/wp-content/uploads/2025/12/0213.jpg
END:VEVENT
BEGIN:VEVENT
DTSTART;VALUE=DATE:20260214
DTEND;VALUE=DATE:20260216
DTSTAMP:20260421T230741
CREATED:20251214T141608Z
LAST-MODIFIED:20260122T104021Z
UID:5903-1771045200-1771131599@heavysick.co.jp
SUMMARY:GO!GO!GO! vol.22 〜Valentine’s Day Special Two-Man Show〜
DESCRIPTION:2026.2.14 sat\nat. HATAGAYA CLUB HEAVY SICK\nopen/start 19:00\nadv/door ¥3000/¥3500+1drink¥600 \n・LIVE\nJOHNNY PANDORA\nThe Paint It Blue \n・SPECIAL GUEST\nTOMMY神田 \n・DJ\nTAMAE (ponytailz) \n-info-\nHATAGAYA CLUB HEAVY SICK\nTEL 03-3466-1445\nhttp://www.heavysick.co.jp/club/index.html
URL:https://heavysick.co.jp/cp-bin/wordpress/events/tba-136/
ATTACH;FMTTYPE=image/jpeg:https://heavysick.co.jp/cp-bin/wordpress/wp-content/uploads/2025/12/0214.jpg
END:VEVENT
BEGIN:VEVENT
DTSTART;VALUE=DATE:20260215
DTEND;VALUE=DATE:20260217
DTSTAMP:20260421T230741
CREATED:20260117T134709Z
LAST-MODIFIED:20260130T102935Z
UID:5982-1771131600-1771217999@heavysick.co.jp
SUMMARY:BLACK HOLE Presents GOLPE from Italy Japan Tour 2026
DESCRIPTION:2月15日(日)\n幡ヶ谷 club Heavy Sick \nBLACK HOLE Presents\nGOLPE from Italy Japan Tour 2026 \nGolpe (from Milan)\nActual Fear(from Mississippi)\nBlack and White\nEncroached\nKlonns \nOpen 6pm / Start 6:30pm\nAdv 3\,000yen + 1drink\nDoor 3\,500yen + 1drink
URL:https://heavysick.co.jp/cp-bin/wordpress/events/tba-124/
ATTACH;FMTTYPE=image/jpeg:https://heavysick.co.jp/cp-bin/wordpress/wp-content/uploads/2026/01/0215.jpg
END:VEVENT
BEGIN:VEVENT
DTSTART;VALUE=DATE:20260219
DTEND;VALUE=DATE:20260221
DTSTAMP:20260421T230741
CREATED:20251127T124959Z
LAST-MODIFIED:20251127T124959Z
UID:5776-1771477200-1771563599@heavysick.co.jp
SUMMARY:骨のうたう　其の四
DESCRIPTION:骨のうたう　其の四\n2026年２月19日(木)\n幡ヶ谷クラブ・ヘビーシック(Bar スペース内)\nOPEN19:00/START19:30\n要1ドリンク 投げ銭 \n出演\n高田拓実DUO(w/KEIJI RONSON Eg)\n三輪二郎(Vo\,Gt)\n佐古勇気(Vo\,Gt)
URL:https://heavysick.co.jp/cp-bin/wordpress/events/%e9%aa%a8%e3%81%ae%e3%81%86%e3%81%9f%e3%81%86%e3%80%80%e5%85%b6%e3%81%ae%e5%9b%9b/
ATTACH;FMTTYPE=image/jpeg:https://heavysick.co.jp/cp-bin/wordpress/wp-content/uploads/2025/11/0219.jpg
END:VEVENT
BEGIN:VEVENT
DTSTART;VALUE=DATE:20260220
DTEND;VALUE=DATE:20260222
DTSTAMP:20260421T230741
CREATED:20251214T143724Z
LAST-MODIFIED:20260130T112646Z
UID:5905-1771563600-1771649999@heavysick.co.jp
SUMMARY:グレマンカオルプレゼンツ Chunkey Time 特別編 -思いっきり黒いDJ大会＆Tシャツ大放出3-
DESCRIPTION:グレマンカオルプレゼンツ\nChunkey Time 特別編\n-思いっきり黒いDJ大会＆Tシャツ大放出3- \nCLUB HEAVY SICK(Hatagaya\,TOKYO)\n・2026年2月20日(金)\n・OPEN/START:19:00-\n・入場無料＋1Dオーダー \n【DJ】\n・Kaoru(Chunkey Times)\n・Peynet(THE TENGLERS)\n・BB Clarke(BB & the Beppins)\n・Akita Slim(Long Tall Records)\n・kub(K. SHARPS BAND)\n・Little T(Pinch Hitter)
URL:https://heavysick.co.jp/cp-bin/wordpress/events/tba-137/
ATTACH;FMTTYPE=image/jpeg:https://heavysick.co.jp/cp-bin/wordpress/wp-content/uploads/2025/12/0220-1.jpg
END:VEVENT
BEGIN:VEVENT
DTSTART;VALUE=DATE:20260221
DTEND;VALUE=DATE:20260223
DTSTAMP:20260421T230741
CREATED:20251214T143818Z
LAST-MODIFIED:20260117T142021Z
UID:5907-1771650000-1771736399@heavysick.co.jp
SUMMARY:Sick Live
DESCRIPTION:2.21 saturday Club HEAVY SICK\nSick Live \nBilli\n環七スピードキャッツ\nThe ノーフューチャーズ\nZEN DISTORT\na sox \nOpen 18:00 Start 18:30\nADV ¥2\,600 + 1drink DOOR ¥3\,000 + 1drink \n前売り予約はclub＠heavysick.co.jpまたは各出演者まで
URL:https://heavysick.co.jp/cp-bin/wordpress/events/tba-138/
ATTACH;FMTTYPE=image/jpeg:https://heavysick.co.jp/cp-bin/wordpress/wp-content/uploads/2025/12/0221.jpg
END:VEVENT
BEGIN:VEVENT
DTSTART;VALUE=DATE:20260222
DTEND;VALUE=DATE:20260224
DTSTAMP:20260421T230741
CREATED:20251214T143843Z
LAST-MODIFIED:20260117T135954Z
UID:5909-1771736400-1771822799@heavysick.co.jp
SUMMARY:Do the 最高Things
DESCRIPTION:Do the 最高Things \n  \n料金：ticket 500 円　＋１Drink\nOpen:13：00　Start：13:30
URL:https://heavysick.co.jp/cp-bin/wordpress/events/tba-139/
ATTACH;FMTTYPE=image/jpeg:https://heavysick.co.jp/cp-bin/wordpress/wp-content/uploads/2025/12/0222.jpg
END:VEVENT
BEGIN:VEVENT
DTSTART;VALUE=DATE:20260222
DTEND;VALUE=DATE:20260224
DTSTAMP:20260421T230741
CREATED:20260214T080856Z
LAST-MODIFIED:20260214T085726Z
UID:6061-1771736400-1771822799@heavysick.co.jp
SUMMARY:Jumpin' Flag and Friends
DESCRIPTION:2月22日（日） 幡ヶ谷 CLUB HEAVY SICK \nJumpin’ Flag and Friends \nInsuRock\nPsychedelic MID Band\nJumpin’Flag \n入場無料（要1ドリンク）\n19:20 START \n 
URL:https://heavysick.co.jp/cp-bin/wordpress/events/jumpin-flag-and-friends/
ATTACH;FMTTYPE=application/pdf:https://heavysick.co.jp/cp-bin/wordpress/wp-content/uploads/2026/02/0222後半.pdf
END:VEVENT
BEGIN:VEVENT
DTSTART;VALUE=DATE:20260223
DTEND;VALUE=DATE:20260225
DTSTAMP:20260421T230741
CREATED:20251205T133132Z
LAST-MODIFIED:20251205T133456Z
UID:5821-1771822800-1771909199@heavysick.co.jp
SUMMARY:SICKMANA
DESCRIPTION:2026年2月23日（月・祝）\n幡ヶ谷 club HEAVY SíCK\nSICKMANA \nTHE SPANISH BARROW’IN GUITAR\nJESSY\nHOT & COOL\nOpen 18:00\nStart 18:30\nADV ¥2\,700 + 1drink\nDOOR ¥3\,000 +1drink
URL:https://heavysick.co.jp/cp-bin/wordpress/events/sickmana/
ATTACH;FMTTYPE=image/jpeg:https://heavysick.co.jp/cp-bin/wordpress/wp-content/uploads/2025/12/0223.jpg
END:VEVENT
BEGIN:VEVENT
DTSTART;VALUE=DATE:20260226
DTEND;VALUE=DATE:20260228
DTSTAMP:20260421T230741
CREATED:20251214T143933Z
LAST-MODIFIED:20260214T143420Z
UID:5911-1772082000-1772168399@heavysick.co.jp
SUMMARY:SWINGIN' JIVIN'
DESCRIPTION:2026/2/26(木)\nSwingin’ Jivin’ \n<LIVE >\n矢野忠と青空ロマンス楽団 \n<DJ>\nTatarin\nMasaru Honma\nMasami Watanabe\n(the fascinations) \n<Dance Work Shop>\nELOVIS SATO \n〈Crew〉\nHiromi \n〈OPEN〉19:00\n〈Door〉1\,000yen + 1Drink
URL:https://heavysick.co.jp/cp-bin/wordpress/events/swingin-jivin-14/
ATTACH;FMTTYPE=image/jpeg:https://heavysick.co.jp/cp-bin/wordpress/wp-content/uploads/2025/12/0226-1.jpg
END:VEVENT
BEGIN:VEVENT
DTSTART;VALUE=DATE:20260227
DTEND;VALUE=DATE:20260301
DTSTAMP:20260421T230741
CREATED:20251214T144014Z
LAST-MODIFIED:20260213T111209Z
UID:5913-1772168400-1772254799@heavysick.co.jp
SUMMARY:BAR HEAVY SICK
DESCRIPTION:2026.02.27 Fri.\nBAR HEAVY SICK\nOpen / Start 18:30\nno charge +1drink order \n中村ジョー 弾き語りLIVE！(投げ銭制) \nDJs\nChiggy\nEtsuko\nsister*m\n菅野カズシゲ\nakiii（after school mates）\ntete
URL:https://heavysick.co.jp/cp-bin/wordpress/events/tba-140/
ATTACH;FMTTYPE=image/jpeg:https://heavysick.co.jp/cp-bin/wordpress/wp-content/uploads/2025/12/0227.jpg
END:VEVENT
BEGIN:VEVENT
DTSTART;VALUE=DATE:20260228
DTEND;VALUE=DATE:20260302
DTSTAMP:20260421T230741
CREATED:20251214T144049Z
LAST-MODIFIED:20260213T112952Z
UID:5915-1772254800-1772341199@heavysick.co.jp
SUMMARY:What We Do is NOT Secret presents
DESCRIPTION:What We Do is NOT Secret presents \n2/28 (土)\nat Club Heavy Sick\nAdv ¥2500 / Door ¥3000 (+1 drink) \n◆Balladmen\n◆K. Sharps Band\n◆Rockin’ Enocky\n◆Talent Show\n◆Barks Barks \nDJs\nHajime (Mule Team)\nKummy Beach
URL:https://heavysick.co.jp/cp-bin/wordpress/events/tba-141/
ATTACH;FMTTYPE=image/jpeg:https://heavysick.co.jp/cp-bin/wordpress/wp-content/uploads/2025/12/0228.jpg
END:VEVENT
BEGIN:VEVENT
DTSTART;VALUE=DATE:20260301
DTEND;VALUE=DATE:20260303
DTSTAMP:20260421T230741
CREATED:20251206T053541Z
LAST-MODIFIED:20251226T120000Z
UID:5834-1772341200-1772427599@heavysick.co.jp
SUMMARY:あくまのよる 第七夜
DESCRIPTION:2026年3月1日（日） 幡ヶ谷Club HEAVY SICK\nあくまのよる 第七夜 \nOpen 17:30 Start 18:00\nADY ¥2.700+1drink\nDOOR ¥3.000+ 1drink \nMARBLE SHEEP\nBAREBONES\nkyo&ko2rock\nSithter
URL:https://heavysick.co.jp/cp-bin/wordpress/events/tba-74/
ATTACH;FMTTYPE=image/jpeg:https://heavysick.co.jp/cp-bin/wordpress/wp-content/uploads/2025/12/0301.jpg
END:VEVENT
BEGIN:VEVENT
DTSTART;VALUE=DATE:20260305
DTEND;VALUE=DATE:20260307
DTSTAMP:20260421T230741
CREATED:20260219T101307Z
LAST-MODIFIED:20260219T101307Z
UID:6085-1772686800-1772773199@heavysick.co.jp
SUMMARY:CRAZY RANDOMS VOL. 19
DESCRIPTION:CRAZY RANDOMS VOL. 19 \n・CLUB HEAVY SICK\n・（木） 3月5日\n・OPEN/START 19:30\n・ENTRANCE：1\,000+ 1 DRINK \nSpecial Live:\nUgly Species (Germany) \n[DJ’s]\n-Robinson\n-Ikb SkatePsychos (D.T.F.S!!! Records)\n-Iori (Hi-Nomady)\n-Mary Scream
URL:https://heavysick.co.jp/cp-bin/wordpress/events/crazy-randoms-vol-19/
ATTACH;FMTTYPE=image/jpeg:https://heavysick.co.jp/cp-bin/wordpress/wp-content/uploads/2026/02/0305a.jpg
END:VEVENT
BEGIN:VEVENT
DTSTART;VALUE=DATE:20260306
DTEND;VALUE=DATE:20260308
DTSTAMP:20260421T230741
CREATED:20260130T100014Z
LAST-MODIFIED:20260130T100014Z
UID:6018-1772773200-1772859599@heavysick.co.jp
SUMMARY:【Opening DJ PARTY】HAPPY BIRTHDAY!!! JOE ALCOHOL & EDDIE ALCOHOL 13th memorial PHOTO EXHIBITION
DESCRIPTION:3月6日（金） club HEAVY SICK \nHAPPY BIRTHDAY!!! JOE ALCOHOL & EDDIE ALCOHOL 13th memorial PHOTO EXHIBITION \nOpening DJ PARTY \nDJs\nAi（Bators Madness）\nDISCOMAN （Discoteca uomo)\nOGG （DARK THE GIANT）\nKAME（ROCK JUICE\, マキニカリス）\nKEIJI RONSON（velvetsound\, THE STRANGE MOON） \n18:30-22:30\n要1drink order \n2日違いで、同じ病院で生まれたJOE ALCOHLとEDDIE ALCOHOLの誕生日とEDDIE ALCOHOLの13回忌を記念し、菊池 茂夫氏写真展を2026.3.6（金）→ 3.13 （金）までclub Heavy Sickで開催いたします。 \nその初日である3月6日（金）は上記のDJが入ります。
URL:https://heavysick.co.jp/cp-bin/wordpress/events/%e3%80%90opening-dj-party%e3%80%91happy-birthday-joe-alcohol-eddie-alcohol-13th-memorial-photo-exhibition/
ATTACH;FMTTYPE=image/jpeg:https://heavysick.co.jp/cp-bin/wordpress/wp-content/uploads/2026/01/0306a.jpg
END:VEVENT
BEGIN:VEVENT
DTSTART;VALUE=DATE:20260306
DTEND;VALUE=DATE:20260315
DTSTAMP:20260421T230741
CREATED:20251206T105551Z
LAST-MODIFIED:20251213T063744Z
UID:5846-1772773200-1773464399@heavysick.co.jp
SUMMARY:HAPPY BIRTHDAY!!! JOE ALCOHOL & EDDIE ALCOHOL and EDDIE ALCOHOL 13th memorial PHOTO EXHIBITION
DESCRIPTION:HAPPY BIRTHDAY!!!\nJOE ALCOHOL & EDDIE ALCOHOL\nand\nEDDIE ALCOHOL 13th memorial\nPHOTO EXHIBITION\nphotographer Shigeo Kikuchi\n会場 Club Heavy Sick\n日程 2026.3.6（Fri）→ 3.13 （Fri）\n時間　　18:30～22:30\n料金 入場無料　※イベントがある日は、イベントの時間にて開催、また別途チャージが発生します\n2日違いで、同じ病院で生まれたJOE とEDDIE。\n俺の一生もんは「江戸ちゃんだ！」と\nJOEが語るほど深い絆で結ばれていた二人。\nその二人の誕生を祝い、写真展を行います。\nカメラマンは、長年にわたり二人の瞬間を切り取り続けた菊池 茂夫氏。\nTHE HONG KONG KNIFE時代のスタジオやステージ、そして貴重なオフショットなど、未公開カットを含む写真を公開いたします。\n2022年より不定期に行われて来た「JOE ALCOHOL写真展」ですが、\n2026年は、EDDIE氏 の13回忌と重なる為、\n二人へのメモリアルな意味合い込め開催させて頂きます。\nぜひ会場にお越しいただき、二人をお祝いするとともに\n思い出にひたって頂ければ幸いです。\n3/7にはTHE WONDERLUL WORLDも出演するライブイベントもあります。\nその他のDJイベントなど企画中です。SNSなどで最新情報を随時ご案内させていただきます。
URL:https://heavysick.co.jp/cp-bin/wordpress/events/tba-127/
ATTACH;FMTTYPE=image/jpeg:https://heavysick.co.jp/cp-bin/wordpress/wp-content/uploads/2025/12/0306.jpg
END:VEVENT
BEGIN:VEVENT
DTSTART;VALUE=DATE:20260307
DTEND;VALUE=DATE:20260309
DTSTAMP:20260421T230741
CREATED:20251206T074314Z
LAST-MODIFIED:20251213T064401Z
UID:5838-1772859600-1772945999@heavysick.co.jp
SUMMARY:⁡JOE ALCOHOL RULES
DESCRIPTION:⁡JOE ALCOHOL RULES\n3月7日(土）\n幡ヶ谷CLUB HEAVY SICK\nopen17:00 / start18:00\n前売り3\,000円(+D)\n当日3\,500円(+D)\n出演\nTHE WONDERFUL WORLD\n(guest TJK\,KOJI\,RYO\,LITTLE ELVIS RYUTA)\nJAIL GUITAR DOORS\nRANGSTEEN\nRYO(GLORY BOYS)\nDJ:SYU\,KYO(THE WONDERFUL WORLD)\n※同時開催で、3/6～3/13まで菊池茂夫さん撮影の写真展も行われます。\n⁡⁡\n⁡チケットのご予約は⁡⁡\n⁡@jamfwebshop\n各バンドにて受付中です。⁡\n⁡よろしくお願いします！⁡
URL:https://heavysick.co.jp/cp-bin/wordpress/events/tba-125/
ATTACH;FMTTYPE=image/jpeg:https://heavysick.co.jp/cp-bin/wordpress/wp-content/uploads/2025/12/0307.jpg
END:VEVENT
BEGIN:VEVENT
DTSTART;VALUE=DATE:20260308
DTEND;VALUE=DATE:20260310
DTSTAMP:20260421T230741
CREATED:20251206T084407Z
LAST-MODIFIED:20260111T141032Z
UID:5840-1772946000-1773032399@heavysick.co.jp
SUMMARY:あくまのよる 第八夜
DESCRIPTION:3月8日（日） 幡ヶ谷クラブへビーシック \nあくまのよる第八夜 \nThee Blackdoor Blues\nTHE DEAD PAN SPEAKERS THE STRANGE MOON\nジョニキチ \nOpen 17:30 Start 18:00\nADV ¥2.700+1drink\nDOOR ¥3.000+ 1drink
URL:https://heavysick.co.jp/cp-bin/wordpress/events/tba-126/
ATTACH;FMTTYPE=image/jpeg:https://heavysick.co.jp/cp-bin/wordpress/wp-content/uploads/2025/12/0308.jpg
END:VEVENT
BEGIN:VEVENT
DTSTART;VALUE=DATE:20260310
DTEND;VALUE=DATE:20260312
DTSTAMP:20260421T230741
CREATED:20260305T084216Z
LAST-MODIFIED:20260310T074547Z
UID:6132-1773118800-1773205199@heavysick.co.jp
SUMMARY:club HEAVY SiCK presents "Joe Alcohol Birthday Special !!"
DESCRIPTION:3月10日（火） club HEAVY SiCK \nclub HEAVY SiCK presents\n“Joe Alcohol Birthday Special !!” \n・WOLF\n・YOSHIYAxxx (RADIOTS\, ØUROBROS)\n・チビが二匹（KAZUKI & Go! from JUNIOR）\n・RYO（GLORY BOYS） \nACODISCO a.k.a. TORUxxx (THE STAR CLUB)は体調不良のため出演不可となりました。 \nOpen 19:00 Start 19:30\nADV ¥2\,600 +1drink\nDOOR ¥ 3\,000 +1drink\n前売り予約は club@heavysick.co.jp\, SNSのDM\, または各出演者まで \n2日違いで、同じ病院で生まれたJOE ALCOHLとEDDIE ALCOHOLの誕生日とEDDIE ALCOHOLの13回忌を記念し、菊池 茂夫氏写真展を2026.3.6（金）→ 3.13 （金）までclub Heavy Sickで開催いたします。 \nJoe Alcohol誕生日当日の3月10日（水）は豪華メンツによる弾き語りライブでJoeの誕生日をお祝いします！
URL:https://heavysick.co.jp/cp-bin/wordpress/events/club-heavy-sick-presents-joe-alcohol-birthday-special/
ATTACH;FMTTYPE=image/jpeg:https://heavysick.co.jp/cp-bin/wordpress/wp-content/uploads/2026/03/0310-2.jpg
END:VEVENT
BEGIN:VEVENT
DTSTART;VALUE=DATE:20260312
DTEND;VALUE=DATE:20260314
DTSTAMP:20260421T230741
CREATED:20251206T110031Z
LAST-MODIFIED:20260305T083839Z
UID:5848-1773291600-1773377999@heavysick.co.jp
SUMMARY:【JIVERS✴︎STOMP 】 ROCKIN' RECORD HOP Vo'47
DESCRIPTION:【JIVERS✴︎STOMP 】\nROCKIN’ RECORD HOP Vo’47\nThu. 12th. Mar.2026.\n18:30〜22:30\n@Club Heavy Sick 　(Dance-O-Rama)\n¥1\,000+1dr\n🌟GUEST.DJ 🌟\n☆KOZOONY!!\n（MONSTER BILLY ATTACK）\n🌟【JIVERS✴︎STOMP DJ】\n☆KEN\n(BEAT✴︎GENERATION)\n☆Simon\n(man Japan clothing)\n☆TAMAE\n(ponytailz)\n☆SHOUTAROU\n(JIVERS✴︎STOMP)\n☆KANATA\n(JIVERS✴︎STOMP)\n🌟 【Shop】\nLovy Light✴︎\nhttps://lovylight.base.shop/\n🌟【Beginners Dance Lesson】\n18:30~19:00 20:20〜20:50\n🌟【Crew】\nSoyo\nHiromi\,O\nKANATA\nKayomi
URL:https://heavysick.co.jp/cp-bin/wordpress/events/tba-128/
ATTACH;FMTTYPE=image/jpeg:https://heavysick.co.jp/cp-bin/wordpress/wp-content/uploads/2025/12/0312.jpeg
END:VEVENT
BEGIN:VEVENT
DTSTART;VALUE=DATE:20260313
DTEND;VALUE=DATE:20260315
DTSTAMP:20260421T230741
CREATED:20251121T133411Z
LAST-MODIFIED:20251121T133427Z
UID:5745-1773378000-1773464399@heavysick.co.jp
SUMMARY:ロックンロールアニマル 〜弾き語りナイト〜
DESCRIPTION:2026年3月13日（金）\nclub HEAVY SICK\nロックンロールアニマル 〜弾き語りナイト〜 \nKeiji Ronson（velvetsound\, the STRANGE MOON）\nKin（the GOD\, Billi etc）\nKoji（RANGSTEEN）\nTakashi Matsui（blackdada）\n年見築（すてばち） \nOpen & Start 19:00\n¥1\,000 + 1drink \n※投げ銭あり
URL:https://heavysick.co.jp/cp-bin/wordpress/events/%e3%83%ad%e3%83%83%e3%82%af%e3%83%b3%e3%83%ad%e3%83%bc%e3%83%ab%e3%82%a2%e3%83%8b%e3%83%9e%e3%83%ab-%e3%80%9c%e5%bc%be%e3%81%8d%e8%aa%9e%e3%82%8a%e3%83%8a%e3%82%a4%e3%83%88%e3%80%9c/
ATTACH;FMTTYPE=image/jpeg:https://heavysick.co.jp/cp-bin/wordpress/wp-content/uploads/2025/11/0313.jpg
END:VEVENT
END:VCALENDAR