BEGIN:VCALENDAR
VERSION:2.0
PRODID:-//SCHEDULE - ECPv6.15.14//NONSGML v1.0//EN
CALSCALE:GREGORIAN
METHOD:PUBLISH
X-ORIGINAL-URL:https://heavysick.co.jp/cp-bin/wordpress
X-WR-CALDESC:SCHEDULE のイベント
REFRESH-INTERVAL;VALUE=DURATION:PT1H
X-Robots-Tag:noindex
X-PUBLISHED-TTL:PT1H
BEGIN:VTIMEZONE
TZID:Asia/Tokyo
BEGIN:STANDARD
TZOFFSETFROM:+0900
TZOFFSETTO:+0900
TZNAME:JST
DTSTART:20240101T000000
END:STANDARD
END:VTIMEZONE
BEGIN:VEVENT
DTSTART;VALUE=DATE:20250131
DTEND;VALUE=DATE:20250202
DTSTAMP:20260422T200546
CREATED:20241130T070016Z
LAST-MODIFIED:20241130T070802Z
UID:4604-1738299600-1738385999@heavysick.co.jp
SUMMARY:forever JOE ALCOHOL 2025 ”RAMBLING JET BLUES CITY"
DESCRIPTION:forever JOE ALCOHOL 2025\n”RAMBLING JET BLUES CITY” \nDay-1\n1/31(fri) STILL ALIVE in the 幡ヶ谷 club HEAVY SICK \nLonely Planet Jet Boys(オノチン＆セキちゃん)\nBAREBONES\nWOLF\nACODISCO feat. TORU WOLF \n●SHOP\nJ.A.M.F. \n●写真展\n菊池茂夫 \nOPEN 18:30 START 19:00 \n●adv ¥3\,000 (+1d)\nhttps://clubheavysick.stores.jp/items/6724b5237dd1ee0c14d9bd29\n●U25 ¥2\,500 (+1d)\nhttps://clubheavysick.stores.jp/items/6724b5d85348c50c0838fcc3\n●U18 ¥1\,500 (+1d)\nhttps://clubheavysick.stores.jp/items/6724b62a7dd1ee0c39d9bdc8\n●U12 ¥FREE \n●day ¥3\,500 (+1d)
URL:https://heavysick.co.jp/cp-bin/wordpress/events/forever-joe-alcohol-2025-rambling-jet-blues-city/
ATTACH;FMTTYPE=image/jpeg:https://heavysick.co.jp/cp-bin/wordpress/wp-content/uploads/2024/11/0131.jpg
END:VEVENT
BEGIN:VEVENT
DTSTART;VALUE=DATE:20250201
DTEND;VALUE=DATE:20250203
DTSTAMP:20260422T200546
CREATED:20241130T071253Z
LAST-MODIFIED:20241130T071354Z
UID:4611-1738386000-1738472399@heavysick.co.jp
SUMMARY:Rock 'n' roll genius! vo.1
DESCRIPTION:2月1日（土）\nRock ‘n’ roll genius! vo.1 \nOPEN 18:00 START 18:30\nADV ¥2\,000÷D/ DOOR ¥2\,500+D \nDick’s Backyard\nthe BACKDROPS\nGETHAPPY\nfabtones
URL:https://heavysick.co.jp/cp-bin/wordpress/events/rock-n-roll-genius-vo-1/
ATTACH;FMTTYPE=image/jpeg:https://heavysick.co.jp/cp-bin/wordpress/wp-content/uploads/2024/11/0201.jpg
END:VEVENT
BEGIN:VEVENT
DTSTART;VALUE=DATE:20250202
DTEND;VALUE=DATE:20250204
DTSTAMP:20260422T200546
CREATED:20241130T071447Z
LAST-MODIFIED:20250202T074947Z
UID:4615-1738472400-1738558799@heavysick.co.jp
SUMMARY:ロックンロールアニマル
DESCRIPTION:2月2日（日） \nロックンロールアニマル \nすてばち\n三光→キャンセル\nマキニカリス\nThee BlackDoor Blues\nふじき \nOpen 18:00 Start 18:30\nADV ¥2\,600+1drink\nDOOR ¥3\,000+1drink
URL:https://heavysick.co.jp/cp-bin/wordpress/events/tba-11/
ATTACH;FMTTYPE=image/jpeg:https://heavysick.co.jp/cp-bin/wordpress/wp-content/uploads/2024/11/0202→変更.jpg
END:VEVENT
BEGIN:VEVENT
DTSTART;VALUE=DATE:20250204
DTEND;VALUE=DATE:20250206
DTSTAMP:20260422T200546
CREATED:20250121T064510Z
LAST-MODIFIED:20250131T110734Z
UID:4790-1738645200-1738731599@heavysick.co.jp
SUMMARY:BAR HEAVY SICK SWAMP VS HARD ROCK
DESCRIPTION:2/4（火）\nBAR HEAVY SICK\nSWAMP VS HARD ROCK \nDJs:\nNorogaru\nAi (Bators Madness)\nKame\nKummy(Beach Cat Club)\nNao Nao(Beach Cat Club/Eus Reginas) \nケサディーヤ販売しまーす！！
URL:https://heavysick.co.jp/cp-bin/wordpress/events/tba-8/
ATTACH;FMTTYPE=image/jpeg:https://heavysick.co.jp/cp-bin/wordpress/wp-content/uploads/2025/01/0204.jpg
END:VEVENT
BEGIN:VEVENT
DTSTART;VALUE=DATE:20250207
DTEND;VALUE=DATE:20250209
DTSTAMP:20260422T200546
CREATED:20250121T072354Z
LAST-MODIFIED:20250201T141019Z
UID:4792-1738904400-1738990799@heavysick.co.jp
SUMMARY:BAR HEAVY SICK "'Just Like Honey"
DESCRIPTION:2/7（金）\nBAR HEAVY SICK “‘Just Like Honey” \nDJs:\nROMI\nHIROSHI\nCHIEKO\nKSUKE\nMAYUTAN\nROBERT\nAYA \nOPEN 18:00（ノーチャージ・要1ドリンク）
URL:https://heavysick.co.jp/cp-bin/wordpress/events/tba-35/
ATTACH;FMTTYPE=image/jpeg:https://heavysick.co.jp/cp-bin/wordpress/wp-content/uploads/2025/01/0207.jpg
END:VEVENT
BEGIN:VEVENT
DTSTART;VALUE=DATE:20250208
DTEND;VALUE=DATE:20250210
DTSTAMP:20260422T200546
CREATED:20241130T071559Z
LAST-MODIFIED:20250107T130827Z
UID:4617-1738990800-1739077199@heavysick.co.jp
SUMMARY:"Date With The Cramps"
DESCRIPTION:“Date With The Cramps”\n2025 Feb/8th\nAt Hatagaya Club Heavy Sick\nAdv: 2\,800yen Door: 3\,300yen\n: Bands\n・The Radios\n・The Fadeaways\n・Bobby’s Bar\n・Saturns\n・The Schizophonics (From San Diego)\n・Mitchy Dead\n: DJs\n・Daddy-O-Nov (Back From The Grave Returns)\n・Miyakawa (The Psyclocks)\n・Ikb Skate Psychos (D.T.F.S!!! Records)
URL:https://heavysick.co.jp/cp-bin/wordpress/events/tba-12/
ATTACH;FMTTYPE=image/jpeg:https://heavysick.co.jp/cp-bin/wordpress/wp-content/uploads/2024/11/0208.jpg
END:VEVENT
BEGIN:VEVENT
DTSTART;VALUE=DATE:20250209
DTEND;VALUE=DATE:20250211
DTSTAMP:20260422T200546
CREATED:20241130T072116Z
LAST-MODIFIED:20250111T060606Z
UID:4619-1739077200-1739163599@heavysick.co.jp
SUMMARY:OUT SIDE SOUL Vol.22
DESCRIPTION:2月9日(日)\n幡ヶ谷club HEAVY SICK\n「OUT SIDE SOUL Vol.22」 \n【出演】\nマンホール\nゴールデンシルバーズ\nshe’s\nHey \nOPEN18:00/START18:30\nCHARGE¥2500(+1D)
URL:https://heavysick.co.jp/cp-bin/wordpress/events/tba-13/
ATTACH;FMTTYPE=image/jpeg:https://heavysick.co.jp/cp-bin/wordpress/wp-content/uploads/2024/11/0209.jpg
END:VEVENT
BEGIN:VEVENT
DTSTART;VALUE=DATE:20250211
DTEND;VALUE=DATE:20250213
DTSTAMP:20260422T200546
CREATED:20241130T072253Z
LAST-MODIFIED:20250121T075757Z
UID:4621-1739250000-1739336399@heavysick.co.jp
SUMMARY:Yumily&The Trupes Presents 「Sweet Sweet My Valentine」vol.3
DESCRIPTION:Yumily&The Trupes Presents\n「Sweet Sweet My Valentine」vol.3 \n2月11日(火祝) 18:00 〜\n@ 幡ヶ谷heavy sick\nadv/door 2500/3000yen + 1d order \nLive\nYumily&The Trupes\nFalling Sugar\nTHE HEADGEARS\nDirty Rogues \nDJ\nRyu Oldham (Maximum R&B)\nMidori(The Revolting)\nArisa \n 
URL:https://heavysick.co.jp/cp-bin/wordpress/events/tba-14/
ATTACH;FMTTYPE=image/jpeg:https://heavysick.co.jp/cp-bin/wordpress/wp-content/uploads/2024/11/0211.jpg
END:VEVENT
BEGIN:VEVENT
DTSTART;VALUE=DATE:20250213
DTEND;VALUE=DATE:20250215
DTSTAMP:20260422T200546
CREATED:20241130T072527Z
LAST-MODIFIED:20250213T060134Z
UID:4623-1739422800-1739509199@heavysick.co.jp
SUMMARY:JIVERS STOMP Vo'34
DESCRIPTION:JIVERS STOMP Vo’34\nThursday.13th.Feb.2025\n18:30~22:30\n@Club Heavy Sick\n(Dance-O-Rama)\n¥1\,000+1dr \n【DJ】\n⚫︎KEN\n(BEAT✴︎GENERATION)\n⚫︎Simon\n(man Japan clothing)\n⚫︎TSUBASA\n(HYDRO STOMPERS)\n⚫︎ SENGOKU \n✴︎ROCKIN JIVE LESSON\n（Ken&Hiromi\,O)\n20:20〜20:50 \n✴︎Crew\nSoyo\nHiromi\,O\nTomomi\nhira_masa\nTsukasaEdwardian\n(59Rockers)
URL:https://heavysick.co.jp/cp-bin/wordpress/events/jivers-stomp-2/
ATTACH;FMTTYPE=image/jpeg:https://heavysick.co.jp/cp-bin/wordpress/wp-content/uploads/2024/11/0213.jpg
END:VEVENT
BEGIN:VEVENT
DTSTART;VALUE=DATE:20250214
DTEND;VALUE=DATE:20250216
DTSTAMP:20260422T200546
CREATED:20241130T072709Z
LAST-MODIFIED:20250201T140457Z
UID:4625-1739509200-1739595599@heavysick.co.jp
SUMMARY:BAR HEAVY SICK -女だらけの...-
DESCRIPTION:2/14（金）\nBAR HEAVY SICK -女だらけの…- \nDJs:\nAYAKO\nBABY CAT FACE\nCHIEKO\nTOMOKO\nIZUMI\nKAZU\nAYA \nOPEN 18:00（ーチャージ・要1ドンク）
URL:https://heavysick.co.jp/cp-bin/wordpress/events/tba-15/
ATTACH;FMTTYPE=image/jpeg:https://heavysick.co.jp/cp-bin/wordpress/wp-content/uploads/2024/11/0214.jpg
END:VEVENT
BEGIN:VEVENT
DTSTART;VALUE=DATE:20250215
DTEND;VALUE=DATE:20250217
DTSTAMP:20260422T200546
CREATED:20241130T073028Z
LAST-MODIFIED:20241222T071216Z
UID:4627-1739595600-1739681999@heavysick.co.jp
SUMMARY:SiCKViLLE TOKYO
DESCRIPTION:2月15日（土）　club HEAVY SICK\nSiCKViLLE TOKYO \nSANDIEST\nFreedom Suite\nHigh Style \nDJ\nUchiyama（The Beat Cave）\nHiroshi（the KNOCKS\, FLASHLIGHTS） \nOpen 18:00 Start 18:30\nADV ¥2\,800+1drink\nDOOR ¥3\,000+1drink
URL:https://heavysick.co.jp/cp-bin/wordpress/events/tba-16/
ATTACH;FMTTYPE=image/jpeg:https://heavysick.co.jp/cp-bin/wordpress/wp-content/uploads/2024/11/0215.jpg
END:VEVENT
BEGIN:VEVENT
DTSTART;VALUE=DATE:20250216
DTEND;VALUE=DATE:20250218
DTSTAMP:20260422T200546
CREATED:20241130T073250Z
LAST-MODIFIED:20250113T071354Z
UID:4629-1739682000-1739768399@heavysick.co.jp
SUMMARY:What We Do is NOT Secret Presents
DESCRIPTION:2/16（日）\nWhat We Do is NOT Secret Presents \n中村ジョー＆リトルイーストウッズ\nMotel’s Sofa\nthe LONELY\nChika Feldie \nDJ カミ・ロドリゲス \nOpen 18:30 / Start 19:00\n¥2500 adv / ¥3000 door (plus 1 dr)
URL:https://heavysick.co.jp/cp-bin/wordpress/events/tba-17/
ATTACH;FMTTYPE=image/jpeg:https://heavysick.co.jp/cp-bin/wordpress/wp-content/uploads/2024/11/0216.jpg
END:VEVENT
BEGIN:VEVENT
DTSTART;TZID=Asia/Tokyo:20250221T080000
DTEND;TZID=Asia/Tokyo:20250221T170000
DTSTAMP:20260422T200546
CREATED:20250221T081440Z
LAST-MODIFIED:20250221T090746Z
UID:4900-1740124800-1740157200@heavysick.co.jp
SUMMARY:幡ヶ谷 SICK BLUES
DESCRIPTION:5月4日 日曜日　club Heavy Sick \n幡ヶ谷 SICK BLUES \nブルース・ジャンキーズ\nFUCKIN’ GOOD BROTHERS\ntheIGNORANTS\nPeace Smokers\n三光 \nOpen 17:30 Start 18:00 \nADV ¥2\,600 +1drink\nDOOR ¥3\,000 +1drink
URL:https://heavysick.co.jp/cp-bin/wordpress/events/%e5%b9%a1%e3%83%b6%e8%b0%b7-sick-blues/
END:VEVENT
BEGIN:VEVENT
DTSTART;TZID=Asia/Tokyo:20250221T170000
DTEND;TZID=Asia/Tokyo:20250221T223000
DTSTAMP:20260422T200546
CREATED:20250105T113834Z
LAST-MODIFIED:20250105T114032Z
UID:4749-1740157200-1740177000@heavysick.co.jp
SUMMARY:ChunkeyTime Vol.9前夜祭DJ Party 10歳の天才少女画家ココちゃん作品展示会
DESCRIPTION:ChunkeyTime Vol.9前夜祭DJ Party\n10歳の天才少女画家ココちゃん作品展示会 \nCLUB HEAVY SICK(Hatagaya\,TOKYO)\n・2025年2月21日(金)\n・OPEN:17:00/START:19:00\n・入場無料＋1D\n・ココちゃん似顔絵大会あり \n[DJ]\n・AKKO\n・タムラ⭐︎アキラ\n・Billy Trash(Edwoods)\n・Akita Slim(Long Tall Records) \n  \n 
URL:https://heavysick.co.jp/cp-bin/wordpress/events/chunkeytime-vol-9%e5%89%8d%e5%a4%9c%e7%a5%addj-party-10%e6%ad%b3%e3%81%ae%e5%a4%a9%e6%89%8d%e5%b0%91%e5%a5%b3%e7%94%bb%e5%ae%b6%e3%82%b3%e3%82%b3%e3%81%a1%e3%82%83%e3%82%93%e4%bd%9c%e5%93%81%e5%b1%95/
ATTACH;FMTTYPE=image/jpeg:https://heavysick.co.jp/cp-bin/wordpress/wp-content/uploads/2024/11/0221.jpg
END:VEVENT
BEGIN:VEVENT
DTSTART;VALUE=DATE:20250222
DTEND;VALUE=DATE:20250224
DTSTAMP:20260422T200546
CREATED:20241130T073858Z
LAST-MODIFIED:20250105T113705Z
UID:4631-1740200400-1740286799@heavysick.co.jp
SUMMARY:グレマンカオルプレゼンツ Chunkey Time Vol.9 同時開催:10歳の天才少女画家ココちゃん作品展示会
DESCRIPTION:グレマンカオルプレゼンツ\nChunkey Time Vol.9\n同時開催:10歳の天才少女画家ココちゃん作品展示会 \nCLUB HEAVY SICK(Hatagaya\,TOKYO)\n・2025年2月22日(土) ネコの日\n・OPEN:17:00\n・前売り2400円＋1D 当日3000円＋1D \n[LIVE]\n・Chunkey Times\n・BB & the Beppins\n・Chicken Jump Skips\n・The Beach Cat Club\n・Dynamite Platoon (仙台) \n[DJ]\n・Beny JP(Wacky Date)\n・BB Clarke\n・Billy Trash(Edwoods)\n・Akita Slim(Long Tall Records)
URL:https://heavysick.co.jp/cp-bin/wordpress/events/tba-18/
ATTACH;FMTTYPE=image/jpeg:https://heavysick.co.jp/cp-bin/wordpress/wp-content/uploads/2024/11/0221.jpg
END:VEVENT
BEGIN:VEVENT
DTSTART;VALUE=DATE:20250223
DTEND;VALUE=DATE:20250225
DTSTAMP:20260422T200546
CREATED:20241130T074506Z
LAST-MODIFIED:20250105T113153Z
UID:4633-1740286800-1740373199@heavysick.co.jp
SUMMARY:The Revolting Presents  "Our First Offence"
DESCRIPTION:The Revolting Presents \n“Our First Offence” \n2025/02/23 (日・祝) \nat幡ヶ谷 Club Heavy Sick \nOpen / Start 17:30 \nAdv ¥2\,500 / Door ¥3\,000 \n  \nBAND \nLittle Radios \nThe Bit \nThe Silhouettes \nThe Revolting  \n  \nDJ \nfink (Angel Face) \n森仁(Blood Herbs) \naki (After School Mates) \nmeppo (NEON LEADS)
URL:https://heavysick.co.jp/cp-bin/wordpress/events/tba-19/
ATTACH;FMTTYPE=image/jpeg:https://heavysick.co.jp/cp-bin/wordpress/wp-content/uploads/2024/11/0223.jpg
END:VEVENT
BEGIN:VEVENT
DTSTART;VALUE=DATE:20250224
DTEND;VALUE=DATE:20250226
DTSTAMP:20260422T200546
CREATED:20250121T082001Z
LAST-MODIFIED:20250131T114149Z
UID:4799-1740373200-1740459599@heavysick.co.jp
SUMMARY:RUMBLESTRIP.
DESCRIPTION:RUMBLESTRIP. \n2025 2/24(mon/holiday!)\nOPEN 18:00/START 18:30\nadv ¥2500(+1d)/at door ¥3000(+1d) \n♪LIVE♪\nCATSTRIP.\nVAMPIRE BATS\nGlory Billy’s\n6120babys\n花団ズ \n♪DeeJay♪\nSHIDARUMBLE
URL:https://heavysick.co.jp/cp-bin/wordpress/events/tba-36/
ATTACH;FMTTYPE=image/jpeg:https://heavysick.co.jp/cp-bin/wordpress/wp-content/uploads/2025/01/0204-1.jpeg
END:VEVENT
BEGIN:VEVENT
DTSTART;VALUE=DATE:20250227
DTEND;VALUE=DATE:20250301
DTSTAMP:20260422T200546
CREATED:20241130T074905Z
LAST-MODIFIED:20250213T132923Z
UID:4635-1740632400-1740718799@heavysick.co.jp
SUMMARY:SWINGIN' JIVIN'
DESCRIPTION:2025/2/27(木)\nSwingin’ Jivin’\n@Club Heavy Sick \n〈DJ〉\nTatarin\nMasaru Honma\nMasami Watanabe\n(the fascinations) \n〈Dance Work Shop〉\nELOVIS SATO \n〈Crew〉\nHiromi\nTsukasa Edwardian(59 Rockers) \n〈OPEN〉19:00\n〈Door〉1\,000yen + 1Drink
URL:https://heavysick.co.jp/cp-bin/wordpress/events/swingin-jivin-3/
ATTACH;FMTTYPE=image/jpeg:https://heavysick.co.jp/cp-bin/wordpress/wp-content/uploads/2024/11/0227.jpg
END:VEVENT
BEGIN:VEVENT
DTSTART;VALUE=DATE:20250228
DTEND;VALUE=DATE:20250302
DTSTAMP:20260422T200546
CREATED:20250121T082116Z
LAST-MODIFIED:20250224T142005Z
UID:4802-1740718800-1740805199@heavysick.co.jp
SUMMARY:CRAZY RANDOMS VOL. 15
DESCRIPTION:CRAZY RANDOMS VOL. 15 \n・CLUB HEAVY SICK (Hatagaya\, TOKYO)\n・（金） 2月28日\n・OPEN/START 19:30PM\n・ENTRANCE：500円 plus.1DRINK \n[DJ’s]\n-TAMAE (ponytailz)\n-Iori (Hi-Nomady)\n-Shohei (Hi-Nomady)\n-Tsubasa (Hydro Stompers)\n-Mary Scream
URL:https://heavysick.co.jp/cp-bin/wordpress/events/tba-37/
ATTACH;FMTTYPE=image/jpeg:https://heavysick.co.jp/cp-bin/wordpress/wp-content/uploads/2025/01/0228-1.jpg
END:VEVENT
BEGIN:VEVENT
DTSTART;TZID=Asia/Tokyo:20250301T080000
DTEND;TZID=Asia/Tokyo:20250301T170000
DTSTAMP:20260422T200546
CREATED:20250121T082601Z
LAST-MODIFIED:20250227T082523Z
UID:4804-1740816000-1740848400@heavysick.co.jp
SUMMARY:トークライブ  『言うて良い事とあかん事の区別がつかないけど誕生日なんでゆるして下さいライブ』
DESCRIPTION:緒方雅史（甘王）　トークライブ\n\n\n『言うて良い事とあかん事の区別がつかないけど誕生日なんでゆるして下さいライブ』 \n2025年3月1日(土) \n1部 13:45開場／14:00開演\n【VIPチケット 13:30開場】 \n2部 17:45開場／18:00開演\n【VIPチケット 17:30開場】 \n席 種 : 自由 \n料 金 : 5000円《VIP 9000円〈特典有り〉》\n(+1D別途600円) \n会 場 : 幡ヶ谷heavysick\n(渋谷区西原2-27-4升本ビルB1 電話03-3466-1445) \nライブ時間は1時間30分前後を予定しています。\nその後にお見送り、グッズ販売、ポコチャ特典のお渡しがございます。 \nライブ会場に入られてからの写真撮影は禁止となります。 \n椅子の移動、お連れ様の席の確保はご遠慮下さい。
URL:https://heavysick.co.jp/cp-bin/wordpress/events/tba-38/
ATTACH;FMTTYPE=image/jpeg:https://heavysick.co.jp/cp-bin/wordpress/wp-content/uploads/2025/01/0301.jpg
END:VEVENT
BEGIN:VEVENT
DTSTART;VALUE=DATE:20250302
DTEND;VALUE=DATE:20250304
DTSTAMP:20260422T200546
CREATED:20241201T054811Z
LAST-MODIFIED:20250113T132506Z
UID:4641-1740891600-1740977999@heavysick.co.jp
SUMMARY:ロックンロールアニマル
DESCRIPTION:ロックンロールアニマル \nthe GOD\nMerg Lou\nアンノイ\nDJ KAME \nADV ¥2\,800+1drink\nDoor ¥3\,300+1drink \nOpen 18:00 Start 18:30
URL:https://heavysick.co.jp/cp-bin/wordpress/events/tba-20/
ATTACH;FMTTYPE=image/jpeg:https://heavysick.co.jp/cp-bin/wordpress/wp-content/uploads/2024/12/0302.jpg
END:VEVENT
BEGIN:VEVENT
DTSTART;VALUE=DATE:20250307
DTEND;VALUE=DATE:20250309
DTSTAMP:20260422T200546
CREATED:20241224T124111Z
LAST-MODIFIED:20250224T131343Z
UID:4733-1741323600-1741409999@heavysick.co.jp
SUMMARY:Slack Off!
DESCRIPTION:3月7日（金） \nSlack Off! \nSalt and Curve\nNanox\nElmoc \nDJ Tam \nOpen 19:30 / Start 20:00 \n¥2200 + 1 drink (¥600 charge
URL:https://heavysick.co.jp/cp-bin/wordpress/events/slack-off/
ATTACH;FMTTYPE=image/jpeg:https://heavysick.co.jp/cp-bin/wordpress/wp-content/uploads/2024/12/0307.jpg
END:VEVENT
BEGIN:VEVENT
DTSTART;VALUE=DATE:20250308
DTEND;VALUE=DATE:20250310
DTSTAMP:20260422T200546
CREATED:20250121T082643Z
LAST-MODIFIED:20250131T070636Z
UID:4806-1741410000-1741496399@heavysick.co.jp
SUMMARY:Hard Hit Psycho Illusion At Hatagaya Club Heavy Sick
DESCRIPTION:Hard Hit Psycho Illusion\nAt Hatagaya Club Heavy Sick \nMar. 8th\nOpen/Start 18:30\nAdv 2\,800yen+1d / Door 3\,300yen+1d \nBands\n・Chicken Jump Skips\n・Stompin’ Riffraffs\n・Villainz\n・Mitchy Dead \nDj\n・Tamae (Ponytailz)\n・Milky (Edward’s Clothing\, ニュー椿)\n・Kartooze\netc..
URL:https://heavysick.co.jp/cp-bin/wordpress/events/tba-39/
ATTACH;FMTTYPE=image/jpeg:https://heavysick.co.jp/cp-bin/wordpress/wp-content/uploads/2025/01/0308.jpg
END:VEVENT
BEGIN:VEVENT
DTSTART;VALUE=DATE:20250309
DTEND;VALUE=DATE:20250311
DTSTAMP:20260422T200546
CREATED:20241201T063750Z
LAST-MODIFIED:20250213T064005Z
UID:4645-1741496400-1741582799@heavysick.co.jp
SUMMARY:HAPPY BIRTHDAY JOE ALCOHOL!!
DESCRIPTION:3月9日（日）　club HEAVY SICK \nHAPPY BIRTHDAY JOE ALCOHOL!! \n出演\nKYO（Wonderful World） \n\nHIGH LIFE\nThe Japonesque idles\nJESSY\nSTAR STARDJ Discoman（Discoteca uomo）Open 18:00 Start 18:30ADV ¥2\,600 +1drink DOOR ¥3\,000 +1drink \n前売り予約はclub@heavysick.co.jp\nまたは各バンドまで。 \n先日、命日にあわせてイベントを行いましたが、3/9の誕生日にもあわせてJoe Alcoholイベントを行います。※誕生日当日は3/10です。 \nWonderful WorldのドラマーKYOはなんと弾き語り出演。STAR STARはKeiji Ronsonの新バンドです。 \nチラシのイラストはKame。Joeさんが大笑いしてくれるであろうとあるバンドのジャケのオマージュです。
URL:https://heavysick.co.jp/cp-bin/wordpress/events/tba-22/
ATTACH;FMTTYPE=image/jpeg:https://heavysick.co.jp/cp-bin/wordpress/wp-content/uploads/2024/12/0309-1-scaled.jpg
END:VEVENT
BEGIN:VEVENT
DTSTART;VALUE=DATE:20250313
DTEND;VALUE=DATE:20250315
DTSTAMP:20260422T200546
CREATED:20241201T065940Z
LAST-MODIFIED:20250227T124449Z
UID:4648-1741842000-1741928399@heavysick.co.jp
SUMMARY:JIVERS STOMP Vo'35
DESCRIPTION:JIVERS STOMP Vo’35\nThursday.13th. Mar. 2025\n18:30~22:30\n@Club Heavy Sick\n(Dance-O-Rama)\n¥1\,000+1dr\n【GUEST DJ】\n🌟Russell🌟\n✴︎KEN\n(BEAT✴︎GENERATION)\n✴︎Simon\n(man Japan clothing)\n✴︎TSUBASA\n(HYDRO STOMPERS)\n✴︎TAMAE\n(ponytailz)\n✴︎ROCKIN JIVE LESSON\n（Ken&Hiromi\,O)\n20:20〜20:50\n【Crew】\n✴︎Soyo\n✴︎Hiromi\,O\n✴︎Tomomi\n✴︎hira_masa\n✴︎TsukasaEdwardian\n(59Rockers)\nJIVERS✴︎STOMPは毎月18:30〜Open‼️18:30からの30分はBeginner-Lessonもやっていますので初めての方も安心してイベントに参加できます😊\nお時間のある方は個人レッスン的に受けられる早めの時間がお得となっていますよ(♪)
URL:https://heavysick.co.jp/cp-bin/wordpress/events/jivers-stomp-3/
ATTACH;FMTTYPE=image/jpeg:https://heavysick.co.jp/cp-bin/wordpress/wp-content/uploads/2024/12/0313.jpg
END:VEVENT
BEGIN:VEVENT
DTSTART;VALUE=DATE:20250314
DTEND;VALUE=DATE:20250316
DTSTAMP:20260422T200546
CREATED:20250121T082944Z
LAST-MODIFIED:20250224T065059Z
UID:4809-1741928400-1742014799@heavysick.co.jp
SUMMARY:Slack Off!
DESCRIPTION:Slack Off! \nROCKIN’ ENOCKY\nTEENAGE SLANG SESSION\nSTAIRS \nDJ HAJIME (Mule Team) \nFriday\, March 14\nOpen 19:30 / Start 20:00 \n¥2500 + 1 drink (¥600 charge)
URL:https://heavysick.co.jp/cp-bin/wordpress/events/%ef%bd%94%ef%bd%82%ef%bd%81/
ATTACH;FMTTYPE=image/jpeg:https://heavysick.co.jp/cp-bin/wordpress/wp-content/uploads/2025/01/0314.jpg
END:VEVENT
BEGIN:VEVENT
DTSTART;VALUE=DATE:20250315
DTEND;VALUE=DATE:20250317
DTSTAMP:20260422T200546
CREATED:20241201T071314Z
LAST-MODIFIED:20250213T090323Z
UID:4650-1742014800-1742101199@heavysick.co.jp
SUMMARY:BACK TO SQUARE ONE!
DESCRIPTION:BACK TO SQUARE ONE!\nat Club Heavy Sick \nSaturday\, 3/15\nOpen 18:30\nAdv ¥2500 / Door ¥3000 + 1 drink \nBands:\n赤い夕陽\nP.C.2\nANGRY ASAYANS \nDJs:\nITA\nBANG!\nYASUHEAD
URL:https://heavysick.co.jp/cp-bin/wordpress/events/tba-23/
ATTACH;FMTTYPE=image/jpeg:https://heavysick.co.jp/cp-bin/wordpress/wp-content/uploads/2024/12/0315.jpg
END:VEVENT
BEGIN:VEVENT
DTSTART;VALUE=DATE:20250316
DTEND;VALUE=DATE:20250318
DTSTAMP:20260422T200546
CREATED:20241201T072013Z
LAST-MODIFIED:20250121T083608Z
UID:4652-1742101200-1742187599@heavysick.co.jp
SUMMARY:あくまのよる　第四夜
DESCRIPTION:3月16日（日） \nあくまのよる　第四夜 \nKIRIHITO\nTHE DEAD PAN SPEAKERS\nVVVVISON \n¥2\,800 ＋1drink\n¥3\,300 ＋1drink \nOpen 18:00 Start 18:30
URL:https://heavysick.co.jp/cp-bin/wordpress/events/tba-24/
ATTACH;FMTTYPE=image/jpeg:https://heavysick.co.jp/cp-bin/wordpress/wp-content/uploads/2024/12/0316.jpg
END:VEVENT
BEGIN:VEVENT
DTSTART;VALUE=DATE:20250319
DTEND;VALUE=DATE:20250321
DTSTAMP:20260422T200546
CREATED:20250121T083918Z
LAST-MODIFIED:20250311T132010Z
UID:4817-1742360400-1742446799@heavysick.co.jp
SUMMARY:HOT SHAKE Vol.5 《FINAL》 - Red Hot Dance Party -
DESCRIPTION:HOT SHAKE Vol.5 《FINAL》\n– Red Hot Dance Party – \n2025.3.19 Wednesday\n19:30 OPEN\n22:30 CLOSE\nat CLUB HEAVY SICK @club_heavy_sick\n¥1000+1D
URL:https://heavysick.co.jp/cp-bin/wordpress/events/tba-40/
ATTACH;FMTTYPE=image/jpeg:https://heavysick.co.jp/cp-bin/wordpress/wp-content/uploads/2025/01/0319.jpg
END:VEVENT
BEGIN:VEVENT
DTSTART;VALUE=DATE:20250320
DTEND;VALUE=DATE:20250322
DTSTAMP:20260422T200546
CREATED:20241201T074442Z
LAST-MODIFIED:20250121T084719Z
UID:4654-1742446800-1742533199@heavysick.co.jp
SUMMARY:TUMORMAN vol.2
DESCRIPTION:TUMORMAN vol.2 \n2025/3/20(Thu)\nat Club HEAVY SICK\nOPEN/18:00\nSTART/18:30 \nTICKET　¥2\,400+1D\nU25　　¥2\,000+1D \n高倉健\n偶人\nILL JOE\nmotherpill\nANALSKULLFUCK
URL:https://heavysick.co.jp/cp-bin/wordpress/events/tba-25/
ATTACH;FMTTYPE=image/jpeg:https://heavysick.co.jp/cp-bin/wordpress/wp-content/uploads/2024/12/0320.jpg
END:VEVENT
END:VCALENDAR