BEGIN:VCALENDAR
VERSION:2.0
PRODID:-//SCHEDULE - ECPv6.15.14//NONSGML v1.0//EN
CALSCALE:GREGORIAN
METHOD:PUBLISH
X-WR-CALNAME:SCHEDULE
X-ORIGINAL-URL:https://heavysick.co.jp/cp-bin/wordpress
X-WR-CALDESC:SCHEDULE のイベント
REFRESH-INTERVAL;VALUE=DURATION:PT1H
X-Robots-Tag:noindex
X-PUBLISHED-TTL:PT1H
BEGIN:VTIMEZONE
TZID:Asia/Tokyo
BEGIN:STANDARD
TZOFFSETFROM:+0900
TZOFFSETTO:+0900
TZNAME:JST
DTSTART:20230101T000000
END:STANDARD
END:VTIMEZONE
BEGIN:VEVENT
DTSTART;VALUE=DATE:20241130
DTEND;VALUE=DATE:20241202
DTSTAMP:20260423T021736
CREATED:20241130T043557Z
LAST-MODIFIED:20241130T044549Z
UID:4510-1732942800-1733029199@heavysick.co.jp
SUMMARY:BALIROOM BLITZ vol.1 Live at CLUB HEAVY SICK
DESCRIPTION:BALIROOM BLITZ vol.1\nLive at CLUB HEAVY SICK\n2024.11.30(Sat) \nOpen/Start 18:00\nAdv ¥2400+1d(¥600)\nDoor ¥2900+1d(¥600) \nBAND:\nTHE TUESDAY (Yamaguchi)\nZORRO (Osaka)\nFRANKLIN (Gunma)\nBALICANZ (Tokyo) \nDJ:\nTOSSY (REVENGE!)\nKazuRocK (R.D.D) \nDEISUI CLOTHING
URL:https://heavysick.co.jp/cp-bin/wordpress/events/baliroom-blitz-vol-1-live-at-club-heavy-sick/
END:VEVENT
END:VCALENDAR