BEGIN:VCALENDAR
VERSION:2.0
PRODID:-//SCHEDULE - ECPv6.15.14//NONSGML v1.0//EN
CALSCALE:GREGORIAN
METHOD:PUBLISH
X-ORIGINAL-URL:https://heavysick.co.jp/cp-bin/wordpress
X-WR-CALDESC:SCHEDULE のイベント
REFRESH-INTERVAL;VALUE=DURATION:PT1H
X-Robots-Tag:noindex
X-PUBLISHED-TTL:PT1H
BEGIN:VTIMEZONE
TZID:Asia/Tokyo
BEGIN:STANDARD
TZOFFSETFROM:+0900
TZOFFSETTO:+0900
TZNAME:JST
DTSTART:20230101T000000
END:STANDARD
END:VTIMEZONE
BEGIN:VEVENT
DTSTART;VALUE=DATE:20241201
DTEND;VALUE=DATE:20241203
DTSTAMP:20260422T210938
CREATED:20241130T052708Z
LAST-MODIFIED:20241201T054544Z
UID:4519-1733029200-1733115599@heavysick.co.jp
SUMMARY:Heavy Sick Live Show
DESCRIPTION:12/1（日）\nHeavy Sick Live Show \nすてばち\nタケモトタケコとThe MakeeZ\nFUCKIN’ GOOD BROTHERS\nキツエンボーイズ \nOpen 18:30 Start 19:00\nADV ¥2\,500+1d DOOR ¥2\,800+1d
URL:https://heavysick.co.jp/cp-bin/wordpress/events/heavy-sick-live-show/
LOCATION:club HEAVY SICK\, 西原２丁目２７−４ ｢升本ビル/B1F｣\, 渋谷区\, 東京都\, 151-0066\, Japan
ATTACH;FMTTYPE=image/jpeg:https://heavysick.co.jp/cp-bin/wordpress/wp-content/uploads/2024/11/1201.jpg
END:VEVENT
BEGIN:VEVENT
DTSTART;VALUE=DATE:20241205
DTEND;VALUE=DATE:20241207
DTSTAMP:20260422T210938
CREATED:20241130T053143Z
LAST-MODIFIED:20241130T053154Z
UID:4522-1733374800-1733461199@heavysick.co.jp
SUMMARY:SERIOUS PUBLISHING TOKYO PARTY
DESCRIPTION:SERIOUS PUBLISHING TOKYO PARTY \n・CLUB HEAVY SICK (Hatagaya\, TOKYO)\n・Thursday 5th DECEMBER 2024\n・OPEN/START 7PM\n・ADVANCE TICKET：500YEN – plus 1DRINK FEE (600YEN)\n・DOOR TICKET：1000YEN – plus 1DRINK FEE (600YEN) \n[LIVE SHOW]\nThe Fadeaways\nThe wedgies \n[DEE-JAY]\nMina (Too.much.xxx)\nJTW
URL:https://heavysick.co.jp/cp-bin/wordpress/events/serious-publishing-tokyo-party/
ATTACH;FMTTYPE=image/jpeg:https://heavysick.co.jp/cp-bin/wordpress/wp-content/uploads/2024/11/1205-1.jpg
END:VEVENT
BEGIN:VEVENT
DTSTART;VALUE=DATE:20241206
DTEND;VALUE=DATE:20241208
DTSTAMP:20260422T210938
CREATED:20241130T053457Z
LAST-MODIFIED:20241130T053527Z
UID:4526-1733461200-1733547599@heavysick.co.jp
SUMMARY:Poison Ruïn & Bad Breeding Japan tour 2024 with Zenocide
DESCRIPTION:Poison Ruïn & Bad Breeding Japan tour 2024 with Zenocide \n2024年12月6日（金）幡ヶ谷 CLUB HEAVY SICK\nPoison Ruïn / Bad Breeding / Zenocide\nGuest ：KREIGSHÖG \nOpen 7pm / Start 7:30pm\nDOOR ONLY ¥3\,500- + 1drink \n問い合わせ club@heavysick.co.jp or blackhole.kuroiana@gmail.com
URL:https://heavysick.co.jp/cp-bin/wordpress/events/poison-ruin-bad-breeding-japan-tour-2024-with-zenocide/
END:VEVENT
BEGIN:VEVENT
DTSTART;VALUE=DATE:20241207
DTEND;VALUE=DATE:20241209
DTSTAMP:20260422T210938
CREATED:20241130T053749Z
LAST-MODIFIED:20241130T053933Z
UID:4530-1733547600-1733633999@heavysick.co.jp
SUMMARY:KEEP ON BURNING
DESCRIPTION:KEEP ON BURNING \n12/7 (Sat) 2024\nat CLUB HEAVY SICK (Hatagaya)\nOPEN & START 18:00\nAdv.￥3\,000 + D fee\nDoor￥3\,500 + D fee \n■LIVE\nthe Affect\nHIGH STYLE\nFalling Sugar\nBLAAM! \n■DJ\nUSHIJIMA (NIGHT FOX CLUB)\nRUMI（MOONLIGHT CABARET）
URL:https://heavysick.co.jp/cp-bin/wordpress/events/keep-on-burning/
ATTACH;FMTTYPE=image/jpeg:https://heavysick.co.jp/cp-bin/wordpress/wp-content/uploads/2024/11/1207.jpg
END:VEVENT
BEGIN:VEVENT
DTSTART;VALUE=DATE:20241208
DTEND;VALUE=DATE:20241210
DTSTAMP:20260422T210938
CREATED:20241130T054149Z
LAST-MODIFIED:20241130T054225Z
UID:4534-1733634000-1733720399@heavysick.co.jp
SUMMARY:GO!GO!GO! vol.18 〜GO!GO!GO!の忘年会〜
DESCRIPTION:GO!GO!GO! vol.18\n〜GO!GO!GO!の忘年会〜\n2024.12.8 sun\nat. HATAGAYA CLUB HEAVY SICK\ncharge ￥500+1drink￥600\nopen/start 14:00 close 21:00 \n●DJ’s -AtoZ-\nakihiro (K.O.C)\nDJ Q (東京ロンドン化計画)\nヒトシっ (SLAP BEAT SWAMP)\n本田隆 (不良少年の夜)\nIkb Skate Psychos (D.T.F.S. Records)\nmaikeeRIOT\nMilky (Edward’s Clothing / ニュー椿)\nSHIMA VOLUME (1049♡)\nSHINZ!！ (Boppin’Gallopin’Slappin’)\nSiN (LET’S GO! Rockin’n’Rollin’ )\nTAMAE (ponytailz)\ntete\nやわらぎめんま (CHIYOPPY from POPPY)\nワタル (iRock) \n●SHOP\n守田屋\nmaikee’s vintage market\nCHiCHiTOHTOH \n●FOOD\nWANA’S
URL:https://heavysick.co.jp/cp-bin/wordpress/events/gogogo-vol-18-%e3%80%9cgogogo%e3%81%ae%e5%bf%98%e5%b9%b4%e4%bc%9a%e3%80%9c/
ATTACH;FMTTYPE=image/jpeg:https://heavysick.co.jp/cp-bin/wordpress/wp-content/uploads/2024/11/1208.jpg
END:VEVENT
BEGIN:VEVENT
DTSTART;VALUE=DATE:20241210
DTEND;VALUE=DATE:20241212
DTSTAMP:20260422T210938
CREATED:20241130T054346Z
LAST-MODIFIED:20241130T054422Z
UID:4537-1733806800-1733893199@heavysick.co.jp
SUMMARY:【POPでPRETTYなわたしたち。vol.6】 LIKE A MOON release Special
DESCRIPTION:【POPでPRETTYなわたしたち。vol.6】\nLIKE A MOON release Special\n⭐︎リリース記念入場特典⭐︎\n「LIKE A MOON（type A/B）ランダム1枚プレゼント！ \nOP/ST 18:30/19:00\n@幡ヶ谷CLUB HEAVY SICK\nticket\nADV ¥2500＋1D\nDOOR ¥3000＋1D \nACT\nTariki Echo\nさかさまJr.\nなんちゃらアイドル\nCHIYOPPY from POPPY \n出演者\nCHIYOPPYfromp / TarikiEcho / さかさまjr / なんちゃらアイドル \nhttps://tiget.net/events/363088\nda幡ヶ谷イベント詳細(NIGHT)
URL:https://heavysick.co.jp/cp-bin/wordpress/events/%e3%80%90pop%e3%81%a7pretty%e3%81%aa%e3%82%8f%e3%81%9f%e3%81%97%e3%81%9f%e3%81%a1%e3%80%82vol-6%e3%80%91-like-a-moon-release-special/
ATTACH;FMTTYPE=image/jpeg:https://heavysick.co.jp/cp-bin/wordpress/wp-content/uploads/2024/11/1210.jpg
END:VEVENT
BEGIN:VEVENT
DTSTART;VALUE=DATE:20241212
DTEND;VALUE=DATE:20241214
DTSTAMP:20260422T210938
CREATED:20241130T054548Z
LAST-MODIFIED:20241130T054627Z
UID:4540-1733979600-1734065999@heavysick.co.jp
SUMMARY:JIVERS✴︎STOMP ROCKIN' CHRISTMAS PARTY 2024 !!!!!!
DESCRIPTION:JIVERS✴︎STOMP\nROCKIN’ CHRISTMAS PARTY 2024 !!!!!! \nThursday.12th. Dec .2024\n18:30~22:30\n@Club Heavy Sick\n(Dance-O-Rama)\n¥1\,000+1dr \n【DJ】\nKEN(BEAT✴︎GENERATION)\nSimon(man Japan clothing)\nTSUBASA(HYDRO STOMPERS)\nTAMAE(ponytailz)\nSENGOKU \n✴︎ROCKIN JIVE LESSON\n（Ken&Hiromi\,O)\n20:20〜20:50 \n✴︎Crew\nSoyo\nHiromi\,O\nTomomi\nhira_masa\nTsukasaEdwardian(59Rockers \nJIVERS✴︎STOMPは毎月18:30〜Open‼️18:30からの30分は\nBeginner-Lessonもやっていますので初めての方も安心してイベントに参加できます😊 \nお時間のある方は早めの時間からのBeginner-Lessonがお勧めですその日から踊れるダンスの\n基礎が習得出来ますよ〜〜〜♬ \n今宵も美味しいお酒とRockin’Jiverで皆んなで一緒に楽しいひと時を過ごしましょう‼︎‼︎‼︎ \n 
URL:https://heavysick.co.jp/cp-bin/wordpress/events/jivers%e2%9c%b4%ef%b8%8estomp-rockin-christmas-party-2024/
ATTACH;FMTTYPE=image/jpeg:https://heavysick.co.jp/cp-bin/wordpress/wp-content/uploads/2024/11/1212.jpg
END:VEVENT
BEGIN:VEVENT
DTSTART;VALUE=DATE:20241213
DTEND;VALUE=DATE:20241215
DTSTAMP:20260422T210938
CREATED:20241130T054813Z
LAST-MODIFIED:20241201T054713Z
UID:4543-1734066000-1734152399@heavysick.co.jp
SUMMARY:EARLY ALLEY
DESCRIPTION:EARLY ALLEY\n2024/12/13(FRI)\n幡ヶ谷 HEAVY SICK\n20:00 ～ 26:00\n￥2\,000＋1D \nShowTime\nThe Minnesota Voodoo Men\nThe Wedgies\nK.B.T Brothers \nDJ\nShinji Trash(DIGGIN’IN)\nNAO(STOMPIN’ RIFFRAFFS)\nakihiro(King Of Cheeky) \nTSUNE\nYone-Pa-Cino\nPEN\nKUSUBE SHINYA
URL:https://heavysick.co.jp/cp-bin/wordpress/events/early-alley/
ATTACH;FMTTYPE=image/jpeg:https://heavysick.co.jp/cp-bin/wordpress/wp-content/uploads/2024/11/1213.jpeg
END:VEVENT
BEGIN:VEVENT
DTSTART;VALUE=DATE:20241214
DTEND;VALUE=DATE:20241216
DTSTAMP:20260422T210938
CREATED:20241130T055045Z
LAST-MODIFIED:20241130T055118Z
UID:4546-1734152400-1734238799@heavysick.co.jp
SUMMARY:Hard Hit Psycho Illusion "Dildos / IIIS Release Party!!!"
DESCRIPTION:Hard Hit Psycho Illusion\n“Dildos / IIIS Release Party!!!” \nDec/14th\nOpen/Start 18:00\nDoor￥3\,300+1d / Adv￥2\,800+1d \n・Bands\nDildos (From Hamamatsu)\nRednecks\nImplant (From Aizu)\nMitchy Dead\nNanox \n・DJs\nYujismaragdina (Jericho Bunch)\nRobinson\nKartooze\nIkb Skate Psychos (D.T.F.S Records)
URL:https://heavysick.co.jp/cp-bin/wordpress/events/hard-hit-psycho-illusion-dildos-iiis-release-party/
ATTACH;FMTTYPE=image/jpeg:https://heavysick.co.jp/cp-bin/wordpress/wp-content/uploads/2024/11/1214.jpg
END:VEVENT
BEGIN:VEVENT
DTSTART;VALUE=DATE:20241215
DTEND;VALUE=DATE:20241217
DTSTAMP:20260422T210938
CREATED:20241130T055241Z
LAST-MODIFIED:20241130T055915Z
UID:4550-1734238800-1734325199@heavysick.co.jp
SUMMARY:『 BEAT☆GENERATION』VoL31 Rockabilly Weekend!  \ Christmas Special / ꊛ໋̝❅
DESCRIPTION:『 BEAT☆GENERATION』VoL31\nRockabilly Weekend!\n\ Christmas Special / ꊛ໋̝❅ \nhttps://www.facebook.com/share/17p7Q3QWyE/?mibextid=9l3rBW \n2024.12.15(Sun) 17:00〜22:30\nAdv 3000 yen Door 3500 yen\n(+1drink order ) \nVintage Roots of 40’s~80’s\nRockabilly\,RockNRoll\,RnB\,Swing\,Blues\,Oldies\,Pops\,etc… \n◆ Dee-Jay ◆\n✶ Ken ✶\n✶ Honda ✶ \n◆ Guest Dee-Jay ◆\n✶ TAGO! ✶ \n◆ Live Show ◆\n✶ Hot Boogie55 ✶\n✶ Billy Iwaita and Be Bop Boys ✶\n✶ The Crazy Sounds ✶ \n◆ Special Guest ◆\n✶ Tomoo ✶\n( The Teardrops ) \n◆ Hollywood Style Lindy Hop Ws ◆\n◆ Mod Rockin’Jive Ws ◆\n✶ Ken & Romily ✶ \n◆ Champagne Service ◆\n✶ Mr Champagne Tachi All Right ✶ \n◆ MC ◆\n✶ Elovis Sato ✶ \n◆ Fortune-teller ◆\n✶ Bob Fujiwara ✶ \n◆ Shops ◆\n✶ Polka. ✶\n✶ Rock’n Cooking ❥Mee ✶
URL:https://heavysick.co.jp/cp-bin/wordpress/events/%e3%80%8e-beat%e2%98%86generation%e3%80%8fvol31-rockabilly-weekend-christmas-special-%ea%8a%9b%e0%bb%8b%cc%9d%e2%9d%85/
ATTACH;FMTTYPE=image/jpeg:https://heavysick.co.jp/cp-bin/wordpress/wp-content/uploads/2024/11/1215.jpg
END:VEVENT
BEGIN:VEVENT
DTSTART;VALUE=DATE:20241220
DTEND;VALUE=DATE:20241222
DTSTAMP:20260422T210938
CREATED:20241130T060509Z
LAST-MODIFIED:20241130T060544Z
UID:4559-1734670800-1734757199@heavysick.co.jp
SUMMARY:HEAVY SICK FRIDAY
DESCRIPTION:HEAVY SICK FRIDAY\n12/20（金）\nOpen 18:30\nStart 19:00\n¥1\,000+1drink \n弾き語り\n・年見築（すてばち）\n・城戸 “ROSIE”ヒナコ（暴動クラブ、ろくろ）\n・高田拓実 +Keiji Ronson
URL:https://heavysick.co.jp/cp-bin/wordpress/events/heavy-sick-friday/
ATTACH;FMTTYPE=image/jpeg:https://heavysick.co.jp/cp-bin/wordpress/wp-content/uploads/2024/11/1220.jpg
END:VEVENT
BEGIN:VEVENT
DTSTART;VALUE=DATE:20241221
DTEND;VALUE=DATE:20241223
DTSTAMP:20260422T210938
CREATED:20241130T060730Z
LAST-MODIFIED:20241130T060951Z
UID:4562-1734757200-1734843599@heavysick.co.jp
SUMMARY:グレマンカオルプレゼンツ Chunkey Time Vol.8
DESCRIPTION:グレマンカオルプレゼンツ\nChunkey Time Vol.8 \nCLUB HEAVY SICK(Hatagaya\,TOKYO)\n・2024年12月21日(土)\n・OPEN:17:00\n・前売り2000円＋1D 当日2500円＋1 \n[LIVE]\n・Chunkey Times\n・The Nincompoop Orchestra(静岡)\n・The Scums(Stompin’ Riffraffs)\n・96粒の泪\n・The Teenie Cheetahs \n[DJ]\n・OdadzMocko\n・Billy Trash(Edwoods)\n・Akita Slim(Long Tall Records)\n・Go From Tokyo(RIZLAZ)
URL:https://heavysick.co.jp/cp-bin/wordpress/events/%e3%82%b0%e3%83%ac%e3%83%9e%e3%83%b3%e3%82%ab%e3%82%aa%e3%83%ab%e3%83%97%e3%83%ac%e3%82%bc%e3%83%b3%e3%83%84-chunkey-time-vol-8/
ATTACH;FMTTYPE=image/jpeg:https://heavysick.co.jp/cp-bin/wordpress/wp-content/uploads/2024/11/1221.jpg
END:VEVENT
BEGIN:VEVENT
DTSTART;VALUE=DATE:20241222
DTEND;VALUE=DATE:20241224
DTSTAMP:20260422T210938
CREATED:20241130T061101Z
LAST-MODIFIED:20241206T123251Z
UID:4565-1734843600-1734929999@heavysick.co.jp
SUMMARY:Bar Heavy Sick "Feliz Navidad!"
DESCRIPTION:12/22（日）\nBar Heavy Sick “Feliz Navidad!” \n●弾き語り\nオヂヂ＆ケースケ\n※投げ銭制 \n●DJS:\nMayutan\nIna\nYusuke\nYuichi\nTete \nOpen 18:00 \n 
URL:https://heavysick.co.jp/cp-bin/wordpress/events/tba/
ATTACH;FMTTYPE=image/jpeg:https://heavysick.co.jp/cp-bin/wordpress/wp-content/uploads/2024/11/1222.jpg
END:VEVENT
BEGIN:VEVENT
DTSTART;VALUE=DATE:20241223
DTEND;VALUE=DATE:20241225
DTSTAMP:20260422T210938
CREATED:20241130T060004Z
LAST-MODIFIED:20241130T061031Z
UID:4554-1734930000-1735016399@heavysick.co.jp
SUMMARY:甘王、蜜柑　ライブ
DESCRIPTION:  \n2024年12月23日(月) 幡ヶ谷 club HEAVY SICK \n出 演 : 甘王、蜜柑 \n1部 『2部の締め上げライブをより楽しむためのライブ』 \n13:30開場／14:00開演\n席種 : 自由\n料金 : 5000円　(会場受付にてドリンク代別途600円かかります)\nチケット https://clubheavysick.stores.jp/items/6733262939389206373e22cd \n  \n2部 『2024 締め上げライブ』 \n17:30開場／18:00開演\n席種 : 自由\n料金 : 5000円　(会場受付にてドリンク代別途600円かかります)\nチケット　https://clubheavysick.stores.jp/items/6733267dad6dc106181f0c13 \n  \n・ライブ時間は1時間30分前後を予定しています。その後にお見送り、グッズ販売がございます。\n・ライブ会場に入られてからの写真撮影は禁止となります。\n・椅子の移動、お連れ様の席の確保はご遠慮下さい。\n・オンラインチケットの方は、先行チケット入場の方の後からの入場となります。
URL:https://heavysick.co.jp/cp-bin/wordpress/events/%e7%94%98%e7%8e%8b%e3%80%81%e8%9c%9c%e6%9f%91%e3%80%80%e3%83%a9%e3%82%a4%e3%83%96/
ATTACH;FMTTYPE=image/jpeg:https://heavysick.co.jp/cp-bin/wordpress/wp-content/uploads/2024/11/1223.jpg
END:VEVENT
BEGIN:VEVENT
DTSTART;VALUE=DATE:20241225
DTEND;VALUE=DATE:20241227
DTSTAMP:20260422T210938
CREATED:20241130T061342Z
LAST-MODIFIED:20241130T061351Z
UID:4567-1735102800-1735189199@heavysick.co.jp
SUMMARY:PRIVATE PARTY
DESCRIPTION:
URL:https://heavysick.co.jp/cp-bin/wordpress/events/private-party/
END:VEVENT
BEGIN:VEVENT
DTSTART;VALUE=DATE:20241226
DTEND;VALUE=DATE:20241228
DTSTAMP:20260422T210938
CREATED:20241130T061622Z
LAST-MODIFIED:20241220T111457Z
UID:4569-1735189200-1735275599@heavysick.co.jp
SUMMARY:SWINGIN' JIVIN'
DESCRIPTION:グレマンカオルプレゼンツ\nChunkey Time Vol.8 \nCLUB HEAVY SICK\n12月21日(土)\nOPEN:17:00\n前売り2000円＋1D 当日2500円＋1 \nLIVE\nChunkey Times\nThe Nincompoop Orchestra(静岡)\nThe Scums(Stompin’ Riffraffs)\n96粒の泪\nThe Teenie Cheetahs
URL:https://heavysick.co.jp/cp-bin/wordpress/events/swingin-jivin/
ATTACH;FMTTYPE=image/jpeg:https://heavysick.co.jp/cp-bin/wordpress/wp-content/uploads/2024/11/1226.jpg
END:VEVENT
BEGIN:VEVENT
DTSTART;VALUE=DATE:20241227
DTEND;VALUE=DATE:20241229
DTSTAMP:20260422T210938
CREATED:20241130T062008Z
LAST-MODIFIED:20241214T040355Z
UID:4572-1735275600-1735361999@heavysick.co.jp
SUMMARY:めろん畑a go go Presents 【CAPTAIN IDOL MARKET Vol.14】 〜2024 FINAL GAME 〜
DESCRIPTION:めろん畑a go go Presents\n【CAPTAIN IDOL MARKET Vol.14】\n〜2024 FINAL GAME 〜 \n日時：12月27日(金)\n会場：幡ヶ谷CLUB HEAVY SICK\nOP/ST：18:30/19:00\n《終演21:00予定》\n特典会：21:00〜22:30 \n23時完全撤収 \nチケット\n前売り当日共に 500円+1D \nFC会員 0円+1D \n※ヘビシ&めろん畑a go goコラボTシャツを着用して入場されたお客様にはコラボT限定ツー写メ券プレゼント！ \nチケット発売中\nhttps://tiget.net/events/366979
URL:https://heavysick.co.jp/cp-bin/wordpress/events/%e3%82%81%e3%82%8d%e3%82%93%e7%95%91-a-go-go%e3%83%af%e3%83%b3%e3%83%9e%e3%83%b3%e3%83%a9%e3%82%a4%e3%83%96/
ATTACH;FMTTYPE=image/jpeg:https://heavysick.co.jp/cp-bin/wordpress/wp-content/uploads/2024/11/1227.jpg
END:VEVENT
BEGIN:VEVENT
DTSTART;VALUE=DATE:20241228
DTEND;VALUE=DATE:20241230
DTSTAMP:20260422T210938
CREATED:20241130T062257Z
LAST-MODIFIED:20241212T131538Z
UID:4574-1735362000-1735448399@heavysick.co.jp
SUMMARY:Club Heavy Sick Year-End Bash! Bye-bye 2024!
DESCRIPTION:12/28（土） \nClub Heavy Sick Year-End Bash!\nBye-bye 2024! \nBands:\nWINSTONES\nTHE BEACH CAT CLUB\n20000 LEAGUES\nTHE LONELY \nDJs：\nNOROI GARCIA\nAKITA SLIM \nAdv ¥2500\nDoor Y3000\nplus 1 drink \nOpen 18:00\nStart 18:30
URL:https://heavysick.co.jp/cp-bin/wordpress/events/tba-2/
ATTACH;FMTTYPE=image/jpeg:https://heavysick.co.jp/cp-bin/wordpress/wp-content/uploads/2024/11/1228.jpg
END:VEVENT
BEGIN:VEVENT
DTSTART;VALUE=DATE:20241229
DTEND;VALUE=DATE:20241231
DTSTAMP:20260422T210938
CREATED:20241203T110608Z
LAST-MODIFIED:20241203T110950Z
UID:4659-1735448400-1735534799@heavysick.co.jp
SUMMARY:Sick City volume 2
DESCRIPTION:12月29日（日）\nSick City volume 2 \nSHE’s\nザ・レイチェルズ\nMule Team\nThe Choppy Railers\nBabyBlue \nLittle Radios \n17:30 0PEN\n18:00 START \n￥2\,200＋1DRINK
URL:https://heavysick.co.jp/cp-bin/wordpress/events/sick-city-volume-2/
ATTACH;FMTTYPE=image/jpeg:https://heavysick.co.jp/cp-bin/wordpress/wp-content/uploads/2024/12/1229.jpg
END:VEVENT
END:VCALENDAR