BEGIN:VCALENDAR
VERSION:2.0
PRODID:-//SCHEDULE - ECPv6.15.14//NONSGML v1.0//EN
CALSCALE:GREGORIAN
METHOD:PUBLISH
X-ORIGINAL-URL:https://heavysick.co.jp/cp-bin/wordpress
X-WR-CALDESC:SCHEDULE のイベント
REFRESH-INTERVAL;VALUE=DURATION:PT1H
X-Robots-Tag:noindex
X-PUBLISHED-TTL:PT1H
BEGIN:VTIMEZONE
TZID:Asia/Tokyo
BEGIN:STANDARD
TZOFFSETFROM:+0900
TZOFFSETTO:+0900
TZNAME:JST
DTSTART:20240101T000000
END:STANDARD
END:VTIMEZONE
BEGIN:VEVENT
DTSTART;VALUE=DATE:20250109
DTEND;VALUE=DATE:20250111
DTSTAMP:20260422T193655
CREATED:20241130T062729Z
LAST-MODIFIED:20250105T122421Z
UID:4578-1736398800-1736485199@heavysick.co.jp
SUMMARY:JIVERS STOMP Vo'33 🎂Soyo&TSUBASA 🎂 birthday bash
DESCRIPTION:JVERS STOMP Vo’33\n🎂Soyo&TSUBASA 🎂\nbirthday bash \nThursday.9th.Jan.2025\n18:30~22:30\n¥1\,000+1dr \nDJ\nKEN(BEAT✴︎GENERATION)\nSimon(man Japan clothing)\nTSUBASA(HYDRO STOMPERS)\nTAMAE(ponytailz) \nGUEST DJ\nSHOTARO（HOT SHAKE） \nROCKIN JIVE LESSON （Ken&Hiromi\,O)\n20:20〜20:50
URL:https://heavysick.co.jp/cp-bin/wordpress/events/jivers-stomp/
ATTACH;FMTTYPE=image/jpeg:https://heavysick.co.jp/cp-bin/wordpress/wp-content/uploads/2024/11/0109A.jpg
END:VEVENT
BEGIN:VEVENT
DTSTART;VALUE=DATE:20250110
DTEND;VALUE=DATE:20250112
DTSTAMP:20260422T193655
CREATED:20250107T150451Z
LAST-MODIFIED:20250109T084403Z
UID:4756-1736485200-1736571599@heavysick.co.jp
SUMMARY:BAR HEAVY SICK
DESCRIPTION:FRIDAY JAN 10 \n\nBAR HEAVY SICK\n\n\n\n\n18:00~23:00 1 DRINK MINIMUM \n\nDJs \n\nKAOTIC \n\nPOGO-ISHII \n\nTAKADAMA \n\nROBERT \n\nBISCO \n…AND MORE
URL:https://heavysick.co.jp/cp-bin/wordpress/events/bar-heavy-sick/
ATTACH;FMTTYPE=image/jpeg:https://heavysick.co.jp/cp-bin/wordpress/wp-content/uploads/2025/01/0110.jpg
END:VEVENT
BEGIN:VEVENT
DTSTART;VALUE=DATE:20250111
DTEND;VALUE=DATE:20250113
DTSTAMP:20260422T193655
CREATED:20241130T062933Z
LAST-MODIFIED:20241219T104905Z
UID:4580-1736571600-1736657999@heavysick.co.jp
SUMMARY:ロックンロールアニマル
DESCRIPTION:1月11日（土） club HEAVY SICK\n“ロックンロールアニマル” \n  \nアンノイ\nひぐらし\nHi-Nomady\nthee BlackDoor Blues \nDJ: Kame \nOpen 18:00 Start 19:00\nADV ¥2\,600+ 1d\nDoor ¥3\,000+1 d
URL:https://heavysick.co.jp/cp-bin/wordpress/events/tba-4/
ATTACH;FMTTYPE=image/jpeg:https://heavysick.co.jp/cp-bin/wordpress/wp-content/uploads/2024/11/0111-1.jpeg
END:VEVENT
BEGIN:VEVENT
DTSTART;VALUE=DATE:20250112
DTEND;VALUE=DATE:20250114
DTSTAMP:20260422T193655
CREATED:20241130T063214Z
LAST-MODIFIED:20250111T070309Z
UID:4584-1736658000-1736744399@heavysick.co.jp
SUMMARY:THREE MINUTE MOVIE PRESENTS "WONDER BEER #31"
DESCRIPTION:THREE MINUTE MOVIE PRESENTS\n“WONDER BEER #31”\nHATAGAYA CLUB HEAVY SICK \n18:30:OPEN 19:30START\nADV¥2500/DOOR¥3000+D \nTHREE MINUTE MOVIE\nBLACK AND WHITE\nWAR/ZIT \nDJ:HDK(CRADLE TO GRAVE\,SQUIRREL FOX\,SPY MASTER)
URL:https://heavysick.co.jp/cp-bin/wordpress/events/three-minute-movie-presents-wonder-beer-31/
ATTACH;FMTTYPE=image/jpeg:https://heavysick.co.jp/cp-bin/wordpress/wp-content/uploads/2024/11/0112改訂.jpg
END:VEVENT
BEGIN:VEVENT
DTSTART;VALUE=DATE:20250113
DTEND;VALUE=DATE:20250115
DTSTAMP:20260422T193655
CREATED:20241130T063839Z
LAST-MODIFIED:20241130T063913Z
UID:4587-1736744400-1736830799@heavysick.co.jp
SUMMARY:あくまのよる　第三夜
DESCRIPTION:1月13日（月） \nあくまのよる　第三夜 \nThe Strange Moon\nWETBLACK\nNEPENTHES\nkyo & ko2rock with ルイス稲毛 \nOpen 18:00\nStart 18:30 \nADV ¥3\,000+1d Door ¥3\,300+1d
URL:https://heavysick.co.jp/cp-bin/wordpress/events/%e3%81%82%e3%81%8f%e3%81%be%e3%81%ae%e3%82%88%e3%82%8b%e3%80%80%e7%ac%ac%e4%b8%89%e5%a4%9c/
ATTACH;FMTTYPE=image/jpeg:https://heavysick.co.jp/cp-bin/wordpress/wp-content/uploads/2024/11/0113.jpg
END:VEVENT
BEGIN:VEVENT
DTSTART;VALUE=DATE:20250117
DTEND;VALUE=DATE:20250119
DTSTAMP:20260422T193655
CREATED:20241130T064054Z
LAST-MODIFIED:20241224T123349Z
UID:4590-1737090000-1737176399@heavysick.co.jp
SUMMARY:HOT SHAKE Vol.4 - Red-Hot Dance Party -
DESCRIPTION:HOT SHAKE Vol.4\n– Red-Hot Dance Party –\n2025.1.17 Friday\n19:30 OPEN\n23:00 CLOSE\nat CLUB HEAVY SICK\n¥1000+1D\n<DJ>\n•Ranmaru(NIGHT FOX CLUB)\n•森仁(ぶっちぎり大作戦)\n•meppo(NEON LEADS)\n•MIDORI(The Revolting)\n•KANATA
URL:https://heavysick.co.jp/cp-bin/wordpress/events/tba-6/
ATTACH;FMTTYPE=image/jpeg:https://heavysick.co.jp/cp-bin/wordpress/wp-content/uploads/2024/11/0117.jpg
END:VEVENT
BEGIN:VEVENT
DTSTART;VALUE=DATE:20250118
DTEND;VALUE=DATE:20250121
DTSTAMP:20260422T193655
CREATED:20241130T064638Z
LAST-MODIFIED:20241224T132447Z
UID:4592-1737176400-1737349199@heavysick.co.jp
SUMMARY:Bargain Rock Tokyo Presents All Kindsa Girls
DESCRIPTION:Bargain Rock Tokyo Presents\nAll Kindsa Girls \nat Club Heavy Sick\n¥2500 adv / ¥3000 door (plus 1 drink)\nOpen 18:00 / Start 18:30 \nSaturday 1/18\nRock Juice\nEus Reginas\nHarpy’s\nBites\nTwinkloop\nSHE’s \nDJs\nTamae\nShiki \nSunday 1/19\nThe Let’s Go’s\n環七スピードキャッツ\nThe Beach Cat Club\nthe Floppy-Pinkies\nVampire Bats \nDJs\nBisco\nSheena
URL:https://heavysick.co.jp/cp-bin/wordpress/events/tba-7/
ATTACH;FMTTYPE=image/jpeg:https://heavysick.co.jp/cp-bin/wordpress/wp-content/uploads/2024/11/0118.jpg
END:VEVENT
BEGIN:VEVENT
DTSTART;VALUE=DATE:20250123
DTEND;VALUE=DATE:20250125
DTSTAMP:20260422T193655
CREATED:20241130T064956Z
LAST-MODIFIED:20250113T061104Z
UID:4596-1737608400-1737694799@heavysick.co.jp
SUMMARY:Swingin' Jivin'
DESCRIPTION:2025/1/23(木)\nSwingin’ Jivin’\n@Club Heavy Sick \n〈Guest DJ〉\nSimon \n〈DJ〉\nTatarin\nMasaru Honma\nMasami Watanabe\n(the fascinations) \n〈Dance Work Shop〉\nELOVIS SATO \n〈Crew〉\nHiromi\nTsukasa Edwardian(59 Rockers) \n〈OPEN〉19:00\n〈Door〉1\,000yen + 1Drink
URL:https://heavysick.co.jp/cp-bin/wordpress/events/swingin-jivin-2/
ATTACH;FMTTYPE=image/jpeg:https://heavysick.co.jp/cp-bin/wordpress/wp-content/uploads/2024/11/0123.jpg
END:VEVENT
BEGIN:VEVENT
DTSTART;VALUE=DATE:20250124
DTEND;VALUE=DATE:20250126
DTSTAMP:20260422T193655
CREATED:20241130T065302Z
LAST-MODIFIED:20250111T071749Z
UID:4598-1737694800-1737781199@heavysick.co.jp
SUMMARY:Slack Off!
DESCRIPTION:Slack Off! It’s Friday! \n  \nFriday\, January 24\nOpen & Start 20:00 \nDon’t Thank Me\, Spank Me!（from Melbourne） \nジェニ・ジェニ\nThe Fadeaways \nDJ Daddy-O-Nov \n¥2200 + 1 drink (¥600 charge)
URL:https://heavysick.co.jp/cp-bin/wordpress/events/tba-9/
ATTACH;FMTTYPE=image/jpeg:https://heavysick.co.jp/cp-bin/wordpress/wp-content/uploads/2024/11/0124.jpg
END:VEVENT
BEGIN:VEVENT
DTSTART;VALUE=DATE:20250125
DTEND;VALUE=DATE:20250127
DTSTAMP:20260422T193655
CREATED:20241130T065439Z
LAST-MODIFIED:20241224T115621Z
UID:4600-1737781200-1737867599@heavysick.co.jp
SUMMARY:Worse And Worse 2025 ♪New Year Wrecking♪
DESCRIPTION:Worse And Worse 2025\n♪New Year Wrecking♪ \n2025 1 /25(sat)\nCLUB HEAVY SICK\nOPEN 17:00/START 17:30\nadv ¥3000(+1d)/at door ¥3500(+1d) \n♪LIVE♪\nCHICKEN JUMP SKIPS\nTHE RADIOS\nBobby’s Bar\nHYDRO STOMPERS\nHI-NOMADY\nTHE NUTBURGERS \n♪DeeJay♪\nSHIDARUMBLE
URL:https://heavysick.co.jp/cp-bin/wordpress/events/worse-and-worse-2025-new-year-wrecking/
ATTACH;FMTTYPE=image/jpeg:https://heavysick.co.jp/cp-bin/wordpress/wp-content/uploads/2024/11/0125.jpg
END:VEVENT
BEGIN:VEVENT
DTSTART;VALUE=DATE:20250126
DTEND;VALUE=DATE:20250128
DTSTAMP:20260422T193655
CREATED:20241130T065836Z
LAST-MODIFIED:20250109T085150Z
UID:4602-1737867600-1737953999@heavysick.co.jp
SUMMARY:Heavy Sick Presents
DESCRIPTION:2025.1.26 sun\n\n\nHeavy Sick Presents \nBalladmen\nK. Sharps Band\nSTAIRS\n高田拓実 \nDJ Kame \nOpen 18:30 / Start 19:00\n¥2300 adv / ¥2800 door (plus 1 dr)
URL:https://heavysick.co.jp/cp-bin/wordpress/events/tba-10/
ATTACH;FMTTYPE=image/jpeg:https://heavysick.co.jp/cp-bin/wordpress/wp-content/uploads/2024/11/0126.jpg
END:VEVENT
BEGIN:VEVENT
DTSTART;VALUE=DATE:20250131
DTEND;VALUE=DATE:20250202
DTSTAMP:20260422T193655
CREATED:20241130T070016Z
LAST-MODIFIED:20241130T070802Z
UID:4604-1738299600-1738385999@heavysick.co.jp
SUMMARY:forever JOE ALCOHOL 2025 ”RAMBLING JET BLUES CITY"
DESCRIPTION:forever JOE ALCOHOL 2025\n”RAMBLING JET BLUES CITY” \nDay-1\n1/31(fri) STILL ALIVE in the 幡ヶ谷 club HEAVY SICK \nLonely Planet Jet Boys(オノチン＆セキちゃん)\nBAREBONES\nWOLF\nACODISCO feat. TORU WOLF \n●SHOP\nJ.A.M.F. \n●写真展\n菊池茂夫 \nOPEN 18:30 START 19:00 \n●adv ¥3\,000 (+1d)\nhttps://clubheavysick.stores.jp/items/6724b5237dd1ee0c14d9bd29\n●U25 ¥2\,500 (+1d)\nhttps://clubheavysick.stores.jp/items/6724b5d85348c50c0838fcc3\n●U18 ¥1\,500 (+1d)\nhttps://clubheavysick.stores.jp/items/6724b62a7dd1ee0c39d9bdc8\n●U12 ¥FREE \n●day ¥3\,500 (+1d)
URL:https://heavysick.co.jp/cp-bin/wordpress/events/forever-joe-alcohol-2025-rambling-jet-blues-city/
ATTACH;FMTTYPE=image/jpeg:https://heavysick.co.jp/cp-bin/wordpress/wp-content/uploads/2024/11/0131.jpg
END:VEVENT
END:VCALENDAR