BEGIN:VCALENDAR
VERSION:2.0
PRODID:-//SCHEDULE - ECPv6.15.14//NONSGML v1.0//EN
CALSCALE:GREGORIAN
METHOD:PUBLISH
X-ORIGINAL-URL:https://heavysick.co.jp/cp-bin/wordpress
X-WR-CALDESC:SCHEDULE のイベント
REFRESH-INTERVAL;VALUE=DURATION:PT1H
X-Robots-Tag:noindex
X-PUBLISHED-TTL:PT1H
BEGIN:VTIMEZONE
TZID:Asia/Tokyo
BEGIN:STANDARD
TZOFFSETFROM:+0900
TZOFFSETTO:+0900
TZNAME:JST
DTSTART:20240101T000000
END:STANDARD
END:VTIMEZONE
BEGIN:VEVENT
DTSTART;TZID=Asia/Tokyo:20250301T080000
DTEND;TZID=Asia/Tokyo:20250301T170000
DTSTAMP:20260422T161251
CREATED:20250121T082601Z
LAST-MODIFIED:20250227T082523Z
UID:4804-1740816000-1740848400@heavysick.co.jp
SUMMARY:トークライブ  『言うて良い事とあかん事の区別がつかないけど誕生日なんでゆるして下さいライブ』
DESCRIPTION:緒方雅史（甘王）　トークライブ\n\n\n『言うて良い事とあかん事の区別がつかないけど誕生日なんでゆるして下さいライブ』 \n2025年3月1日(土) \n1部 13:45開場／14:00開演\n【VIPチケット 13:30開場】 \n2部 17:45開場／18:00開演\n【VIPチケット 17:30開場】 \n席 種 : 自由 \n料 金 : 5000円《VIP 9000円〈特典有り〉》\n(+1D別途600円) \n会 場 : 幡ヶ谷heavysick\n(渋谷区西原2-27-4升本ビルB1 電話03-3466-1445) \nライブ時間は1時間30分前後を予定しています。\nその後にお見送り、グッズ販売、ポコチャ特典のお渡しがございます。 \nライブ会場に入られてからの写真撮影は禁止となります。 \n椅子の移動、お連れ様の席の確保はご遠慮下さい。
URL:https://heavysick.co.jp/cp-bin/wordpress/events/tba-38/
ATTACH;FMTTYPE=image/jpeg:https://heavysick.co.jp/cp-bin/wordpress/wp-content/uploads/2025/01/0301.jpg
END:VEVENT
BEGIN:VEVENT
DTSTART;VALUE=DATE:20250302
DTEND;VALUE=DATE:20250304
DTSTAMP:20260422T161251
CREATED:20241201T054811Z
LAST-MODIFIED:20250113T132506Z
UID:4641-1740891600-1740977999@heavysick.co.jp
SUMMARY:ロックンロールアニマル
DESCRIPTION:ロックンロールアニマル \nthe GOD\nMerg Lou\nアンノイ\nDJ KAME \nADV ¥2\,800+1drink\nDoor ¥3\,300+1drink \nOpen 18:00 Start 18:30
URL:https://heavysick.co.jp/cp-bin/wordpress/events/tba-20/
ATTACH;FMTTYPE=image/jpeg:https://heavysick.co.jp/cp-bin/wordpress/wp-content/uploads/2024/12/0302.jpg
END:VEVENT
BEGIN:VEVENT
DTSTART;VALUE=DATE:20250307
DTEND;VALUE=DATE:20250309
DTSTAMP:20260422T161251
CREATED:20241224T124111Z
LAST-MODIFIED:20250224T131343Z
UID:4733-1741323600-1741409999@heavysick.co.jp
SUMMARY:Slack Off!
DESCRIPTION:3月7日（金） \nSlack Off! \nSalt and Curve\nNanox\nElmoc \nDJ Tam \nOpen 19:30 / Start 20:00 \n¥2200 + 1 drink (¥600 charge
URL:https://heavysick.co.jp/cp-bin/wordpress/events/slack-off/
ATTACH;FMTTYPE=image/jpeg:https://heavysick.co.jp/cp-bin/wordpress/wp-content/uploads/2024/12/0307.jpg
END:VEVENT
BEGIN:VEVENT
DTSTART;VALUE=DATE:20250308
DTEND;VALUE=DATE:20250310
DTSTAMP:20260422T161251
CREATED:20250121T082643Z
LAST-MODIFIED:20250131T070636Z
UID:4806-1741410000-1741496399@heavysick.co.jp
SUMMARY:Hard Hit Psycho Illusion At Hatagaya Club Heavy Sick
DESCRIPTION:Hard Hit Psycho Illusion\nAt Hatagaya Club Heavy Sick \nMar. 8th\nOpen/Start 18:30\nAdv 2\,800yen+1d / Door 3\,300yen+1d \nBands\n・Chicken Jump Skips\n・Stompin’ Riffraffs\n・Villainz\n・Mitchy Dead \nDj\n・Tamae (Ponytailz)\n・Milky (Edward’s Clothing\, ニュー椿)\n・Kartooze\netc..
URL:https://heavysick.co.jp/cp-bin/wordpress/events/tba-39/
ATTACH;FMTTYPE=image/jpeg:https://heavysick.co.jp/cp-bin/wordpress/wp-content/uploads/2025/01/0308.jpg
END:VEVENT
BEGIN:VEVENT
DTSTART;VALUE=DATE:20250309
DTEND;VALUE=DATE:20250311
DTSTAMP:20260422T161251
CREATED:20241201T063750Z
LAST-MODIFIED:20250213T064005Z
UID:4645-1741496400-1741582799@heavysick.co.jp
SUMMARY:HAPPY BIRTHDAY JOE ALCOHOL!!
DESCRIPTION:3月9日（日）　club HEAVY SICK \nHAPPY BIRTHDAY JOE ALCOHOL!! \n出演\nKYO（Wonderful World） \n\nHIGH LIFE\nThe Japonesque idles\nJESSY\nSTAR STARDJ Discoman（Discoteca uomo）Open 18:00 Start 18:30ADV ¥2\,600 +1drink DOOR ¥3\,000 +1drink \n前売り予約はclub@heavysick.co.jp\nまたは各バンドまで。 \n先日、命日にあわせてイベントを行いましたが、3/9の誕生日にもあわせてJoe Alcoholイベントを行います。※誕生日当日は3/10です。 \nWonderful WorldのドラマーKYOはなんと弾き語り出演。STAR STARはKeiji Ronsonの新バンドです。 \nチラシのイラストはKame。Joeさんが大笑いしてくれるであろうとあるバンドのジャケのオマージュです。
URL:https://heavysick.co.jp/cp-bin/wordpress/events/tba-22/
ATTACH;FMTTYPE=image/jpeg:https://heavysick.co.jp/cp-bin/wordpress/wp-content/uploads/2024/12/0309-1-scaled.jpg
END:VEVENT
BEGIN:VEVENT
DTSTART;VALUE=DATE:20250313
DTEND;VALUE=DATE:20250315
DTSTAMP:20260422T161251
CREATED:20241201T065940Z
LAST-MODIFIED:20250227T124449Z
UID:4648-1741842000-1741928399@heavysick.co.jp
SUMMARY:JIVERS STOMP Vo'35
DESCRIPTION:JIVERS STOMP Vo’35\nThursday.13th. Mar. 2025\n18:30~22:30\n@Club Heavy Sick\n(Dance-O-Rama)\n¥1\,000+1dr\n【GUEST DJ】\n🌟Russell🌟\n✴︎KEN\n(BEAT✴︎GENERATION)\n✴︎Simon\n(man Japan clothing)\n✴︎TSUBASA\n(HYDRO STOMPERS)\n✴︎TAMAE\n(ponytailz)\n✴︎ROCKIN JIVE LESSON\n（Ken&Hiromi\,O)\n20:20〜20:50\n【Crew】\n✴︎Soyo\n✴︎Hiromi\,O\n✴︎Tomomi\n✴︎hira_masa\n✴︎TsukasaEdwardian\n(59Rockers)\nJIVERS✴︎STOMPは毎月18:30〜Open‼️18:30からの30分はBeginner-Lessonもやっていますので初めての方も安心してイベントに参加できます😊\nお時間のある方は個人レッスン的に受けられる早めの時間がお得となっていますよ(♪)
URL:https://heavysick.co.jp/cp-bin/wordpress/events/jivers-stomp-3/
ATTACH;FMTTYPE=image/jpeg:https://heavysick.co.jp/cp-bin/wordpress/wp-content/uploads/2024/12/0313.jpg
END:VEVENT
BEGIN:VEVENT
DTSTART;VALUE=DATE:20250314
DTEND;VALUE=DATE:20250316
DTSTAMP:20260422T161251
CREATED:20250121T082944Z
LAST-MODIFIED:20250224T065059Z
UID:4809-1741928400-1742014799@heavysick.co.jp
SUMMARY:Slack Off!
DESCRIPTION:Slack Off! \nROCKIN’ ENOCKY\nTEENAGE SLANG SESSION\nSTAIRS \nDJ HAJIME (Mule Team) \nFriday\, March 14\nOpen 19:30 / Start 20:00 \n¥2500 + 1 drink (¥600 charge)
URL:https://heavysick.co.jp/cp-bin/wordpress/events/%ef%bd%94%ef%bd%82%ef%bd%81/
ATTACH;FMTTYPE=image/jpeg:https://heavysick.co.jp/cp-bin/wordpress/wp-content/uploads/2025/01/0314.jpg
END:VEVENT
BEGIN:VEVENT
DTSTART;VALUE=DATE:20250315
DTEND;VALUE=DATE:20250317
DTSTAMP:20260422T161251
CREATED:20241201T071314Z
LAST-MODIFIED:20250213T090323Z
UID:4650-1742014800-1742101199@heavysick.co.jp
SUMMARY:BACK TO SQUARE ONE!
DESCRIPTION:BACK TO SQUARE ONE!\nat Club Heavy Sick \nSaturday\, 3/15\nOpen 18:30\nAdv ¥2500 / Door ¥3000 + 1 drink \nBands:\n赤い夕陽\nP.C.2\nANGRY ASAYANS \nDJs:\nITA\nBANG!\nYASUHEAD
URL:https://heavysick.co.jp/cp-bin/wordpress/events/tba-23/
ATTACH;FMTTYPE=image/jpeg:https://heavysick.co.jp/cp-bin/wordpress/wp-content/uploads/2024/12/0315.jpg
END:VEVENT
BEGIN:VEVENT
DTSTART;VALUE=DATE:20250316
DTEND;VALUE=DATE:20250318
DTSTAMP:20260422T161251
CREATED:20241201T072013Z
LAST-MODIFIED:20250121T083608Z
UID:4652-1742101200-1742187599@heavysick.co.jp
SUMMARY:あくまのよる　第四夜
DESCRIPTION:3月16日（日） \nあくまのよる　第四夜 \nKIRIHITO\nTHE DEAD PAN SPEAKERS\nVVVVISON \n¥2\,800 ＋1drink\n¥3\,300 ＋1drink \nOpen 18:00 Start 18:30
URL:https://heavysick.co.jp/cp-bin/wordpress/events/tba-24/
ATTACH;FMTTYPE=image/jpeg:https://heavysick.co.jp/cp-bin/wordpress/wp-content/uploads/2024/12/0316.jpg
END:VEVENT
BEGIN:VEVENT
DTSTART;VALUE=DATE:20250319
DTEND;VALUE=DATE:20250321
DTSTAMP:20260422T161251
CREATED:20250121T083918Z
LAST-MODIFIED:20250311T132010Z
UID:4817-1742360400-1742446799@heavysick.co.jp
SUMMARY:HOT SHAKE Vol.5 《FINAL》 - Red Hot Dance Party -
DESCRIPTION:HOT SHAKE Vol.5 《FINAL》\n– Red Hot Dance Party – \n2025.3.19 Wednesday\n19:30 OPEN\n22:30 CLOSE\nat CLUB HEAVY SICK @club_heavy_sick\n¥1000+1D
URL:https://heavysick.co.jp/cp-bin/wordpress/events/tba-40/
ATTACH;FMTTYPE=image/jpeg:https://heavysick.co.jp/cp-bin/wordpress/wp-content/uploads/2025/01/0319.jpg
END:VEVENT
BEGIN:VEVENT
DTSTART;VALUE=DATE:20250320
DTEND;VALUE=DATE:20250322
DTSTAMP:20260422T161251
CREATED:20241201T074442Z
LAST-MODIFIED:20250121T084719Z
UID:4654-1742446800-1742533199@heavysick.co.jp
SUMMARY:TUMORMAN vol.2
DESCRIPTION:TUMORMAN vol.2 \n2025/3/20(Thu)\nat Club HEAVY SICK\nOPEN/18:00\nSTART/18:30 \nTICKET　¥2\,400+1D\nU25　　¥2\,000+1D \n高倉健\n偶人\nILL JOE\nmotherpill\nANALSKULLFUCK
URL:https://heavysick.co.jp/cp-bin/wordpress/events/tba-25/
ATTACH;FMTTYPE=image/jpeg:https://heavysick.co.jp/cp-bin/wordpress/wp-content/uploads/2024/12/0320.jpg
END:VEVENT
BEGIN:VEVENT
DTSTART;VALUE=DATE:20250321
DTEND;VALUE=DATE:20250323
DTSTAMP:20260422T161251
CREATED:20250121T094028Z
LAST-MODIFIED:20250311T130235Z
UID:4822-1742533200-1742619599@heavysick.co.jp
SUMMARY:Rock'n'Roll Nite
DESCRIPTION:“Rock’n’Roll Nite”\n3/21(fri) at Heavysick\nopen/start 19:00\nadv 2500yen(+1d)/door 3000yen(+1d) \nBand\n＊Angel Face\n＊Moron’s Morons (Poland)\n＊Black & White\n＊Glitterfast\n＊The Implosions (US)
URL:https://heavysick.co.jp/cp-bin/wordpress/events/tba-41/
ATTACH;FMTTYPE=image/jpeg:https://heavysick.co.jp/cp-bin/wordpress/wp-content/uploads/2025/01/0321.jpg
END:VEVENT
BEGIN:VEVENT
DTSTART;VALUE=DATE:20250322
DTEND;VALUE=DATE:20250324
DTSTAMP:20260422T161251
CREATED:20250121T095515Z
LAST-MODIFIED:20250123T080840Z
UID:4824-1742619600-1742705999@heavysick.co.jp
SUMMARY:Thrills! Chills! Spills!
DESCRIPTION:3月22日（土）　幡ヶ谷 club Heavy Sick\nThrills! Chills! Spills! \nTHRILL THAT KILLS\nJESSY\nTHE BREATHLESS（四日市）\nBAD LAD ROLL \n前売り¥2400+1d\n当日¥3000+1d\nOpen 18:00 Start 19:00
URL:https://heavysick.co.jp/cp-bin/wordpress/events/tba-42/
ATTACH;FMTTYPE=image/jpeg:https://heavysick.co.jp/cp-bin/wordpress/wp-content/uploads/2025/01/0322.jpg
END:VEVENT
BEGIN:VEVENT
DTSTART;TZID=Asia/Tokyo:20250322T080000
DTEND;TZID=Asia/Tokyo:20250322T170000
DTSTAMP:20260422T161251
CREATED:20250322T083439Z
LAST-MODIFIED:20250322T083439Z
UID:4986-1742630400-1742662800@heavysick.co.jp
SUMMARY:TBA
DESCRIPTION:
URL:https://heavysick.co.jp/cp-bin/wordpress/events/tba-49/
END:VEVENT
BEGIN:VEVENT
DTSTART;VALUE=DATE:20250323
DTEND;VALUE=DATE:20250325
DTSTAMP:20260422T161251
CREATED:20241203T113237Z
LAST-MODIFIED:20250316T070331Z
UID:4662-1742706000-1742792399@heavysick.co.jp
SUMMARY:club HEAVY SICK presents
DESCRIPTION:3.23 sun 幡ヶ谷club HEAVY SICK \nOpen 18:00\nStart 18:30\nADV ¥2\,400 + 1drink\nDoor ¥2\,900+1drink \n安藤模亜とスーパーダンディーズ\nBACKDROPS\nThe Lonely\nシンムラテツヤ\n松尾洸乃佑（Dirty Rogues）
URL:https://heavysick.co.jp/cp-bin/wordpress/events/tba-26/
ATTACH;FMTTYPE=image/jpeg:https://heavysick.co.jp/cp-bin/wordpress/wp-content/uploads/2024/12/0323.jpg
END:VEVENT
BEGIN:VEVENT
DTSTART;VALUE=DATE:20250327
DTEND;VALUE=DATE:20250329
DTSTAMP:20260422T161251
CREATED:20241203T114802Z
LAST-MODIFIED:20250320T123305Z
UID:4664-1743051600-1743137999@heavysick.co.jp
SUMMARY:SWINGIN' JIVIN'
DESCRIPTION:2025/3/27(木) Club Heavy Sick \nSwingin’ Jivin’ \n〈LIVE〉\n田村シンジ \n〈Guest DJ〉\nRYOZO \n〈DJ〉\nTatarin\nMasaru Honma\nMasami Watanabe\n(the fascinations) \n〈Dance Workshop〉\nELOVIS SATO \n〈Crew〉\nHiromi\nTsukasa Edwardian(59 Rockers) \n〈OPEN〉19:00\n〈Door〉1\,000yen + 1Drink
URL:https://heavysick.co.jp/cp-bin/wordpress/events/swingin-jivin-4/
ATTACH;FMTTYPE=image/jpeg:https://heavysick.co.jp/cp-bin/wordpress/wp-content/uploads/2024/12/0327.jpeg
END:VEVENT
BEGIN:VEVENT
DTSTART;VALUE=DATE:20250328
DTEND;VALUE=DATE:20250330
DTSTAMP:20260422T161251
CREATED:20250121T100156Z
LAST-MODIFIED:20250322T092535Z
UID:4827-1743138000-1743224399@heavysick.co.jp
SUMMARY:VIRUS
DESCRIPTION:“The VIRUS” \n28th Mar (Fri)\nOpen 19:00〜\nFee 500yen + Drink Charge \n(DJ)\nyone-pa-cino(early alley / sis)\nRumi(Grist)\nshinji trash(diggin’ in)\nDr.Depper\nAkita slim(Long tall records)\nand more…？
URL:https://heavysick.co.jp/cp-bin/wordpress/events/tba-43/
ATTACH;FMTTYPE=image/jpeg:https://heavysick.co.jp/cp-bin/wordpress/wp-content/uploads/2025/01/0328.jpg
END:VEVENT
BEGIN:VEVENT
DTSTART;VALUE=DATE:20250329
DTEND;VALUE=DATE:20250331
DTSTAMP:20260422T161251
CREATED:20241203T120438Z
LAST-MODIFIED:20250224T063658Z
UID:4666-1743224400-1743310799@heavysick.co.jp
SUMMARY:MARCH OF THE MODS EXTRA EDITION “Surely The Same Blue Sky”
DESCRIPTION:MARCH OF THE MODS EXTRA EDITION\n“Surely The Same Blue Sky”\nSat. 29th Mar. 2025\nat CLUB HEAVY SICK (Hatagaya)\nOpen & Start 6pm\nAdv.￥2\,500（＋D charge）\nDoor￥3\,000（＋D charge） \n■LIVE\nSorry She’s Mine (GMK)\n愛しのマダムハモンズ (ヨシオ/ハルヒコ/アキシロ)\nHIGH STYLE\nPage Three \n■DJ\nManabu K.Dove\nBaby Cat Face (Hepburns)\nmore
URL:https://heavysick.co.jp/cp-bin/wordpress/events/tba-27/
ATTACH;FMTTYPE=image/jpeg:https://heavysick.co.jp/cp-bin/wordpress/wp-content/uploads/2024/12/0329.jpg
END:VEVENT
BEGIN:VEVENT
DTSTART;VALUE=DATE:20250330
DTEND;VALUE=DATE:20250401
DTSTAMP:20260422T161251
CREATED:20241203T120522Z
LAST-MODIFIED:20250111T140919Z
UID:4669-1743310800-1743397199@heavysick.co.jp
SUMMARY:Sick Live
DESCRIPTION:3/30 sunday\nCLUB HEAVY SICK\n“Sick Live” \nDARK THE GIANT SURRENDER\nthe LONELY\nReverb The REPUBLIC\nlipstick \nDj Yusuke（laundry） \nopen 18:00 Start 18:30\nAdv ·2\,400 + 1d DOOR Y3\,000 + 1d
URL:https://heavysick.co.jp/cp-bin/wordpress/events/tba-28/
ATTACH;FMTTYPE=image/jpeg:https://heavysick.co.jp/cp-bin/wordpress/wp-content/uploads/2024/12/0330.jpg
END:VEVENT
END:VCALENDAR