BEGIN:VCALENDAR
VERSION:2.0
PRODID:-//SCHEDULE - ECPv6.15.14//NONSGML v1.0//EN
CALSCALE:GREGORIAN
METHOD:PUBLISH
X-ORIGINAL-URL:https://heavysick.co.jp/cp-bin/wordpress
X-WR-CALDESC:SCHEDULE のイベント
REFRESH-INTERVAL;VALUE=DURATION:PT1H
X-Robots-Tag:noindex
X-PUBLISHED-TTL:PT1H
BEGIN:VTIMEZONE
TZID:Asia/Tokyo
BEGIN:STANDARD
TZOFFSETFROM:+0900
TZOFFSETTO:+0900
TZNAME:JST
DTSTART:20240101T000000
END:STANDARD
END:VTIMEZONE
BEGIN:VEVENT
DTSTART;VALUE=DATE:20250801
DTEND;VALUE=DATE:20250803
DTSTAMP:20260422T065948
CREATED:20250608T065545Z
LAST-MODIFIED:20250608T065545Z
UID:5176-1754024400-1754110799@heavysick.co.jp
SUMMARY:骨のうたう　其の二
DESCRIPTION:骨のうたう　其の二\n2025年8月1日(金)\n幡ヶ谷クラブ・ヘビーシック(Bar スペース内)\nOPEN19:00/START19:30\n要1ドリンク \n出演\n高田拓実TRIO(w/KEIJI RONSON egt\,菅原雄大vc)\n夜ヒル子\n馬野ミキ \n※投げ銭制
URL:https://heavysick.co.jp/cp-bin/wordpress/events/%e9%aa%a8%e3%81%ae%e3%81%86%e3%81%9f%e3%81%86%e3%80%80%e5%85%b6%e3%81%ae%e4%ba%8c/
ATTACH;FMTTYPE=image/jpeg:https://heavysick.co.jp/cp-bin/wordpress/wp-content/uploads/2025/06/0801.jpg
END:VEVENT
BEGIN:VEVENT
DTSTART;VALUE=DATE:20250802
DTEND;VALUE=DATE:20250804
DTSTAMP:20260422T065948
CREATED:20250711T104836Z
LAST-MODIFIED:20250727T062520Z
UID:5246-1754110800-1754197199@heavysick.co.jp
SUMMARY:弾き語りナイト
DESCRIPTION:8月2日（土） club HEAVY SICK bar Space \n  \n弾き語りナイト \nNon（the GOD）\nKeiji Ronson（the STRANGE MOON ）\nMouse\nKen Matsutani （the STRANGE MOON\, Marble Sheep ）\nLoi（the FUTURE） \n¥1\,400+1drink\nOpen 17:30\nStart 18:00\nda幡ヶ谷イベント詳細(NIGHT) \n 
URL:https://heavysick.co.jp/cp-bin/wordpress/events/tba-63/
ATTACH;FMTTYPE=image/jpeg:https://heavysick.co.jp/cp-bin/wordpress/wp-content/uploads/2025/07/0802-1.jpg
END:VEVENT
BEGIN:VEVENT
DTSTART;VALUE=DATE:20250803
DTEND;VALUE=DATE:20250805
DTSTAMP:20260422T065948
CREATED:20250710T100016Z
LAST-MODIFIED:20250710T122622Z
UID:5225-1754197200-1754283599@heavysick.co.jp
SUMMARY:♪MITZ to RUMBLE♪
DESCRIPTION:♪MITZ to RUMBLE♪\n2025 8/3(sun)\nOPEN 18:00/START 18:25\nadv ¥2500(+1d)/at door ¥3000(+1d)\n♪LIVE♪\nBOP PiLLS\nCxCxD\nDEVIL WHEELS\nBUMBLEBEE\n(ACOUSTIC SET)\n花団ズ\n♪DeeJay♪\nSHIDARUMBLE\nーToTALINFoー\nCLUB HEAVY SICK\n03 3466 1445
URL:https://heavysick.co.jp/cp-bin/wordpress/events/%e2%99%aamitz-to-rumble%e2%99%aa/
ATTACH;FMTTYPE=image/jpeg:https://heavysick.co.jp/cp-bin/wordpress/wp-content/uploads/2025/07/0803.jpeg
END:VEVENT
BEGIN:VEVENT
DTSTART;VALUE=DATE:20250808
DTEND;VALUE=DATE:20250810
DTSTAMP:20260422T065948
CREATED:20250711T112922Z
LAST-MODIFIED:20250724T133102Z
UID:5249-1754629200-1754715599@heavysick.co.jp
SUMMARY:DJ nite with solo acts at Bar Heavy Sick
DESCRIPTION:DJ nite with solo acts\nat Bar Heavy Sick\nFri 8/8\nStart 18:30\n¥1000 + 1 drink charge \n弾き語り\nOGG (Dark the Giant / The Clovers)\nJ Holmes \nDJs\nPeynet (THE TENGLERS)\nKsuke (Dark the Giant / Firestarter)\nBB Clarke (BB and the Beppins)\nNobsuke (Mist Records)\nKame (Rock Juice) \nFood by Ayapapaya
URL:https://heavysick.co.jp/cp-bin/wordpress/events/tba-64/
ATTACH;FMTTYPE=image/jpeg:https://heavysick.co.jp/cp-bin/wordpress/wp-content/uploads/2025/07/0808.jpg
END:VEVENT
BEGIN:VEVENT
DTSTART;VALUE=DATE:20250809
DTEND;VALUE=DATE:20250811
DTSTAMP:20260422T065948
CREATED:20250704T105846Z
LAST-MODIFIED:20250704T110632Z
UID:5214-1754715600-1754801999@heavysick.co.jp
SUMMARY:GUNK 2nd 7” release party
DESCRIPTION:8月9日（土）\nGUNK 2nd 7” release party \nGUNK\nSHE’s\nBLACK AND WHITE\nANGEL FACE\nDJ POGO ISHII\nOpen 18:00 Start 19:00\nadv 2400yen + 1 drink\ndoor 3000yen + 1 drink
URL:https://heavysick.co.jp/cp-bin/wordpress/events/gunk-2nd-7-release-party/
ATTACH;FMTTYPE=image/jpeg:https://heavysick.co.jp/cp-bin/wordpress/wp-content/uploads/2025/07/0809.jpg
END:VEVENT
BEGIN:VEVENT
DTSTART;VALUE=DATE:20250810
DTEND;VALUE=DATE:20250812
DTSTAMP:20260422T065948
CREATED:20250711T121933Z
LAST-MODIFIED:20250720T025148Z
UID:5251-1754802000-1754888399@heavysick.co.jp
SUMMARY:JIVERS✴︎STOMP Vo'40 SUMMER JAMBOREE 2025!!!!! 《RECORD HOP＆LIVE SHOW
DESCRIPTION:JIVERS✴︎STOMP Vo’40\nSUMMER JAMBOREE 2025!!!!!\n《RECORD HOP＆LIVE SHOW》 \nSun.10th.Aug.2025 17:00~22:30\n@Club Heavy Sick\n(Dance-O-Rama)\n¥1\,500+1dr\n🏖️イベントページです🏖️\n⬇️⬇️⬇️⬇️⬇️⬇️⬇️⬇️⬇️⬇️\nhttps://facebook.com/events/s/jiversstomp-vo40-rockinsummer-/626609556590465/\n【BAND】\n★swingin doors\n★ビリー諸川＆BOPPIN’ MOON\n【FOOD】\nCafe LOVE ME TENDER\n【SHOP】\n✴︎KING＆ QUEEN\n✴︎Lovy Light✴︎\nhttps://www.instagram.com/lovylight_?igsh=YnFhbm0xOXR3cWw1\n【GUEST DJ】\nmiu（Yokohama BeBop)\n705(ちゃま珈琲\,LUPINUS)\nHitoshi（All Grown up!)\n【JIVERS✴︎STOMP:DJ】\n✴︎KEN\n(BEAT✴︎GENERATION)\n✴︎TAMAE\n(ponytailz)\n✴︎Simon\n(man Japan clothing)\n✴︎TSUBASA\n(HYDRO STOMPERS)\n✴︎SENGOKU\n【BEGINNER’S ROCKIN JIVE LESSON】 （Ken&Hiromi\,O)\n【Crew】\n✴︎Soyo\n✴︎Hiromi\,O\n✴︎nomoto gine\n各BANDさん投げ銭スタイルとなります皆様からのお心付けが各バンドさんのモチベーションに繋がりますので宜しくお願い致します \n★swingin doors\n\n\n★ビリー諸川＆BOPPIN’ MOON
URL:https://heavysick.co.jp/cp-bin/wordpress/events/tba-65/
ATTACH;FMTTYPE=image/jpeg:https://heavysick.co.jp/cp-bin/wordpress/wp-content/uploads/2025/07/0810.jpg
END:VEVENT
BEGIN:VEVENT
DTSTART;VALUE=DATE:20250811
DTEND;VALUE=DATE:20250813
DTSTAMP:20260422T065950
CREATED:20250704T121500Z
LAST-MODIFIED:20250712T090512Z
UID:5217-1754888400-1754974799@heavysick.co.jp
SUMMARY:What We Do is NOT Secret presents
DESCRIPTION:What We Do is NOT Secret presents \nSUPER ALL GO\nBLACK AND WHITE\nNEW ART U WANT\nBUTTER DOGS \nDJ: NOBTEDS WILD \n2025 8/11 （祝）\n幡ヶ谷 Club Heavy Sick\nopen 18:00 / start 18:30\n前売り ¥2400 / 当日 ¥2800 (+1drink)
URL:https://heavysick.co.jp/cp-bin/wordpress/events/what-we-do-is-not-secret-presents-2/
ATTACH;FMTTYPE=image/jpeg:https://heavysick.co.jp/cp-bin/wordpress/wp-content/uploads/2025/07/0811-1.jpg
END:VEVENT
BEGIN:VEVENT
DTSTART;VALUE=DATE:20250815
DTEND;VALUE=DATE:20250817
DTSTAMP:20260422T065950
CREATED:20250801T130538Z
LAST-MODIFIED:20250801T130943Z
UID:5385-1755234000-1755320399@heavysick.co.jp
SUMMARY:DJ Nite with 弾き語り
DESCRIPTION:DJ Nite with 弾き語り\nat Bar Heavy Sick\nFri 8/15\nStart 18:30\n¥1000 + 1 drink charge \n弾き語り\nTATSUYA INAGAKI \nDJs\nBIG RIVER\nSIN MISERY\nHIROSHITHEKNOCKS\nAYAKO\nSHOES https://pic.x.com/d4bnXTyyAk
URL:https://heavysick.co.jp/cp-bin/wordpress/events/dj-nite-with-%e5%bc%be%e3%81%8d%e8%aa%9e%e3%82%8a/
ATTACH;FMTTYPE=image/jpeg:https://heavysick.co.jp/cp-bin/wordpress/wp-content/uploads/2025/08/0815.jpg
END:VEVENT
BEGIN:VEVENT
DTSTART;VALUE=DATE:20250816
DTEND;VALUE=DATE:20250818
DTSTAMP:20260422T065950
CREATED:20250711T123106Z
LAST-MODIFIED:20250810T080135Z
UID:5253-1755320400-1755406799@heavysick.co.jp
SUMMARY:【The Grateful Dead Luck!! Vol.11 ～お盆特別スリーマンSP〜Festival for the Dead】
DESCRIPTION:【The Grateful Dead Luck!! Vol.11\n～お盆特別スリーマンSP〜Festival for the Dead】 \n8月16日（土）\n幡ヶ谷clubHeavySick\n前売2500/当日3000円+1D代\n開場18:00/開演18:30 \n出演：\nTOROi\nWHAT AM I？\nThe Grateful a MogAAAz
URL:https://heavysick.co.jp/cp-bin/wordpress/events/tba-66/
ATTACH;FMTTYPE=image/png:https://heavysick.co.jp/cp-bin/wordpress/wp-content/uploads/2025/07/0816.png
END:VEVENT
BEGIN:VEVENT
DTSTART;VALUE=DATE:20250817
DTEND;VALUE=DATE:20250819
DTSTAMP:20260422T065950
CREATED:20250711T124435Z
LAST-MODIFIED:20250721T133228Z
UID:5255-1755406800-1755493199@heavysick.co.jp
SUMMARY:We Gotta Power vol.3
DESCRIPTION:We Gotta Power vol.3 \n2025.8.17 Saturday\n18:00 OPEN / 22:00 CLOSE\nat CLUB HEAVY SICK @club_heavy_sick\n¥1400+1D \n•SENGOKU(JIVERS STOMP)\n@m_sen59 \n•Ranmaru (NIGHT FOX CLUB) @r4nm4ru\n•森仁 (浅草ぶっちぎり大作戦) @moriokaya_jin\n•meppo (NEON LEADS) @eleanor1138\n•Midori (The Revolting) @anti_pope_
URL:https://heavysick.co.jp/cp-bin/wordpress/events/tba-67/
ATTACH;FMTTYPE=image/jpeg:https://heavysick.co.jp/cp-bin/wordpress/wp-content/uploads/2025/07/0817A.jpg
END:VEVENT
BEGIN:VEVENT
DTSTART;VALUE=DATE:20250822
DTEND;VALUE=DATE:20250824
DTSTAMP:20260422T065950
CREATED:20250620T143321Z
LAST-MODIFIED:20250620T143321Z
UID:5193-1755838800-1755925199@heavysick.co.jp
SUMMARY:HEAVY SICK PUNK MEETING" LTD EXHAUST Ⅱ x 絆創攻
DESCRIPTION:アナーキーの仲野茂（Vo）、 ex.毛皮のマリーズ、THE PRETTY TONES、杉並組の越川和磨（G）、ex.JAPAN-狂撃-SPECIAL、画鋲の西田代洋海（よーかい）（B）、\nmyeahns、マリ、ピーズetc…の茂木左によるスーパーバンド【LTD EXHAUST Ⅱ】と話題の若きパンクバンド【絆創攻】が激突！\n\n\nスペシャルゲストとして、ex CONFUSE、CのPASSY在籍の【ニ・セ・モ・ノ】も出演。\n\n\n\n\n8/22 (金)\nHEAVY SICK PUNK MEETING”\nLTD EXHAUST Ⅱ x 絆創攻\n\n\n\nSpecial Guest Band\nニ・セ・モ・ノ\n\n\n\nOPEN 19:30 START 20:00\nADV:¥3\,000 DOOR:¥3\,500\n\n\n前売り予約は club@heavysick.co.jp　または各出演者まで。
URL:https://heavysick.co.jp/cp-bin/wordpress/events/heavy-sick-punk-meeting-ltd-exhaust-%e2%85%b1-x-%e7%b5%86%e5%89%b5%e6%94%bb/
ATTACH;FMTTYPE=image/jpeg:https://heavysick.co.jp/cp-bin/wordpress/wp-content/uploads/2025/06/0822.jpg
END:VEVENT
BEGIN:VEVENT
DTSTART;VALUE=DATE:20250823
DTEND;VALUE=DATE:20250825
DTSTAMP:20260422T065950
CREATED:20250711T144422Z
LAST-MODIFIED:20250711T144422Z
UID:5257-1755925200-1756011599@heavysick.co.jp
SUMMARY:The TITANS presents "T.S.O.M."
DESCRIPTION:The TITANS presents “T.S.O.M.” \n2025年8月23日（土）\n幡ヶ谷Club Heavy Sick\nオープン 18:00\nスタート 18:30\n前売り 2500円 当日3000円 + ドリンク代 \n出演：\nTHE BROKEN HEARTS\nDEWEES\nRANGSTEEN\nROCK JUICE\nTHE TITANS \nDJs\nNOBSUKE (MIST RECORDS)\nPOGO ISHII \n 
URL:https://heavysick.co.jp/cp-bin/wordpress/events/the-titans-presents-t-s-o-m/
ATTACH;FMTTYPE=image/jpeg:https://heavysick.co.jp/cp-bin/wordpress/wp-content/uploads/2025/07/0823.jpg
END:VEVENT
BEGIN:VEVENT
DTSTART;VALUE=DATE:20250824
DTEND;VALUE=DATE:20250826
DTSTAMP:20260422T065950
CREATED:20250712T100631Z
LAST-MODIFIED:20250726T093231Z
UID:5263-1756011600-1756097999@heavysick.co.jp
SUMMARY:Sick Live
DESCRIPTION:8/24（sun） club HEAVY SICK\nSick Live \nMAD MANIAX\nMORE NOISE FOR LIFE\nVVVVISION\nシャイガンティ\n100 SWINDLE \nOpen 17:30 Start 18:00\nADV ¥2\,400 +1drink\nDOOR ¥2\,900 +1drink
URL:https://heavysick.co.jp/cp-bin/wordpress/events/tba-68/
ATTACH;FMTTYPE=image/jpeg:https://heavysick.co.jp/cp-bin/wordpress/wp-content/uploads/2025/07/0824.jpg
END:VEVENT
BEGIN:VEVENT
DTSTART;TZID=Asia/Tokyo:20250827T080000
DTEND;TZID=Asia/Tokyo:20250827T170000
DTSTAMP:20260422T065950
CREATED:20250810T101343Z
LAST-MODIFIED:20250816T113009Z
UID:5397-1756281600-1756314000@heavysick.co.jp
SUMMARY:独占！ おとなの時間
DESCRIPTION:8/27（水） club Heavy Sick Bar Space \n独占！ おとなの時間 \nDJ\nMANJI\nMAGARI\nUCHIYAMA\nNOROI GARCIA \nOpen 18:30- \ncharge ¥400\n要1ドリンクオーダー
URL:https://heavysick.co.jp/cp-bin/wordpress/events/%e7%8b%ac%e5%8d%a0%ef%bc%81-%e3%81%8a%e3%81%a8%e3%81%aa%e3%81%ae%e6%99%82%e9%96%93/
ATTACH;FMTTYPE=image/jpeg:https://heavysick.co.jp/cp-bin/wordpress/wp-content/uploads/2025/08/0827.jpg
END:VEVENT
BEGIN:VEVENT
DTSTART;VALUE=DATE:20250828
DTEND;VALUE=DATE:20250830
DTSTAMP:20260422T065950
CREATED:20250712T111703Z
LAST-MODIFIED:20250816T123645Z
UID:5268-1756357200-1756443599@heavysick.co.jp
SUMMARY:Swingin' Jivin'
DESCRIPTION:2025/8/28(木)\nSwingin’ Jivin’\n@Club Heavy Sick \n〈LIVE〉\nShinji Tamura duo \n〈Guest DJ〉\nSimon(manjapan clothing) \n〈DJ〉\nTatarin\nMasaru Honma \n〈Dance Workshop〉\nELOVIS SATO \n〈Crew〉\nHiromi \n〈OPEN〉19:00 \n〈Door〉1\,000yen + 1Drink \n◆CLUB HEAVY SICK◆\nB1 2-27-4 Nishihara\nShibuya-ku Tokyo\n03-3466-1445\nclub@heavysick.co.jp\nhttp://www.heavysick.co.jp/club
URL:https://heavysick.co.jp/cp-bin/wordpress/events/swingin-jivin-8/
ATTACH;FMTTYPE=image/jpeg:https://heavysick.co.jp/cp-bin/wordpress/wp-content/uploads/2025/07/0828.jpg
END:VEVENT
BEGIN:VEVENT
DTSTART;VALUE=DATE:20250829
DTEND;VALUE=DATE:20250831
DTSTAMP:20260422T065950
CREATED:20250720T094835Z
LAST-MODIFIED:20250816T132255Z
UID:5289-1756443600-1756529999@heavysick.co.jp
SUMMARY:Slack Off! presents
DESCRIPTION:Slack Off! presents \nThe Revolting\nThe Lonely\n中村ジョー \nDJ Hiroshitheknocks \nFriday 8/29\nat Club Heavy Sick\nOpen 19:45\nStart 20:00\n¥2400 Adv / ¥3000 Door (+1 drink)
URL:https://heavysick.co.jp/cp-bin/wordpress/events/tba-70/
ATTACH;FMTTYPE=image/jpeg:https://heavysick.co.jp/cp-bin/wordpress/wp-content/uploads/2025/07/0829.jpg
END:VEVENT
BEGIN:VEVENT
DTSTART;VALUE=DATE:20250830
DTEND;VALUE=DATE:20250901
DTSTAMP:20260422T065950
CREATED:20250704T084327Z
LAST-MODIFIED:20250828T105814Z
UID:5207-1756530000-1756616399@heavysick.co.jp
SUMMARY:グレマンカオルプレゼンツ Chunkey Time Vol.11 チャンキータイムにテキサコ出るってよ！
DESCRIPTION:グレマンカオルプレゼンツ\nChunkey Time Vol.11\nチャンキータイムにテキサコ出るってよ！ \nCLUB HEAVY SICK(Hatagaya\,TOKYO)\n・2025年8月30日(土)\n・OPEN:17:00\n・前売り2400円＋1D 当日3000円＋1D \n[LIVE]\n・Chunkey Times\n・BB & the Beppins\n・The Beach Cat Club\n・Bobby’s Bar\n・Texaco Leatherman \n[DJ]\n・Beny JP(Wacky Date)\n・Billy Trash(Edwoods)\n・Akita Slim(Long Tall Records)\n・タムラ⭐︎アキラ \n[SHOP]\n・SEXPLOSION (for WANKERS!)
URL:https://heavysick.co.jp/cp-bin/wordpress/events/%e3%82%b0%e3%83%ac%e3%83%9e%e3%83%b3%e3%82%ab%e3%82%aa%e3%83%ab%e3%83%97%e3%83%ac%e3%82%bc%e3%83%b3%e3%83%84-chunkey-time-vol-11-%e3%83%81%e3%83%a3%e3%83%b3%e3%82%ad%e3%83%bc%e3%82%bf%e3%82%a4/
ATTACH;FMTTYPE=image/jpeg:https://heavysick.co.jp/cp-bin/wordpress/wp-content/uploads/2025/07/0830-1.jpg
END:VEVENT
BEGIN:VEVENT
DTSTART;VALUE=DATE:20250831
DTEND;VALUE=DATE:20250902
DTSTAMP:20260422T065950
CREATED:20250710T133330Z
LAST-MODIFIED:20250710T133330Z
UID:5239-1756616400-1756702799@heavysick.co.jp
SUMMARY:What We Do is NOT Secret presents “The Last Summer Fun”
DESCRIPTION:What We Do is NOT Secret presents “The Last Summer Fun”The Cokes 20000 Leagues FretbuzzSTAIRSDJ Tete (The Lonely)Jun (Hateman / Hazy Sour Cherry)8/31 （日曜）Open 18:30Start 19:00¥2600 Adv / ¥3000 Door (+1 drink)
URL:https://heavysick.co.jp/cp-bin/wordpress/events/what-we-do-is-not-secret-presents-the-last-summer-fun/
ATTACH;FMTTYPE=image/jpeg:https://heavysick.co.jp/cp-bin/wordpress/wp-content/uploads/2025/07/0831.jpg
END:VEVENT
END:VCALENDAR