BEGIN:VCALENDAR
VERSION:2.0
PRODID:-//SCHEDULE - ECPv6.15.14//NONSGML v1.0//EN
CALSCALE:GREGORIAN
METHOD:PUBLISH
X-ORIGINAL-URL:https://heavysick.co.jp/cp-bin/wordpress
X-WR-CALDESC:SCHEDULE のイベント
REFRESH-INTERVAL;VALUE=DURATION:PT1H
X-Robots-Tag:noindex
X-PUBLISHED-TTL:PT1H
BEGIN:VTIMEZONE
TZID:Asia/Tokyo
BEGIN:STANDARD
TZOFFSETFROM:+0900
TZOFFSETTO:+0900
TZNAME:JST
DTSTART:20240101T000000
END:STANDARD
END:VTIMEZONE
BEGIN:VEVENT
DTSTART;VALUE=DATE:20251101
DTEND;VALUE=DATE:20251103
DTSTAMP:20260422T021516
CREATED:20250721T110857Z
LAST-MODIFIED:20251023T084546Z
UID:5342-1761973200-1762059599@heavysick.co.jp
SUMMARY:ROCK'N'ROLL ADULT
DESCRIPTION:2025.11.1 sat \nROCK ‘N’ ROLL ADULT 2025 \nopen17:00 start17:30 (close22:00) \nadv/door 2500/3000 yen+1d order \nROBBIE THUNDER、黒鯖寿司、COMBAT5、エマ・ケイシー、原興業2025、The Wizard’s Blue Bird、Patch（DJ） \n 
URL:https://heavysick.co.jp/cp-bin/wordpress/events/tba-90/
ATTACH;FMTTYPE=image/jpeg:https://heavysick.co.jp/cp-bin/wordpress/wp-content/uploads/2025/07/1101-scaled.jpg
END:VEVENT
BEGIN:VEVENT
DTSTART;VALUE=DATE:20251102
DTEND;VALUE=DATE:20251104
DTSTAMP:20260422T021516
CREATED:20250721T121405Z
LAST-MODIFIED:20250830T124329Z
UID:5344-1762059600-1762145999@heavysick.co.jp
SUMMARY:DÍA DE LOS MUERTOS
DESCRIPTION:11月2日 （日） club Heavy Sick\n“DÍA DE LOS MUERTOS” \nTHE BLACK CINEMA（from 不明）\nTeenage Slang Session\nThee Blackdoor Blues\nvelvetsound\n環七スピードキャッツ\nDJ\nRobert（STAIRS）\nBB Clarke（BB & the Beppins）\nOpen 18:00 Start 18:30\nADV ¥2\,700+1d\nDOOR ¥3\,000+1d
URL:https://heavysick.co.jp/cp-bin/wordpress/events/tba-91/
ATTACH;FMTTYPE=image/jpeg:https://heavysick.co.jp/cp-bin/wordpress/wp-content/uploads/2025/07/1102-2.jpg
END:VEVENT
BEGIN:VEVENT
DTSTART;VALUE=DATE:20251103
DTEND;VALUE=DATE:20251105
DTSTAMP:20260422T021516
CREATED:20250824T062635Z
LAST-MODIFIED:20251007T093215Z
UID:5457-1762146000-1762232399@heavysick.co.jp
SUMMARY:MITZ to RUMBLE
DESCRIPTION:MITZ to RUMBLE \n2025 11/3(mon/holiday!)\n@CLUB HEAVY SICK\nOPEN 18:00/START 18:30\nadv ¥2500(+1d)/at door ¥3000(+1d) \n♪LIVE♪\nBOP PiLLS\nDevil Wheels\nNaokobitch & Midnight Stripper\nFUQA \n♪DeeJay♪\nSHIDARUMBLE\nKENTUCKY MATSUE(from Diggin’ In)
URL:https://heavysick.co.jp/cp-bin/wordpress/events/tba-103/
ATTACH;FMTTYPE=image/jpeg:https://heavysick.co.jp/cp-bin/wordpress/wp-content/uploads/2025/08/1103.jpeg
END:VEVENT
BEGIN:VEVENT
DTSTART;VALUE=DATE:20251106
DTEND;VALUE=DATE:20251108
DTSTAMP:20260422T021516
CREATED:20250907T074407Z
LAST-MODIFIED:20250907T074407Z
UID:5547-1762405200-1762491599@heavysick.co.jp
SUMMARY:骨のうたう　其の三
DESCRIPTION:骨のうたう　其の三\n2025年11月6日(木)\n幡ヶ谷クラブ・ヘビーシック(Bar スペース内)\nOPEN19:00/START19:30\n要1ドリンク 投げ銭 \n出演\n高田拓実DUO(w/KEIJI RONSON Eg)+山本恭子 (Cort\,etc)\n川松桐子(Vo\,Cg)\n中川樹海(歌、三線、ギター)
URL:https://heavysick.co.jp/cp-bin/wordpress/events/%e9%aa%a8%e3%81%ae%e3%81%86%e3%81%9f%e3%81%86%e3%80%80%e5%85%b6%e3%81%ae%e4%b8%89/
ATTACH;FMTTYPE=image/jpeg:https://heavysick.co.jp/cp-bin/wordpress/wp-content/uploads/2025/09/1106.jpg
END:VEVENT
BEGIN:VEVENT
DTSTART;VALUE=DATE:20251107
DTEND;VALUE=DATE:20251109
DTSTAMP:20260422T021516
CREATED:20250721T143752Z
LAST-MODIFIED:20250911T143528Z
UID:5352-1762491600-1762577999@heavysick.co.jp
SUMMARY:Meanbean Night ♯2
DESCRIPTION:11.7 （金）Meanbean Night ♯2\n@ 幡ヶ谷Heavy Sick \nThe Choosers\nHATEMAN\nFRETBUZZ\nFalling Sugar \nDJ\nMartin\nVon Sentimental\nKaotic \nOpen 19:00\nStart 19:30 \nadv¥2700\ndoor¥3200 ＋1drink
URL:https://heavysick.co.jp/cp-bin/wordpress/events/tba-92/
ATTACH;FMTTYPE=image/jpeg:https://heavysick.co.jp/cp-bin/wordpress/wp-content/uploads/2025/07/1107.jpg
END:VEVENT
BEGIN:VEVENT
DTSTART;VALUE=DATE:20251108
DTEND;VALUE=DATE:20251110
DTSTAMP:20260422T021516
CREATED:20250824T065524Z
LAST-MODIFIED:20251004T064001Z
UID:5459-1762578000-1762664399@heavysick.co.jp
SUMMARY:TMJ SESSION vol.49 & LIVE
DESCRIPTION:2025/11/8 \nTMJ SESSION vol.49 & LIVE \nSESSION 15:00〜18:30\nLIVE 18:30 OPEN 19:00 START \n出演　ES9 SYMPATHETIC LION　\, コボレタウタ \n  \nセッション参加 3\,500円(見学 2\,000円)\nライヴチケット　2\,000円\n各+１DRINK
URL:https://heavysick.co.jp/cp-bin/wordpress/events/tba-104/
ATTACH;FMTTYPE=image/jpeg:https://heavysick.co.jp/cp-bin/wordpress/wp-content/uploads/2025/08/1108.jpg
END:VEVENT
BEGIN:VEVENT
DTSTART;VALUE=DATE:20251109
DTEND;VALUE=DATE:20251111
DTSTAMP:20260422T021516
CREATED:20250824T065631Z
LAST-MODIFIED:20251115T064150Z
UID:5462-1762664400-1762750799@heavysick.co.jp
SUMMARY:MIDDLE EDGE PRESENTS SUSPECT NO.7
DESCRIPTION:MIDDLE EDGE PRESENTS\nSUSPECT NO.7\n2025年11/09(sun)\nat Hatagaya club heavy sick \nMIDDLE EDGE\nTHREE MINUTE MOVIE\nCRADLE TO GRAVE\nSENTIMENTAL OF YOU \nDJ TCO（RECORD SHOP BASE\, MANGROVE） \nopen1800\nstart1830 \nadv2500yen\ndoor3000yen\n共に1d
URL:https://heavysick.co.jp/cp-bin/wordpress/events/tba-105/
ATTACH;FMTTYPE=image/jpeg:https://heavysick.co.jp/cp-bin/wordpress/wp-content/uploads/2025/08/1109.jpeg
END:VEVENT
BEGIN:VEVENT
DTSTART;VALUE=DATE:20251111
DTEND;VALUE=DATE:20251113
DTSTAMP:20260422T021516
CREATED:20251031T135234Z
LAST-MODIFIED:20251031T135234Z
UID:5684-1762837200-1762923599@heavysick.co.jp
SUMMARY:ベースの日DJパーティー
DESCRIPTION:ベースの日DJパーティー\nat Bar Heavy Sick\n11/11（火曜）\nStart 18:30\n1 drink charge\nBIG KOJI (FretBuzz / Baby Blue)\nSHIN (The Broken Hearts)\nTAKUJI (Billi)\nETSUKO (Mule Team)\nTETE (The Lonely)\nTSUBASA (Hateman / Knocks / 鰐 / Texaco Leather Man)
URL:https://heavysick.co.jp/cp-bin/wordpress/events/%e3%83%99%e3%83%bc%e3%82%b9%e3%81%ae%e6%97%a5dj%e3%83%91%e3%83%bc%e3%83%86%e3%82%a3%e3%83%bc/
ATTACH;FMTTYPE=image/jpeg:https://heavysick.co.jp/cp-bin/wordpress/wp-content/uploads/2025/10/1111.jpg
END:VEVENT
BEGIN:VEVENT
DTSTART;VALUE=DATE:20251113
DTEND;VALUE=DATE:20251115
DTSTAMP:20260422T021516
CREATED:20250824T070950Z
LAST-MODIFIED:20251023T111700Z
UID:5466-1763010000-1763096399@heavysick.co.jp
SUMMARY:JIVERS✴︎STOMP Vo'43
DESCRIPTION:JIVERS✴︎STOMP Vo’43\nThu. 13th. Nov. 2025.\n18:30〜22:30\n@Club Heavy Sick\n(Dance-O-Rama)\n¥1\,000+1dr \n🌟【GUEST DJ】\nErik （from Mexico）\n🌟【JIVERS✴︎STOMP DJ】\n✴︎KEN\n(BEAT✴︎GENERATION)\n✴︎TAMAE\n(ponytailz)\n✴︎Simon\n(man Japan clothing)\n✴︎KANATA\n【Crew】\nSoyo\nHiromi\,O\nKANATA\n🌟【Live Show】\nHAYATO & HIS BRAND NEW BEATS\n🌟【Shop】\nLovy Light✴︎\n🌟【BEGINNERS JIVE LESSON】\n18:30~19:00\n20:20〜20:50 \n  \n  \n🌟HAYATO& HIS BRAND NEW BEATS\n結成13年、サンロカビリーを愛するトリオバンド。カントリーやオリジナル曲もGOOD!!!!!\nとてもCoolでイカしたバンドです、まだ初見叶ってない方この機会を見逃すな😎!!!\n🌟Lovy Light✴︎\nLovyLight ✴︎(ラヴィライト)は懐かしくてあたらしいものたちが集まる小さなお店です🕊️💗 1930s〜50sのセルロイドやベークライトを参考に、ハートやリボンなど女の子心をくすぐるモチーフを一点ずつ丁寧にハンドメイド。既製パーツを使わず全て手作りのため同じ物はなく、その風合いも魅力です🍒🎀✨\n🌟JIVERS✴︎STOMPは毎月18:30〜Open‼️\n18:30からの30分はBeginner-Lessonをやっていますので、初めての方も安心してイベントに参加できます。お時間のある方は、個人レッスン的に受けられる、早めの時間がお得となっています(♪)\n#jiversstomp\n#rocknrolljive\n#rockabilly\n#clubheavysick\n#1950s\n#1950sdance \n  \n今回のGUEST DJの紹介です!!!!\nsurf band\n“Los Revel Monsters”のRhythm guitarでもあり、Record collectorでもある\nDJ Erikが、同じく\n“Los Revel Monsters”のVocalをしているfianceeのKarlaと\n共に来日し”JIVERS✴︎STOMP”\nでPlayします\nOriginal Brandの\n“Vintage Charlys”も手掛けている多才な彼達!!!!!!\n本場で回す彼のPlayは中々、日本では見る事が出来ません\n是非この機会を見逃す事なく\n11月13日.木曜日はClub Heavy Sick で毎月開催の\n“JIVERS✴︎STOMP”へお越し頂き、Rock ‘n’ Rollに思いっきり浸って踊りましょう🔥🔥🔥
URL:https://heavysick.co.jp/cp-bin/wordpress/events/jivers-stomp-8/
ATTACH;FMTTYPE=image/jpeg:https://heavysick.co.jp/cp-bin/wordpress/wp-content/uploads/2025/08/1113.jpg
END:VEVENT
BEGIN:VEVENT
DTSTART;VALUE=DATE:20251114
DTEND;VALUE=DATE:20251116
DTSTAMP:20260422T021516
CREATED:20250824T071527Z
LAST-MODIFIED:20250920T110845Z
UID:5468-1763096400-1763182799@heavysick.co.jp
SUMMARY:幡ヶ谷狂咲
DESCRIPTION:2025年11月14日 幡ヶ谷 club HEAVY SICK\nタイトル『幡ヶ谷狂咲』 (くるいざき)\n当日・前売り¥2500＋1D\n18歳以下¥1500＋1D\nOPEN 18:30 START 19:00\n出演\nゆっくり走れ\n衝子にメアリーズ\n千年ポプラ\nTHEこうがんず
URL:https://heavysick.co.jp/cp-bin/wordpress/events/tba-107/
ATTACH;FMTTYPE=image/jpeg:https://heavysick.co.jp/cp-bin/wordpress/wp-content/uploads/2025/08/1114.jpeg
END:VEVENT
BEGIN:VEVENT
DTSTART;VALUE=DATE:20251115
DTEND;VALUE=DATE:20251117
DTSTAMP:20260422T021516
CREATED:20251020T140940Z
LAST-MODIFIED:20251020T141106Z
UID:5668-1763182800-1763269199@heavysick.co.jp
SUMMARY:Don’t Stop The Beat vol.7
DESCRIPTION:Don’t Stop The Beat vol.7 \n2025年11月15日（土）\nOpen17:30　　Start 18:00\nTicket 1\,000 +1drink order \n【DJ】\nSoak\nLuka \n【BAND】\nill Copics industry\nmoyasi\nNumber5\nRAID54\nShaves\nYUMA’s \n【MC】\nUHI \n 
URL:https://heavysick.co.jp/cp-bin/wordpress/events/dont-stop-the-beat-vol-7/
ATTACH;FMTTYPE=image/jpeg:https://heavysick.co.jp/cp-bin/wordpress/wp-content/uploads/2025/10/1115_page-0001.jpg
END:VEVENT
BEGIN:VEVENT
DTSTART;VALUE=DATE:20251116
DTEND;VALUE=DATE:20251118
DTSTAMP:20260422T021516
CREATED:20250824T074952Z
LAST-MODIFIED:20250830T130614Z
UID:5472-1763269200-1763355599@heavysick.co.jp
SUMMARY:ALC Presents 地下からの轟音と眩耀
DESCRIPTION:ALC Presents 地下からの轟音と眩耀\n2025.11.16. sun\n幡ヶ谷 Club HEAVY SICK\n4LC tribute AA=\nRJK tribute to J\nD” tribute to D’ERLANGER\nスカル・フェイス toribute to THEE MICHELLE GUN ELEPHANT\nOPEN 16:00\nSTART 16:30\nADV 1500 yen\nDOOR 1900 yen\ninformation\nhttps://x.com/4LC_AAequal\ncontact 4LeafClover.Rockband@gmail.com
URL:https://heavysick.co.jp/cp-bin/wordpress/events/tba-109/
ATTACH;FMTTYPE=image/jpeg:https://heavysick.co.jp/cp-bin/wordpress/wp-content/uploads/2025/08/1116.jpg
END:VEVENT
BEGIN:VEVENT
DTSTART;VALUE=DATE:20251119
DTEND;VALUE=DATE:20251121
DTSTAMP:20260422T021516
CREATED:20251103T131906Z
LAST-MODIFIED:20251103T132013Z
UID:5698-1763528400-1763614799@heavysick.co.jp
SUMMARY:◆MONARACH RECORDS PRESENTS◆ 《IGNORANCE!ep／ryuji RELEASE PARTY》
DESCRIPTION:  \n◆MONARACH RECORDS PRESENTS◆\n《IGNORANCE!ep／ryuji RELEASE PARTY》 \n◆2025.11.19（WED） 20:00-23:00\n◆BAR HEAVY SICK\n◆CHARGE 1000yen＋DRINK \n︎ ◆LIVE ryuji(solo set)\n（The live starts at 21:00） \n◆DJs\n♣︎MAYUE ARAI\n(THE CLOVERS/THE CAT AND HER LOVERS)\n♠︎GINJI KINASHI\n♠︎kante\n♠︎MASAKI ANZAI\n(MONARCH RECORDS/THE CAT AND HER LOVERS/ex.3116)
URL:https://heavysick.co.jp/cp-bin/wordpress/events/%e2%97%86monarach-records-presents%e2%97%86-%e3%80%8aignoranceep%ef%bc%8fryuji-release-party%e3%80%8b/
ATTACH;FMTTYPE=image/jpeg:https://heavysick.co.jp/cp-bin/wordpress/wp-content/uploads/2025/11/1119.jpg
END:VEVENT
BEGIN:VEVENT
DTSTART;VALUE=DATE:20251121
DTEND;VALUE=DATE:20251123
DTSTAMP:20260422T021516
CREATED:20250824T075256Z
LAST-MODIFIED:20251108T091558Z
UID:5474-1763701200-1763787599@heavysick.co.jp
SUMMARY:CRAZY RANDOMS Presents: Night of the Psychos
DESCRIPTION:CRAZY RANDOMS Presents:\nNight of the Psychos\nCLUB HEAVY SICK \n  \n(金）11月21日\nOPEN/START 19:30\nENTRANCE：1 DRINK\n[DJ’s]\nRobinson\nIkb SkatePsychos (D.T.F.S!!! Records)\nKartooze\nIori (Hi-Nomady)\nMary Scream
URL:https://heavysick.co.jp/cp-bin/wordpress/events/tba-110/
ATTACH;FMTTYPE=image/jpeg:https://heavysick.co.jp/cp-bin/wordpress/wp-content/uploads/2025/08/1121.jpg
END:VEVENT
BEGIN:VEVENT
DTSTART;VALUE=DATE:20251122
DTEND;VALUE=DATE:20251124
DTSTAMP:20260422T021516
CREATED:20250824T081407Z
LAST-MODIFIED:20250923T074604Z
UID:5478-1763787600-1763873999@heavysick.co.jp
SUMMARY:SCAM! Vol.11
DESCRIPTION:SCAM! Vol.11\n2025.11.22(SAT)\nHATAGAYA CLUB HEAVY SICK\nOPEN/START 17:30～\nDOOR ONLY/￥2000(with 1DRINK) \nBOLLOCKS FRANKEN\nSLANG BOOGIE\nONE YAH ONE\nBAD TEXANS\n市原サイコス同盟 \nDJ KO‐JI\nDJ HIROKI\nDJ KUBO
URL:https://heavysick.co.jp/cp-bin/wordpress/events/tba-112/
ATTACH;FMTTYPE=image/jpeg:https://heavysick.co.jp/cp-bin/wordpress/wp-content/uploads/2025/08/1122.jpg
END:VEVENT
BEGIN:VEVENT
DTSTART;VALUE=DATE:20251123
DTEND;VALUE=DATE:20251125
DTSTAMP:20260422T021516
CREATED:20250824T082024Z
LAST-MODIFIED:20250920T140557Z
UID:5480-1763874000-1763960399@heavysick.co.jp
SUMMARY:Next Accomplishment for 3 days！！！ with Peter from Cowboy Bob and Trailer Trash in Germany
DESCRIPTION:Next Accomplishment for 3 days！！！\nwith Peter from Cowboy Bob and Trailer Trash in Germany \n11/23(Sun) Hatagaya CLUB HEAVY SICK \nOpen/Start: 17:30\nAdvance: ¥3\,000 with 1 Drink\nDoor: ¥3\,500 with 1 Drink \nLive\nThe Nut Burgers with Peter from Cowboy Bob And Trailer Trash\nCABARETS\n3CHORDS\nグリコ With リスカ\nボス from HIGH TIMES(Acoustic) \nDeeJay\nSHIDARUMBLE
URL:https://heavysick.co.jp/cp-bin/wordpress/events/tba-113/
ATTACH;FMTTYPE=image/jpeg:https://heavysick.co.jp/cp-bin/wordpress/wp-content/uploads/2025/08/1123.jpeg
END:VEVENT
BEGIN:VEVENT
DTSTART;VALUE=DATE:20251124
DTEND;VALUE=DATE:20251126
DTSTAMP:20260422T021516
CREATED:20250824T083424Z
LAST-MODIFIED:20251108T043942Z
UID:5482-1763960400-1764046799@heavysick.co.jp
SUMMARY:ROCKN ROLL GENIUS Vo.Ⅲ
DESCRIPTION:11月24日（月祝） club HEAVY SICK\nROCK’N ROLL GENIUS Vo.Ⅲ \nDick’s Backyard\nGETHAPPY\nKatsumi & The Thursday Nights\nザ・フロンティアーズ\nTelepathic swinger\n高津哲也バンド\nDJ ハラーキー（from 浪速rudie） \n前売り ¥2\,500 +1d 当日 ¥3\,000 +1\nOpen 17:00 Start 17:30
URL:https://heavysick.co.jp/cp-bin/wordpress/events/tba-114/
ATTACH;FMTTYPE=image/jpeg:https://heavysick.co.jp/cp-bin/wordpress/wp-content/uploads/2025/08/1124-1.jpg
END:VEVENT
BEGIN:VEVENT
DTSTART;TZID=Asia/Tokyo:20251124T080000
DTEND;TZID=Asia/Tokyo:20251124T170000
DTSTAMP:20260422T021516
CREATED:20251124T100452Z
LAST-MODIFIED:20251124T100452Z
UID:5755-1763971200-1764003600@heavysick.co.jp
SUMMARY:ROCK'N'ROLL ANIMAL
DESCRIPTION:2026年1月18日（土） \nROCK’N’ROLL ANIMAL \nthe FUTURE\nSISTER PAUL\nThee Blackdoor Blues\nTWINKLOOP \nOPEN 18:00\nSTART 18:30 \nADV ¥2\,600+1drink\nDOOR ¥3\,000+1drink
URL:https://heavysick.co.jp/cp-bin/wordpress/events/rocknroll-animal/
ATTACH;FMTTYPE=image/jpeg:https://heavysick.co.jp/cp-bin/wordpress/wp-content/uploads/2025/11/0118.jpg
END:VEVENT
BEGIN:VEVENT
DTSTART;VALUE=DATE:20251127
DTEND;VALUE=DATE:20251129
DTSTAMP:20260422T021516
CREATED:20250824T083924Z
LAST-MODIFIED:20251121T123821Z
UID:5484-1764219600-1764305999@heavysick.co.jp
SUMMARY:SWINGIN' JIVIN'
DESCRIPTION:2025/11/27(木)\nSwingin’ Jivin’\n@Club Heavy Sick \n〈Guest DJ〉\nSimon(Man Japan Clothing)\n〈DJ〉\nTatarin\nMasaru Honma\nMasami Watanabe\n(the fascinations) \n〈Dance Work Shop〉\nELOVIS SATO \n〈Crew〉\nHiromi \n〈OPEN〉19:00\n〈Door〉1\,000yen + 1Drink
URL:https://heavysick.co.jp/cp-bin/wordpress/events/swingin-jivin-11/
ATTACH;FMTTYPE=image/jpeg:https://heavysick.co.jp/cp-bin/wordpress/wp-content/uploads/2025/08/1127.jpg
END:VEVENT
BEGIN:VEVENT
DTSTART;VALUE=DATE:20251128
DTEND;VALUE=DATE:20251130
DTSTAMP:20260422T021516
CREATED:20251031T105240Z
LAST-MODIFIED:20251031T122153Z
UID:5681-1764306000-1764392399@heavysick.co.jp
SUMMARY:BARGAIN ROCK TOKYO PRESENTS
DESCRIPTION:BARGAIN ROCK TOKYO PRESENTS \nSTOMPIN’ RIFFRAFFS\nBEACH CAT CLUB\nNOT YETIS (USA)\nTHE OKMONIKS (USA) \nDJs\nBABY CAT FACE\nBISCO \nat CLUB HEAVY SICK\n11/28 （金曜）\nOpen 19:00\nStart 19:30\n¥2500 Adv / ¥3000 Door (+1 drink)
URL:https://heavysick.co.jp/cp-bin/wordpress/events/bargain-rock-tokyo-presents/
ATTACH;FMTTYPE=image/jpeg:https://heavysick.co.jp/cp-bin/wordpress/wp-content/uploads/2025/10/1128.jpg
END:VEVENT
BEGIN:VEVENT
DTSTART;VALUE=DATE:20251129
DTEND;VALUE=DATE:20251201
DTSTAMP:20260422T021516
CREATED:20250824T090310Z
LAST-MODIFIED:20251116T055550Z
UID:5488-1764392400-1764478799@heavysick.co.jp
SUMMARY:MARCH OF THE MODS EXTRA EDITION “YOUR GENERATION ! “
DESCRIPTION:MARCH OF THE MODS EXTRA EDITION\n“YOUR GENERATION ! “\nSat. 29th Nov. 2025\nat CLUB HEAVY SICK\nOpen & Start 6pm\nAdv.￥2\,500（＋D charge）\nDoor￥3\,000（＋D charge） \nLIVE\n20000Leagues\nHATEMAN\nThe Clovers \nDJ\nShunki (5-4-3-2-1)\nUchiyama (The Beat Cave)\nREN (BACK BEAT)\nManabu K.Dove
URL:https://heavysick.co.jp/cp-bin/wordpress/events/tba-116/
ATTACH;FMTTYPE=image/jpeg:https://heavysick.co.jp/cp-bin/wordpress/wp-content/uploads/2025/08/1129.jpg
END:VEVENT
BEGIN:VEVENT
DTSTART;VALUE=DATE:20251130
DTEND;VALUE=DATE:20251202
DTSTAMP:20260422T021516
CREATED:20250824T092250Z
LAST-MODIFIED:20251102T115209Z
UID:5490-1764478800-1764565199@heavysick.co.jp
SUMMARY:WE GOTTA POWER vol.4
DESCRIPTION:WE GOTTA POWER vol.4 \n2025.11.30 Sunday\n18:00 OPEN / 22:00 CLOSE\nat CLUB HEAVY SICK\n¥1400+1D \n<DJ>\n•Ranmaru (NIGHT FOX CLUB)\n•森仁 (浅草ぶっちぎり大作戦)\n•meppo (NEON LEADS)\n•Midori (The Revolting)\n•Soyo (JIVERS STOMP)
URL:https://heavysick.co.jp/cp-bin/wordpress/events/tba-117/
ATTACH;FMTTYPE=image/jpeg:https://heavysick.co.jp/cp-bin/wordpress/wp-content/uploads/2025/08/1130.jpg
END:VEVENT
END:VCALENDAR